Workbook
Name день_начала: Настройка!$D$10

Sheet 1
A1: =DATE(Настройка!D5,Настройка!D7,1) -> 45658 | K1: =DATE(YEAR(A1),MONTH(A1)-1,1) -> 45627 | S1: =DATE(YEAR(A1),MONTH(A1)+1,1) -> 45689
K2: =INDEX({"Вс";"Пн";"Вт";"Ср";"Чт";"Пт";"Сб"},1+MOD(день_начала+1-2,7)) -> Пн | L2: =INDEX({"Вс";"Пн";"Вт";"Ср";"Чт";"Пт";"Сб"},1+MOD(день_начала+2-2,7)) -> Вт | M2: =INDEX({"Вс";"Пн";"Вт";"Ср";"Чт";"Пт";"Сб"},1+MOD(день_начала+3-2,7)) -> Ср | N2: =INDEX({"Вс";"Пн";"Вт";"Ср";"Чт";"Пт";"Сб"},1+MOD(день_начала+4-2,7)) -> Чт | O2: =INDEX({"Вс";"Пн";"Вт";"Ср";"Чт";"Пт";"Сб"},1+MOD(день_начала+5-2,7)) -> Пт | P2: =INDEX({"Вс";"Пн";"Вт";"Ср";"Чт";"Пт";"Сб"},1+MOD(день_начала+6-2,7)) -> Сб | Q2: =INDEX({"Вс";"Пн";"Вт";"Ср";"Чт";"Пт";"Сб"},1+MOD(день_начала+7-2,7)) -> Вс | S2: =INDEX({"Вс";"Пн";"Вт";"Ср";"Чт";"Пт";"Сб"},1+MOD(день_начала+1-2,7)) -> Пн | T2: =INDEX({"Вс";"Пн";"Вт";"Ср";"Чт";"Пт";"Сб"},1+MOD(день_начала+2-2,7)) -> Вт | U2: =INDEX({"Вс";"Пн";"Вт";"Ср";"Чт";"Пт";"Сб"},1+MOD(день_начала+3-2,7)) -> Ср | V2: =INDEX({"Вс";"Пн";"Вт";"Ср";"Чт";"Пт";"Сб"},1+MOD(день_начала+4-2,7)) -> Чт | W2: =INDEX({"Вс";"Пн";"Вт";"Ср";"Чт";"Пт";"Сб"},1+MOD(день_начала+5-2,7)) -> Пт | X2: =INDEX({"Вс";"Пн";"Вт";"Ср";"Чт";"Пт";"Сб"},1+MOD(день_начала+6-2,7)) -> Сб | Y2: =INDEX({"Вс";"Пн";"Вт";"Ср";"Чт";"Пт";"Сб"},1+MOD(день_начала+7-2,7)) -> Вс
K3: =IF(MONTH($K$1)<>MONTH($K$1-(WEEKDAY($K$1,1)-(день_начала-1))-IF((WEEKDAY($K$1,1)-(день_начала-1))<=0,7,0)+(ROW(K3)-ROW($K$3))*7+(COLUMN(K3)-COLUMN($K$3)+1)),"",$K$1-(WEEKDAY($K$1,1)-(день_начала-1))-IF((WEEKDAY($K$1,1)-(день_начала-1))<=0,7,0)+(ROW(K3)-ROW($K$3))*7+(COLUMN(K3)-COLUMN($K$3)+1)) | L3: =IF(MONTH($K$1)<>MONTH($K$1-(WEEKDAY($K$1,1)-(день_начала-1))-IF((WEEKDAY($K$1,1)-(день_начала-1))<=0,7,0)+(ROW(L3)-ROW($K$3))*7+(COLUMN(L3)-COLUMN($K$3)+1)),"",$K$1-(WEEKDAY($K$1,1)-(день_начала-1))-IF((WEEKDAY($K$1,1)-(день_начала-1))<=0,7,0)+(ROW(L3)-ROW($K$3))*7+(COLUMN(L3)-COLUMN($K$3)+1)) | M3: =IF(MONTH($K$1)<>MONTH($K$1-(WEEKDAY($K$1,1)-(день_начала-1))-IF((WEEKDAY($K$1,1)-(день_начала-1))<=0,7,0)+(ROW(M3)-ROW($K$3))*7+(COLUMN(M3)-COLUMN($K$3)+1)),"",$K$1-(WEEKDAY($K$1,1)-(день_начала-1))-IF((WEEKDAY($K$1,1)-(день_начала-1))<=0,7,0)+(ROW(M3)-ROW($K$3))*7+(COLUMN(M3)-COLUMN($K$3)+1)) | N3: =IF(MONTH($K$1)<>MONTH($K$1-(WEEKDAY($K$1,1)-(день_начала-1))-IF((WEEKDAY($K$1,1)-(день_начала-1))<=0,7,0)+(ROW(N3)-ROW($K$3))*7+(COLUMN(N3)-COLUMN($K$3)+1)),"",$K$1-(WEEKDAY($K$1,1)-(день_начала-1))-IF((WEEKDAY($K$1,1)-(день_начала-1))<=0,7,0)+(ROW(N3)-ROW($K$3))*7+(COLUMN(N3)-COLUMN($K$3)+1)) | O3: =IF(MONTH($K$1)<>MONTH($K$1-(WEEKDAY($K$1,1)-(день_начала-1))-IF((WEEKDAY($K$1,1)-(день_начала-1))<=0,7,0)+(ROW(O3)-ROW($K$3))*7+(COLUMN(O3)-COLUMN($K$3)+1)),"",$K$1-(WEEKDAY($K$1,1)-(день_начала-1))-IF((WEEKDAY($K$1,1)-(день_начала-1))<=0,7,0)+(ROW(O3)-ROW($K$3))*7+(COLUMN(O3)-COLUMN($K$3)+1)) | P3: =IF(MONTH($K$1)<>MONTH($K$1-(WEEKDAY($K$1,1)-(день_начала-1))-IF((WEEKDAY($K$1,1)-(день_начала-1))<=0,7,0)+(ROW(P3)-ROW($K$3))*7+(COLUMN(P3)-COLUMN($K$3)+1)),"",$K$1-(WEEKDAY($K$1,1)-(день_начала-1))-IF((WEEKDAY($K$1,1)-(день_начала-1))<=0,7,0)+(ROW(P3)-ROW($K$3))*7+(COLUMN(P3)-COLUMN($K$3)+1)) | Q3: =IF(MONTH($K$1)<>MONTH($K$1-(WEEKDAY($K$1,1)-(день_начала-1))-IF((WEEKDAY($K$1,1)-(день_начала-1))<=0,7,0)+(ROW(Q3)-ROW($K$3))*7+(COLUMN(Q3)-COLUMN($K$3)+1)),"",$K$1-(WEEKDAY($K$1,1)-(день_начала-1))-IF((WEEKDAY($K$1,1)-(день_начала-1))<=0,7,0)+(ROW(Q3)-ROW($K$3))*7+(COLUMN(Q3)-COLUMN($K$3)+1)) -> 45627 | S3: =IF(MONTH($S$1)<>MONTH($S$1-(WEEKDAY($S$1,1)-(день_начала-1))-IF((WEEKDAY($S$1,1)-(день_начала-1))<=0,7,0)+(ROW(S3)-ROW($S$3))*7+(COLUMN(S3)-COLUMN($S$3)+1)),"",$S$1-(WEEKDAY($S$1,1)-(день_начала-1))-IF((WEEKDAY($S$1,1)-(день_начала-1))<=0,7,0)+(ROW(S3)-ROW($S$3))*7+(COLUMN(S3)-COLUMN($S$3)+1)) | T3: =IF(MONTH($S$1)<>MONTH($S$1-(WEEKDAY($S$1,1)-(день_начала-1))-IF((WEEKDAY($S$1,1)-(день_начала-1))<=0,7,0)+(ROW(T3)-ROW($S$3))*7+(COLUMN(T3)-COLUMN($S$3)+1)),"",$S$1-(WEEKDAY($S$1,1)-(день_начала-1))-IF((WEEKDAY($S$1,1)-(день_начала-1))<=0,7,0)+(ROW(T3)-ROW($S$3))*7+(COLUMN(T3)-COLUMN($S$3)+1)) | U3: =IF(MONTH($S$1)<>MONTH($S$1-(WEEKDAY($S$1,1)-(день_начала-1))-IF((WEEKDAY($S$1,1)-(день_начала-1))<=0,7,0)+(ROW(U3)-ROW($S$3))*7+(COLUMN(U3)-COLUMN($S$3)+1)),"",$S$1-(WEEKDAY($S$1,1)-(день_начала-1))-IF((WEEKDAY($S$1,1)-(день_начала-1))<=0,7,0)+(ROW(U3)-ROW($S$3))*7+(COLUMN(U3)-COLUMN($S$3)+1)) | V3: =IF(MONTH($S$1)<>MONTH($S$1-(WEEKDAY($S$1,1)-(день_начала-1))-IF((WEEKDAY($S$1,1)-(день_начала-1))<=0,7,0)+(ROW(V3)-ROW($S$3))*7+(COLUMN(V3)-COLUMN($S$3)+1)),"",$S$1-(WEEKDAY($S$1,1)-(день_начала-1))-IF((WEEKDAY($S$1,1)-(день_начала-1))<=0,7,0)+(ROW(V3)-ROW($S$3))*7+(COLUMN(V3)-COLUMN($S$3)+1)) | W3: =IF(MONTH($S$1)<>MONTH($S$1-(WEEKDAY($S$1,1)-(день_начала-1))-IF((WEEKDAY($S$1,1)-(день_начала-1))<=0,7,0)+(ROW(W3)-ROW($S$3))*7+(COLUMN(W3)-COLUMN($S$3)+1)),"",$S$1-(WEEKDAY($S$1,1)-(день_начала-1))-IF((WEEKDAY($S$1,1)-(день_начала-1))<=0,7,0)+(ROW(W3)-ROW($S$3))*7+(COLUMN(W3)-COLUMN($S$3)+1)) | X3: =IF(MONTH($S$1)<>MONTH($S$1-(WEEKDAY($S$1,1)-(день_начала-1))-IF((WEEKDAY($S$1,1)-(день_начала-1))<=0,7,0)+(ROW(X3)-ROW($S$3))*7+(COLUMN(X3)-COLUMN($S$3)+1)),"",$S$1-(WEEKDAY($S$1,1)-(день_начала-1))-IF((WEEKDAY($S$1,1)-(день_начала-1))<=0,7,0)+(ROW(X3)-ROW($S$3))*7+(COLUMN(X3)-COLUMN($S$3)+1)) -> 45689 | Y3: =IF(MONTH($S$1)<>MONTH($S$1-(WEEKDAY($S$1,1)-(день_начала-1))-IF((WEEKDAY($S$1,1)-(день_начала-1))<=0,7,0)+(ROW(Y3)-ROW($S$3))*7+(COLUMN(Y3)-COLUMN($S$3)+1)),"",$S$1-(WEEKDAY($S$1,1)-(день_начала-1))-IF((WEEKDAY($S$1,1)-(день_начала-1))<=0,7,0)+(ROW(Y3)-ROW($S$3))*7+(COLUMN(Y3)-COLUMN($S$3)+1)) -> 45690
K4: =IF(MONTH($K$1)<>MONTH($K$1-(WEEKDAY($K$1,1)-(день_начала-1))-IF((WEEKDAY($K$1,1)-(день_начала-1))<=0,7,0)+(ROW(K4)-ROW($K$3))*7+(COLUMN(K4)-COLUMN($K$3)+1)),"",$K$1-(WEEKDAY($K$1,1)-(день_начала-1))-IF((WEEKDAY($K$1,1)-(день_начала-1))<=0,7,0)+(ROW(K4)-ROW($K$3))*7+(COLUMN(K4)-COLUMN($K$3)+1)) -> 45628 | L4: =IF(MONTH($K$1)<>MONTH($K$1-(WEEKDAY($K$1,1)-(день_начала-1))-IF((WEEKDAY($K$1,1)-(день_начала-1))<=0,7,0)+(ROW(L4)-ROW($K$3))*7+(COLUMN(L4)-COLUMN($K$3)+1)),"",$K$1-(WEEKDAY($K$1,1)-(день_начала-1))-IF((WEEKDAY($K$1,1)-(день_начала-1))<=0,7,0)+(ROW(L4)-ROW($K$3))*7+(COLUMN(L4)-COLUMN($K$3)+1)) -> 45629 | M4: =IF(MONTH($K$1)<>MONTH($K$1-(WEEKDAY($K$1,1)-(день_начала-1))-IF((WEEKDAY($K$1,1)-(день_начала-1))<=0,7,0)+(ROW(M4)-ROW($K$3))*7+(COLUMN(M4)-COLUMN($K$3)+1)),"",$K$1-(WEEKDAY($K$1,1)-(день_начала-1))-IF((WEEKDAY($K$1,1)-(день_начала-1))<=0,7,0)+(ROW(M4)-ROW($K$3))*7+(COLUMN(M4)-COLUMN($K$3)+1)) -> 45630 | N4: =IF(MONTH($K$1)<>MONTH($K$1-(WEEKDAY($K$1,1)-(день_начала-1))-IF((WEEKDAY($K$1,1)-(день_начала-1))<=0,7,0)+(ROW(N4)-ROW($K$3))*7+(COLUMN(N4)-COLUMN($K$3)+1)),"",$K$1-(WEEKDAY($K$1,1)-(день_начала-1))-IF((WEEKDAY($K$1,1)-(день_начала-1))<=0,7,0)+(ROW(N4)-ROW($K$3))*7+(COLUMN(N4)-COLUMN($K$3)+1)) -> 45631 | O4: =IF(MONTH($K$1)<>MONTH($K$1-(WEEKDAY($K$1,1)-(день_начала-1))-IF((WEEKDAY($K$1,1)-(день_начала-1))<=0,7,0)+(ROW(O4)-ROW($K$3))*7+(COLUMN(O4)-COLUMN($K$3)+1)),"",$K$1-(WEEKDAY($K$1,1)-(день_начала-1))-IF((WEEKDAY($K$1,1)-(день_начала-1))<=0,7,0)+(ROW(O4)-ROW($K$3))*7+(COLUMN(O4)-COLUMN($K$3)+1)) -> 45632 | P4: =IF(MONTH($K$1)<>MONTH($K$1-(WEEKDAY($K$1,1)-(день_начала-1))-IF((WEEKDAY($K$1,1)-(день_начала-1))<=0,7,0)+(ROW(P4)-ROW($K$3))*7+(COLUMN(P4)-COLUMN($K$3)+1)),"",$K$1-(WEEKDAY($K$1,1)-(день_начала-1))-IF((WEEKDAY($K$1,1)-(день_начала-1))<=0,7,0)+(ROW(P4)-ROW($K$3))*7+(COLUMN(P4)-COLUMN($K$3)+1)) -> 45633 | Q4: =IF(MONTH($K$1)<>MONTH($K$1-(WEEKDAY($K$1,1)-(день_начала-1))-IF((WEEKDAY($K$1,1)-(день_начала-1))<=0,7,0)+(ROW(Q4)-ROW($K$3))*7+(COLUMN(Q4)-COLUMN($K$3)+1)),"",$K$1-(WEEKDAY($K$1,1)-(день_начала-1))-IF((WEEKDAY($K$1,1)-(день_начала-1))<=0,7,0)+(ROW(Q4)-ROW($K$3))*7+(COLUMN(Q4)-COLUMN($K$3)+1)) -> 45634 | S4: =IF(MONTH($S$1)<>MONTH($S$1-(WEEKDAY($S$1,1)-(день_начала-1))-IF((WEEKDAY($S$1,1)-(день_начала-1))<=0,7,0)+(ROW(S4)-ROW($S$3))*7+(COLUMN(S4)-COLUMN($S$3)+1)),"",$S$1-(WEEKDAY($S$1,1)-(день_начала-1))-IF((WEEKDAY($S$1,1)-(день_начала-1))<=0,7,0)+(ROW(S4)-ROW($S$3))*7+(COLUMN(S4)-COLUMN($S$3)+1)) -> 45691 | T4: =IF(MONTH($S$1)<>MONTH($S$1-(WEEKDAY($S$1,1)-(день_начала-1))-IF((WEEKDAY($S$1,1)-(день_начала-1))<=0,7,0)+(ROW(T4)-ROW($S$3))*7+(COLUMN(T4)-COLUMN($S$3)+1)),"",$S$1-(WEEKDAY($S$1,1)-(день_начала-1))-IF((WEEKDAY($S$1,1)-(день_начала-1))<=0,7,0)+(ROW(T4)-ROW($S$3))*7+(COLUMN(T4)-COLUMN($S$3)+1)) -> 45692 | U4: =IF(MONTH($S$1)<>MONTH($S$1-(WEEKDAY($S$1,1)-(день_начала-1))-IF((WEEKDAY($S$1,1)-(день_начала-1))<=0,7,0)+(ROW(U4)-ROW($S$3))*7+(COLUMN(U4)-COLUMN($S$3)+1)),"",$S$1-(WEEKDAY($S$1,1)-(день_начала-1))-IF((WEEKDAY($S$1,1)-(день_начала-1))<=0,7,0)+(ROW(U4)-ROW($S$3))*7+(COLUMN(U4)-COLUMN($S$3)+1)) -> 45693 | V4: =IF(MONTH($S$1)<>MONTH($S$1-(WEEKDAY($S$1,1)-(день_начала-1))-IF((WEEKDAY($S$1,1)-(день_начала-1))<=0,7,0)+(ROW(V4)-ROW($S$3))*7+(COLUMN(V4)-COLUMN($S$3)+1)),"",$S$1-(WEEKDAY($S$1,1)-(день_начала-1))-IF((WEEKDAY($S$1,1)-(день_начала-1))<=0,7,0)+(ROW(V4)-ROW($S$3))*7+(COLUMN(V4)-COLUMN($S$3)+1)) -> 45694 | W4: =IF(MONTH($S$1)<>MONTH($S$1-(WEEKDAY($S$1,1)-(день_начала-1))-IF((WEEKDAY($S$1,1)-(день_начала-1))<=0,7,0)+(ROW(W4)-ROW($S$3))*7+(COLUMN(W4)-COLUMN($S$3)+1)),"",$S$1-(WEEKDAY($S$1,1)-(день_начала-1))-IF((WEEKDAY($S$1,1)-(день_начала-1))<=0,7,0)+(ROW(W4)-ROW($S$3))*7+(COLUMN(W4)-COLUMN($S$3)+1)) -> 45695 | X4: =IF(MONTH($S$1)<>MONTH($S$1-(WEEKDAY($S$1,1)-(день_начала-1))-IF((WEEKDAY($S$1,1)-(день_начала-1))<=0,7,0)+(ROW(X4)-ROW($S$3))*7+(COLUMN(X4)-COLUMN($S$3)+1)),"",$S$1-(WEEKDAY($S$1,1)-(день_начала-1))-IF((WEEKDAY($S$1,1)-(день_начала-1))<=0,7,0)+(ROW(X4)-ROW($S$3))*7+(COLUMN(X4)-COLUMN($S$3)+1)) -> 45696 | Y4: =IF(MONTH($S$1)<>MONTH($S$1-(WEEKDAY($S$1,1)-(день_начала-1))-IF((WEEKDAY($S$1,1)-(день_начала-1))<=0,7,0)+(ROW(Y4)-ROW($S$3))*7+(COLUMN(Y4)-COLUMN($S$3)+1)),"",$S$1-(WEEKDAY($S$1,1)-(день_начала-1))-IF((WEEKDAY($S$1,1)-(день_начала-1))<=0,7,0)+(ROW(Y4)-ROW($S$3))*7+(COLUMN(Y4)-COLUMN($S$3)+1)) -> 45697
K5: =IF(MONTH($K$1)<>MONTH($K$1-(WEEKDAY($K$1,1)-(день_начала-1))-IF((WEEKDAY($K$1,1)-(день_начала-1))<=0,7,0)+(ROW(K5)-ROW($K$3))*7+(COLUMN(K5)-COLUMN($K$3)+1)),"",$K$1-(WEEKDAY($K$1,1)-(день_начала-1))-IF((WEEKDAY($K$1,1)-(день_начала-1))<=0,7,0)+(ROW(K5)-ROW($K$3))*7+(COLUMN(K5)-COLUMN($K$3)+1)) -> 45635 | L5: =IF(MONTH($K$1)<>MONTH($K$1-(WEEKDAY($K$1,1)-(день_начала-1))-IF((WEEKDAY($K$1,1)-(день_начала-1))<=0,7,0)+(ROW(L5)-ROW($K$3))*7+(COLUMN(L5)-COLUMN($K$3)+1)),"",$K$1-(WEEKDAY($K$1,1)-(день_начала-1))-IF((WEEKDAY($K$1,1)-(день_начала-1))<=0,7,0)+(ROW(L5)-ROW($K$3))*7+(COLUMN(L5)-COLUMN($K$3)+1)) -> 45636 | M5: =IF(MONTH($K$1)<>MONTH($K$1-(WEEKDAY($K$1,1)-(день_начала-1))-IF((WEEKDAY($K$1,1)-(день_начала-1))<=0,7,0)+(ROW(M5)-ROW($K$3))*7+(COLUMN(M5)-COLUMN($K$3)+1)),"",$K$1-(WEEKDAY($K$1,1)-(день_начала-1))-IF((WEEKDAY($K$1,1)-(день_начала-1))<=0,7,0)+(ROW(M5)-ROW($K$3))*7+(COLUMN(M5)-COLUMN($K$3)+1)) -> 45637 | N5: =IF(MONTH($K$1)<>MONTH($K$1-(WEEKDAY($K$1,1)-(день_начала-1))-IF((WEEKDAY($K$1,1)-(день_начала-1))<=0,7,0)+(ROW(N5)-ROW($K$3))*7+(COLUMN(N5)-COLUMN($K$3)+1)),"",$K$1-(WEEKDAY($K$1,1)-(день_начала-1))-IF((WEEKDAY($K$1,1)-(день_начала-1))<=0,7,0)+(ROW(N5)-ROW($K$3))*7+(COLUMN(N5)-COLUMN($K$3)+1)) -> 45638 | O5: =IF(MONTH($K$1)<>MONTH($K$1-(WEEKDAY($K$1,1)-(день_начала-1))-IF((WEEKDAY($K$1,1)-(день_начала-1))<=0,7,0)+(ROW(O5)-ROW($K$3))*7+(COLUMN(O5)-COLUMN($K$3)+1)),"",$K$1-(WEEKDAY($K$1,1)-(день_начала-1))-IF((WEEKDAY($K$1,1)-(день_начала-1))<=0,7,0)+(ROW(O5)-ROW($K$3))*7+(COLUMN(O5)-COLUMN($K$3)+1)) -> 45639 | P5: =IF(MONTH($K$1)<>MONTH($K$1-(WEEKDAY($K$1,1)-(день_начала-1))-IF((WEEKDAY($K$1,1)-(день_начала-1))<=0,7,0)+(ROW(P5)-ROW($K$3))*7+(COLUMN(P5)-COLUMN($K$3)+1)),"",$K$1-(WEEKDAY($K$1,1)-(день_начала-1))-IF((WEEKDAY($K$1,1)-(день_начала-1))<=0,7,0)+(ROW(P5)-ROW($K$3))*7+(COLUMN(P5)-COLUMN($K$3)+1)) -> 45640 | Q5: =IF(MONTH($K$1)<>MONTH($K$1-(WEEKDAY($K$1,1)-(день_начала-1))-IF((WEEKDAY($K$1,1)-(день_начала-1))<=0,7,0)+(ROW(Q5)-ROW($K$3))*7+(COLUMN(Q5)-COLUMN($K$3)+1)),"",$K$1-(WEEKDAY($K$1,1)-(день_начала-1))-IF((WEEKDAY($K$1,1)-(день_начала-1))<=0,7,0)+(ROW(Q5)-ROW($K$3))*7+(COLUMN(Q5)-COLUMN($K$3)+1)) -> 45641 | S5: =IF(MONTH($S$1)<>MONTH($S$1-(WEEKDAY($S$1,1)-(день_начала-1))-IF((WEEKDAY($S$1,1)-(день_начала-1))<=0,7,0)+(ROW(S5)-ROW($S$3))*7+(COLUMN(S5)-COLUMN($S$3)+1)),"",$S$1-(WEEKDAY($S$1,1)-(день_начала-1))-IF((WEEKDAY($S$1,1)-(день_начала-1))<=0,7,0)+(ROW(S5)-ROW($S$3))*7+(COLUMN(S5)-COLUMN($S$3)+1)) -> 45698 | T5: =IF(MONTH($S$1)<>MONTH($S$1-(WEEKDAY($S$1,1)-(день_начала-1))-IF((WEEKDAY($S$1,1)-(день_начала-1))<=0,7,0)+(ROW(T5)-ROW($S$3))*7+(COLUMN(T5)-COLUMN($S$3)+1)),"",$S$1-(WEEKDAY($S$1,1)-(день_начала-1))-IF((WEEKDAY($S$1,1)-(день_начала-1))<=0,7,0)+(ROW(T5)-ROW($S$3))*7+(COLUMN(T5)-COLUMN($S$3)+1)) -> 45699 | U5: =IF(MONTH($S$1)<>MONTH($S$1-(WEEKDAY($S$1,1)-(день_начала-1))-IF((WEEKDAY($S$1,1)-(день_начала-1))<=0,7,0)+(ROW(U5)-ROW($S$3))*7+(COLUMN(U5)-COLUMN($S$3)+1)),"",$S$1-(WEEKDAY($S$1,1)-(день_начала-1))-IF((WEEKDAY($S$1,1)-(день_начала-1))<=0,7,0)+(ROW(U5)-ROW($S$3))*7+(COLUMN(U5)-COLUMN($S$3)+1)) -> 45700 | V5: =IF(MONTH($S$1)<>MONTH($S$1-(WEEKDAY($S$1,1)-(день_начала-1))-IF((WEEKDAY($S$1,1)-(день_начала-1))<=0,7,0)+(ROW(V5)-ROW($S$3))*7+(COLUMN(V5)-COLUMN($S$3)+1)),"",$S$1-(WEEKDAY($S$1,1)-(день_начала-1))-IF((WEEKDAY($S$1,1)-(день_начала-1))<=0,7,0)+(ROW(V5)-ROW($S$3))*7+(COLUMN(V5)-COLUMN($S$3)+1)) -> 45701 | W5: =IF(MONTH($S$1)<>MONTH($S$1-(WEEKDAY($S$1,1)-(день_начала-1))-IF((WEEKDAY($S$1,1)-(день_начала-1))<=0,7,0)+(ROW(W5)-ROW($S$3))*7+(COLUMN(W5)-COLUMN($S$3)+1)),"",$S$1-(WEEKDAY($S$1,1)-(день_начала-1))-IF((WEEKDAY($S$1,1)-(день_начала-1))<=0,7,0)+(ROW(W5)-ROW($S$3))*7+(COLUMN(W5)-COLUMN($S$3)+1)) -> 45702 | X5: =IF(MONTH($S$1)<>MONTH($S$1-(WEEKDAY($S$1,1)-(день_начала-1))-IF((WEEKDAY($S$1,1)-(день_начала-1))<=0,7,0)+(ROW(X5)-ROW($S$3))*7+(COLUMN(X5)-COLUMN($S$3)+1)),"",$S$1-(WEEKDAY($S$1,1)-(день_начала-1))-IF((WEEKDAY($S$1,1)-(день_начала-1))<=0,7,0)+(ROW(X5)-ROW($S$3))*7+(COLUMN(X5)-COLUMN($S$3)+1)) -> 45703 | Y5: =IF(MONTH($S$1)<>MONTH($S$1-(WEEKDAY($S$1,1)-(день_начала-1))-IF((WEEKDAY($S$1,1)-(день_начала-1))<=0,7,0)+(ROW(Y5)-ROW($S$3))*7+(COLUMN(Y5)-COLUMN($S$3)+1)),"",$S$1-(WEEKDAY($S$1,1)-(день_начала-1))-IF((WEEKDAY($S$1,1)-(день_начала-1))<=0,7,0)+(ROW(Y5)-ROW($S$3))*7+(COLUMN(Y5)-COLUMN($S$3)+1)) -> 45704
K6: =IF(MONTH($K$1)<>MONTH($K$1-(WEEKDAY($K$1,1)-(день_начала-1))-IF((WEEKDAY($K$1,1)-(день_начала-1))<=0,7,0)+(ROW(K6)-ROW($K$3))*7+(COLUMN(K6)-COLUMN($K$3)+1)),"",$K$1-(WEEKDAY($K$1,1)-(день_начала-1))-IF((WEEKDAY($K$1,1)-(день_начала-1))<=0,7,0)+(ROW(K6)-ROW($K$3))*7+(COLUMN(K6)-COLUMN($K$3)+1)) -> 45642 | L6: =IF(MONTH($K$1)<>MONTH($K$1-(WEEKDAY($K$1,1)-(день_начала-1))-IF((WEEKDAY($K$1,1)-(день_начала-1))<=0,7,0)+(ROW(L6)-ROW($K$3))*7+(COLUMN(L6)-COLUMN($K$3)+1)),"",$K$1-(WEEKDAY($K$1,1)-(день_начала-1))-IF((WEEKDAY($K$1,1)-(день_начала-1))<=0,7,0)+(ROW(L6)-ROW($K$3))*7+(COLUMN(L6)-COLUMN($K$3)+1)) -> 45643 | M6: =IF(MONTH($K$1)<>MONTH($K$1-(WEEKDAY($K$1,1)-(день_начала-1))-IF((WEEKDAY($K$1,1)-(день_начала-1))<=0,7,0)+(ROW(M6)-ROW($K$3))*7+(COLUMN(M6)-COLUMN($K$3)+1)),"",$K$1-(WEEKDAY($K$1,1)-(день_начала-1))-IF((WEEKDAY($K$1,1)-(день_начала-1))<=0,7,0)+(ROW(M6)-ROW($K$3))*7+(COLUMN(M6)-COLUMN($K$3)+1)) -> 45644 | N6: =IF(MONTH($K$1)<>MONTH($K$1-(WEEKDAY($K$1,1)-(день_начала-1))-IF((WEEKDAY($K$1,1)-(день_начала-1))<=0,7,0)+(ROW(N6)-ROW($K$3))*7+(COLUMN(N6)-COLUMN($K$3)+1)),"",$K$1-(WEEKDAY($K$1,1)-(день_начала-1))-IF((WEEKDAY($K$1,1)-(день_начала-1))<=0,7,0)+(ROW(N6)-ROW($K$3))*7+(COLUMN(N6)-COLUMN($K$3)+1)) -> 45645 | O6: =IF(MONTH($K$1)<>MONTH($K$1-(WEEKDAY($K$1,1)-(день_начала-1))-IF((WEEKDAY($K$1,1)-(день_начала-1))<=0,7,0)+(ROW(O6)-ROW($K$3))*7+(COLUMN(O6)-COLUMN($K$3)+1)),"",$K$1-(WEEKDAY($K$1,1)-(день_начала-1))-IF((WEEKDAY($K$1,1)-(день_начала-1))<=0,7,0)+(ROW(O6)-ROW($K$3))*7+(COLUMN(O6)-COLUMN($K$3)+1)) -> 45646 | P6: =IF(MONTH($K$1)<>MONTH($K$1-(WEEKDAY($K$1,1)-(день_начала-1))-IF((WEEKDAY($K$1,1)-(день_начала-1))<=0,7,0)+(ROW(P6)-ROW($K$3))*7+(COLUMN(P6)-COLUMN($K$3)+1)),"",$K$1-(WEEKDAY($K$1,1)-(день_начала-1))-IF((WEEKDAY($K$1,1)-(день_начала-1))<=0,7,0)+(ROW(P6)-ROW($K$3))*7+(COLUMN(P6)-COLUMN($K$3)+1)) -> 45647 | Q6: =IF(MONTH($K$1)<>MONTH($K$1-(WEEKDAY($K$1,1)-(день_начала-1))-IF((WEEKDAY($K$1,1)-(день_начала-1))<=0,7,0)+(ROW(Q6)-ROW($K$3))*7+(COLUMN(Q6)-COLUMN($K$3)+1)),"",$K$1-(WEEKDAY($K$1,1)-(день_начала-1))-IF((WEEKDAY($K$1,1)-(день_начала-1))<=0,7,0)+(ROW(Q6)-ROW($K$3))*7+(COLUMN(Q6)-COLUMN($K$3)+1)) -> 45648 | S6: =IF(MONTH($S$1)<>MONTH($S$1-(WEEKDAY($S$1,1)-(день_начала-1))-IF((WEEKDAY($S$1,1)-(день_начала-1))<=0,7,0)+(ROW(S6)-ROW($S$3))*7+(COLUMN(S6)-COLUMN($S$3)+1)),"",$S$1-(WEEKDAY($S$1,1)-(день_начала-1))-IF((WEEKDAY($S$1,1)-(день_начала-1))<=0,7,0)+(ROW(S6)-ROW($S$3))*7+(COLUMN(S6)-COLUMN($S$3)+1)) -> 45705 | T6: =IF(MONTH($S$1)<>MONTH($S$1-(WEEKDAY($S$1,1)-(день_начала-1))-IF((WEEKDAY($S$1,1)-(день_начала-1))<=0,7,0)+(ROW(T6)-ROW($S$3))*7+(COLUMN(T6)-COLUMN($S$3)+1)),"",$S$1-(WEEKDAY($S$1,1)-(день_начала-1))-IF((WEEKDAY($S$1,1)-(день_начала-1))<=0,7,0)+(ROW(T6)-ROW($S$3))*7+(COLUMN(T6)-COLUMN($S$3)+1)) -> 45706 | U6: =IF(MONTH($S$1)<>MONTH($S$1-(WEEKDAY($S$1,1)-(день_начала-1))-IF((WEEKDAY($S$1,1)-(день_начала-1))<=0,7,0)+(ROW(U6)-ROW($S$3))*7+(COLUMN(U6)-COLUMN($S$3)+1)),"",$S$1-(WEEKDAY($S$1,1)-(день_начала-1))-IF((WEEKDAY($S$1,1)-(день_начала-1))<=0,7,0)+(ROW(U6)-ROW($S$3))*7+(COLUMN(U6)-COLUMN($S$3)+1)) -> 45707 | V6: =IF(MONTH($S$1)<>MONTH($S$1-(WEEKDAY($S$1,1)-(день_начала-1))-IF((WEEKDAY($S$1,1)-(день_начала-1))<=0,7,0)+(ROW(V6)-ROW($S$3))*7+(COLUMN(V6)-COLUMN($S$3)+1)),"",$S$1-(WEEKDAY($S$1,1)-(день_начала-1))-IF((WEEKDAY($S$1,1)-(день_начала-1))<=0,7,0)+(ROW(V6)-ROW($S$3))*7+(COLUMN(V6)-COLUMN($S$3)+1)) -> 45708 | W6: =IF(MONTH($S$1)<>MONTH($S$1-(WEEKDAY($S$1,1)-(день_начала-1))-IF((WEEKDAY($S$1,1)-(день_начала-1))<=0,7,0)+(ROW(W6)-ROW($S$3))*7+(COLUMN(W6)-COLUMN($S$3)+1)),"",$S$1-(WEEKDAY($S$1,1)-(день_начала-1))-IF((WEEKDAY($S$1,1)-(день_начала-1))<=0,7,0)+(ROW(W6)-ROW($S$3))*7+(COLUMN(W6)-COLUMN($S$3)+1)) -> 45709 | X6: =IF(MONTH($S$1)<>MONTH($S$1-(WEEKDAY($S$1,1)-(день_начала-1))-IF((WEEKDAY($S$1,1)-(день_начала-1))<=0,7,0)+(ROW(X6)-ROW($S$3))*7+(COLUMN(X6)-COLUMN($S$3)+1)),"",$S$1-(WEEKDAY($S$1,1)-(день_начала-1))-IF((WEEKDAY($S$1,1)-(день_начала-1))<=0,7,0)+(ROW(X6)-ROW($S$3))*7+(COLUMN(X6)-COLUMN($S$3)+1)) -> 45710 | Y6: =IF(MONTH($S$1)<>MONTH($S$1-(WEEKDAY($S$1,1)-(день_начала-1))-IF((WEEKDAY($S$1,1)-(день_начала-1))<=0,7,0)+(ROW(Y6)-ROW($S$3))*7+(COLUMN(Y6)-COLUMN($S$3)+1)),"",$S$1-(WEEKDAY($S$1,1)-(день_начала-1))-IF((WEEKDAY($S$1,1)-(день_начала-1))<=0,7,0)+(ROW(Y6)-ROW($S$3))*7+(COLUMN(Y6)-COLUMN($S$3)+1)) -> 45711
K7: =IF(MONTH($K$1)<>MONTH($K$1-(WEEKDAY($K$1,1)-(день_начала-1))-IF((WEEKDAY($K$1,1)-(день_начала-1))<=0,7,0)+(ROW(K7)-ROW($K$3))*7+(COLUMN(K7)-COLUMN($K$3)+1)),"",$K$1-(WEEKDAY($K$1,1)-(день_начала-1))-IF((WEEKDAY($K$1,1)-(день_начала-1))<=0,7,0)+(ROW(K7)-ROW($K$3))*7+(COLUMN(K7)-COLUMN($K$3)+1)) -> 45649 | L7: =IF(MONTH($K$1)<>MONTH($K$1-(WEEKDAY($K$1,1)-(день_начала-1))-IF((WEEKDAY($K$1,1)-(день_начала-1))<=0,7,0)+(ROW(L7)-ROW($K$3))*7+(COLUMN(L7)-COLUMN($K$3)+1)),"",$K$1-(WEEKDAY($K$1,1)-(день_начала-1))-IF((WEEKDAY($K$1,1)-(день_начала-1))<=0,7,0)+(ROW(L7)-ROW($K$3))*7+(COLUMN(L7)-COLUMN($K$3)+1)) -> 45650 | M7: =IF(MONTH($K$1)<>MONTH($K$1-(WEEKDAY($K$1,1)-(день_начала-1))-IF((WEEKDAY($K$1,1)-(день_начала-1))<=0,7,0)+(ROW(M7)-ROW($K$3))*7+(COLUMN(M7)-COLUMN($K$3)+1)),"",$K$1-(WEEKDAY($K$1,1)-(день_начала-1))-IF((WEEKDAY($K$1,1)-(день_начала-1))<=0,7,0)+(ROW(M7)-ROW($K$3))*7+(COLUMN(M7)-COLUMN($K$3)+1)) -> 45651 | N7: =IF(MONTH($K$1)<>MONTH($K$1-(WEEKDAY($K$1,1)-(день_начала-1))-IF((WEEKDAY($K$1,1)-(день_начала-1))<=0,7,0)+(ROW(N7)-ROW($K$3))*7+(COLUMN(N7)-COLUMN($K$3)+1)),"",$K$1-(WEEKDAY($K$1,1)-(день_начала-1))-IF((WEEKDAY($K$1,1)-(день_начала-1))<=0,7,0)+(ROW(N7)-ROW($K$3))*7+(COLUMN(N7)-COLUMN($K$3)+1)) -> 45652 | O7: =IF(MONTH($K$1)<>MONTH($K$1-(WEEKDAY($K$1,1)-(день_начала-1))-IF((WEEKDAY($K$1,1)-(день_начала-1))<=0,7,0)+(ROW(O7)-ROW($K$3))*7+(COLUMN(O7)-COLUMN($K$3)+1)),"",$K$1-(WEEKDAY($K$1,1)-(день_начала-1))-IF((WEEKDAY($K$1,1)-(день_начала-1))<=0,7,0)+(ROW(O7)-ROW($K$3))*7+(COLUMN(O7)-COLUMN($K$3)+1)) -> 45653 | P7: =IF(MONTH($K$1)<>MONTH($K$1-(WEEKDAY($K$1,1)-(день_начала-1))-IF((WEEKDAY($K$1,1)-(день_начала-1))<=0,7,0)+(ROW(P7)-ROW($K$3))*7+(COLUMN(P7)-COLUMN($K$3)+1)),"",$K$1-(WEEKDAY($K$1,1)-(день_начала-1))-IF((WEEKDAY($K$1,1)-(день_начала-1))<=0,7,0)+(ROW(P7)-ROW($K$3))*7+(COLUMN(P7)-COLUMN($K$3)+1)) -> 45654 | Q7: =IF(MONTH($K$1)<>MONTH($K$1-(WEEKDAY($K$1,1)-(день_начала-1))-IF((WEEKDAY($K$1,1)-(день_начала-1))<=0,7,0)+(ROW(Q7)-ROW($K$3))*7+(COLUMN(Q7)-COLUMN($K$3)+1)),"",$K$1-(WEEKDAY($K$1,1)-(день_начала-1))-IF((WEEKDAY($K$1,1)-(день_начала-1))<=0,7,0)+(ROW(Q7)-ROW($K$3))*7+(COLUMN(Q7)-COLUMN($K$3)+1)) -> 45655 | S7: =IF(MONTH($S$1)<>MONTH($S$1-(WEEKDAY($S$1,1)-(день_начала-1))-IF((WEEKDAY($S$1,1)-(день_начала-1))<=0,7,0)+(ROW(S7)-ROW($S$3))*7+(COLUMN(S7)-COLUMN($S$3)+1)),"",$S$1-(WEEKDAY($S$1,1)-(день_начала-1))-IF((WEEKDAY($S$1,1)-(день_начала-1))<=0,7,0)+(ROW(S7)-ROW($S$3))*7+(COLUMN(S7)-COLUMN($S$3)+1)) -> 45712 | T7: =IF(MONTH($S$1)<>MONTH($S$1-(WEEKDAY($S$1,1)-(день_начала-1))-IF((WEEKDAY($S$1,1)-(день_начала-1))<=0,7,0)+(ROW(T7)-ROW($S$3))*7+(COLUMN(T7)-COLUMN($S$3)+1)),"",$S$1-(WEEKDAY($S$1,1)-(день_начала-1))-IF((WEEKDAY($S$1,1)-(день_начала-1))<=0,7,0)+(ROW(T7)-ROW($S$3))*7+(COLUMN(T7)-COLUMN($S$3)+1)) -> 45713 | U7: =IF(MONTH($S$1)<>MONTH($S$1-(WEEKDAY($S$1,1)-(день_начала-1))-IF((WEEKDAY($S$1,1)-(день_начала-1))<=0,7,0)+(ROW(U7)-ROW($S$3))*7+(COLUMN(U7)-COLUMN($S$3)+1)),"",$S$1-(WEEKDAY($S$1,1)-(день_начала-1))-IF((WEEKDAY($S$1,1)-(день_начала-1))<=0,7,0)+(ROW(U7)-ROW($S$3))*7+(COLUMN(U7)-COLUMN($S$3)+1)) -> 45714 | V7: =IF(MONTH($S$1)<>MONTH($S$1-(WEEKDAY($S$1,1)-(день_начала-1))-IF((WEEKDAY($S$1,1)-(день_начала-1))<=0,7,0)+(ROW(V7)-ROW($S$3))*7+(COLUMN(V7)-COLUMN($S$3)+1)),"",$S$1-(WEEKDAY($S$1,1)-(день_начала-1))-IF((WEEKDAY($S$1,1)-(день_начала-1))<=0,7,0)+(ROW(V7)-ROW($S$3))*7+(COLUMN(V7)-COLUMN($S$3)+1)) -> 45715 | W7: =IF(MONTH($S$1)<>MONTH($S$1-(WEEKDAY($S$1,1)-(день_начала-1))-IF((WEEKDAY($S$1,1)-(день_начала-1))<=0,7,0)+(ROW(W7)-ROW($S$3))*7+(COLUMN(W7)-COLUMN($S$3)+1)),"",$S$1-(WEEKDAY($S$1,1)-(день_начала-1))-IF((WEEKDAY($S$1,1)-(день_начала-1))<=0,7,0)+(ROW(W7)-ROW($S$3))*7+(COLUMN(W7)-COLUMN($S$3)+1)) -> 45716 | X7: =IF(MONTH($S$1)<>MONTH($S$1-(WEEKDAY($S$1,1)-(день_начала-1))-IF((WEEKDAY($S$1,1)-(день_начала-1))<=0,7,0)+(ROW(X7)-ROW($S$3))*7+(COLUMN(X7)-COLUMN($S$3)+1)),"",$S$1-(WEEKDAY($S$1,1)-(день_начала-1))-IF((WEEKDAY($S$1,1)-(день_начала-1))<=0,7,0)+(ROW(X7)-ROW($S$3))*7+(COLUMN(X7)-COLUMN($S$3)+1)) | Y7: =IF(MONTH($S$1)<>MONTH($S$1-(WEEKDAY($S$1,1)-(день_начала-1))-IF((WEEKDAY($S$1,1)-(день_начала-1))<=0,7,0)+(ROW(Y7)-ROW($S$3))*7+(COLUMN(Y7)-COLUMN($S$3)+1)),"",$S$1-(WEEKDAY($S$1,1)-(день_начала-1))-IF((WEEKDAY($S$1,1)-(день_начала-1))<=0,7,0)+(ROW(Y7)-ROW($S$3))*7+(COLUMN(Y7)-COLUMN($S$3)+1))
K8: =IF(MONTH($K$1)<>MONTH($K$1-(WEEKDAY($K$1,1)-(день_начала-1))-IF((WEEKDAY($K$1,1)-(день_начала-1))<=0,7,0)+(ROW(K8)-ROW($K$3))*7+(COLUMN(K8)-COLUMN($K$3)+1)),"",$K$1-(WEEKDAY($K$1,1)-(день_начала-1))-IF((WEEKDAY($K$1,1)-(день_начала-1))<=0,7,0)+(ROW(K8)-ROW($K$3))*7+(COLUMN(K8)-COLUMN($K$3)+1)) -> 45656 | L8: =IF(MONTH($K$1)<>MONTH($K$1-(WEEKDAY($K$1,1)-(день_начала-1))-IF((WEEKDAY($K$1,1)-(день_начала-1))<=0,7,0)+(ROW(L8)-ROW($K$3))*7+(COLUMN(L8)-COLUMN($K$3)+1)),"",$K$1-(WEEKDAY($K$1,1)-(день_начала-1))-IF((WEEKDAY($K$1,1)-(день_начала-1))<=0,7,0)+(ROW(L8)-ROW($K$3))*7+(COLUMN(L8)-COLUMN($K$3)+1)) -> 45657 | M8: =IF(MONTH($K$1)<>MONTH($K$1-(WEEKDAY($K$1,1)-(день_начала-1))-IF((WEEKDAY($K$1,1)-(день_начала-1))<=0,7,0)+(ROW(M8)-ROW($K$3))*7+(COLUMN(M8)-COLUMN($K$3)+1)),"",$K$1-(WEEKDAY($K$1,1)-(день_начала-1))-IF((WEEKDAY($K$1,1)-(день_начала-1))<=0,7,0)+(ROW(M8)-ROW($K$3))*7+(COLUMN(M8)-COLUMN($K$3)+1)) | N8: =IF(MONTH($K$1)<>MONTH($K$1-(WEEKDAY($K$1,1)-(день_начала-1))-IF((WEEKDAY($K$1,1)-(день_начала-1))<=0,7,0)+(ROW(N8)-ROW($K$3))*7+(COLUMN(N8)-COLUMN($K$3)+1)),"",$K$1-(WEEKDAY($K$1,1)-(день_начала-1))-IF((WEEKDAY($K$1,1)-(день_начала-1))<=0,7,0)+(ROW(N8)-ROW($K$3))*7+(COLUMN(N8)-COLUMN($K$3)+1)) | O8: =IF(MONTH($K$1)<>MONTH($K$1-(WEEKDAY($K$1,1)-(день_начала-1))-IF((WEEKDAY($K$1,1)-(день_начала-1))<=0,7,0)+(ROW(O8)-ROW($K$3))*7+(COLUMN(O8)-COLUMN($K$3)+1)),"",$K$1-(WEEKDAY($K$1,1)-(день_начала-1))-IF((WEEKDAY($K$1,1)-(день_начала-1))<=0,7,0)+(ROW(O8)-ROW($K$3))*7+(COLUMN(O8)-COLUMN($K$3)+1)) | P8: =IF(MONTH($K$1)<>MONTH($K$1-(WEEKDAY($K$1,1)-(день_начала-1))-IF((WEEKDAY($K$1,1)-(день_начала-1))<=0,7,0)+(ROW(P8)-ROW($K$3))*7+(COLUMN(P8)-COLUMN($K$3)+1)),"",$K$1-(WEEKDAY($K$1,1)-(день_начала-1))-IF((WEEKDAY($K$1,1)-(день_начала-1))<=0,7,0)+(ROW(P8)-ROW($K$3))*7+(COLUMN(P8)-COLUMN($K$3)+1)) | Q8: =IF(MONTH($K$1)<>MONTH($K$1-(WEEKDAY($K$1,1)-(день_начала-1))-IF((WEEKDAY($K$1,1)-(день_начала-1))<=0,7,0)+(ROW(Q8)-ROW($K$3))*7+(COLUMN(Q8)-COLUMN($K$3)+1)),"",$K$1-(WEEKDAY($K$1,1)-(день_начала-1))-IF((WEEKDAY($K$1,1)-(день_начала-1))<=0,7,0)+(ROW(Q8)-ROW($K$3))*7+(COLUMN(Q8)-COLUMN($K$3)+1)) | S8: =IF(MONTH($S$1)<>MONTH($S$1-(WEEKDAY($S$1,1)-(день_начала-1))-IF((WEEKDAY($S$1,1)-(день_начала-1))<=0,7,0)+(ROW(S8)-ROW($S$3))*7+(COLUMN(S8)-COLUMN($S$3)+1)),"",$S$1-(WEEKDAY($S$1,1)-(день_начала-1))-IF((WEEKDAY($S$1,1)-(день_начала-1))<=0,7,0)+(ROW(S8)-ROW($S$3))*7+(COLUMN(S8)-COLUMN($S$3)+1)) | T8: =IF(MONTH($S$1)<>MONTH($S$1-(WEEKDAY($S$1,1)-(день_начала-1))-IF((WEEKDAY($S$1,1)-(день_начала-1))<=0,7,0)+(ROW(T8)-ROW($S$3))*7+(COLUMN(T8)-COLUMN($S$3)+1)),"",$S$1-(WEEKDAY($S$1,1)-(день_начала-1))-IF((WEEKDAY($S$1,1)-(день_начала-1))<=0,7,0)+(ROW(T8)-ROW($S$3))*7+(COLUMN(T8)-COLUMN($S$3)+1)) | U8: =IF(MONTH($S$1)<>MONTH($S$1-(WEEKDAY($S$1,1)-(день_начала-1))-IF((WEEKDAY($S$1,1)-(день_начала-1))<=0,7,0)+(ROW(U8)-ROW($S$3))*7+(COLUMN(U8)-COLUMN($S$3)+1)),"",$S$1-(WEEKDAY($S$1,1)-(день_начала-1))-IF((WEEKDAY($S$1,1)-(день_начала-1))<=0,7,0)+(ROW(U8)-ROW($S$3))*7+(COLUMN(U8)-COLUMN($S$3)+1)) | V8: =IF(MONTH($S$1)<>MONTH($S$1-(WEEKDAY($S$1,1)-(день_начала-1))-IF((WEEKDAY($S$1,1)-(день_начала-1))<=0,7,0)+(ROW(V8)-ROW($S$3))*7+(COLUMN(V8)-COLUMN($S$3)+1)),"",$S$1-(WEEKDAY($S$1,1)-(день_начала-1))-IF((WEEKDAY($S$1,1)-(день_начала-1))<=0,7,0)+(ROW(V8)-ROW($S$3))*7+(COLUMN(V8)-COLUMN($S$3)+1)) | W8: =IF(MONTH($S$1)<>MONTH($S$1-(WEEKDAY($S$1,1)-(день_начала-1))-IF((WEEKDAY($S$1,1)-(день_начала-1))<=0,7,0)+(ROW(W8)-ROW($S$3))*7+(COLUMN(W8)-COLUMN($S$3)+1)),"",$S$1-(WEEKDAY($S$1,1)-(день_начала-1))-IF((WEEKDAY($S$1,1)-(день_начала-1))<=0,7,0)+(ROW(W8)-ROW($S$3))*7+(COLUMN(W8)-COLUMN($S$3)+1)) | X8: =IF(MONTH($S$1)<>MONTH($S$1-(WEEKDAY($S$1,1)-(день_начала-1))-IF((WEEKDAY($S$1,1)-(день_начала-1))<=0,7,0)+(ROW(X8)-ROW($S$3))*7+(COLUMN(X8)-COLUMN($S$3)+1)),"",$S$1-(WEEKDAY($S$1,1)-(день_начала-1))-IF((WEEKDAY($S$1,1)-(день_начала-1))<=0,7,0)+(ROW(X8)-ROW($S$3))*7+(COLUMN(X8)-COLUMN($S$3)+1)) | Y8: =IF(MONTH($S$1)<>MONTH($S$1-(WEEKDAY($S$1,1)-(день_начала-1))-IF((WEEKDAY($S$1,1)-(день_начала-1))<=0,7,0)+(ROW(Y8)-ROW($S$3))*7+(COLUMN(Y8)-COLUMN($S$3)+1)),"",$S$1-(WEEKDAY($S$1,1)-(день_начала-1))-IF((WEEKDAY($S$1,1)-(день_начала-1))<=0,7,0)+(ROW(Y8)-ROW($S$3))*7+(COLUMN(Y8)-COLUMN($S$3)+1))
A9: =A10 -> 45656 | C9: =C10 -> 45657 | E9: =E10 -> 45658 | G9: =G10 -> 45659 | I9: =I10 -> 45660 | K9: =K10 -> 45661 | S9: =S10 -> 45662
A10: =$A$1-(WEEKDAY($A$1,1)-(день_начала-1))-IF((WEEKDAY($A$1,1)-(день_начала-1))<=0,7,0)+1 -> 45656 | C10: =A10+1 -> 45657 | E10: =C10+1 -> 45658 | G10: =E10+1 -> 45659 | I10: =G10+1 -> 45660 | K10: =I10+1 -> 45661 | S10: =K10+1 -> 45662
A16: =S10+1 -> 45663 | C16: =A16+1 -> 45664 | E16: =C16+1 -> 45665 | G16: =E16+1 -> 45666 | I16: =G16+1 -> 45667 | K16: =I16+1 -> 45668 | S16: =K16+1 -> 45669
A22: =S16+1 -> 45670 | C22: =A22+1 -> 45671 | E22: =C22+1 -> 45672 | G22: =E22+1 -> 45673 | I22: =G22+1 -> 45674 | K22: =I22+1 -> 45675 | S22: =K22+1 -> 45676
A28: =S22+1 -> 45677 | C28: =A28+1 -> 45678 | E28: =C28+1 -> 45679 | G28: =E28+1 -> 45680 | I28: =G28+1 -> 45681 | K28: =I28+1 -> 45682 | S28: =K28+1 -> 45683
A34: =S28+1 -> 45684 | C34: =A34+1 -> 45685 | E34: =C34+1 -> 45686 | G34: =E34+1 -> 45687 | I34: =G34+1 -> 45688 | K34: =I34+1 -> 45689 | S34: =K34+1 -> 45690
A40: =S34+1 -> 45691 | C40: =A40+1 -> 45692 | E40: Примечания

Sheet 2
A1: =DATE(Настройка!D5,Настройка!D7+1,1) -> 45689 | K1: =DATE(YEAR(A1),MONTH(A1)-1,1) -> 45658 | S1: =DATE(YEAR(A1),MONTH(A1)+1,1) -> 45717
K2: =INDEX({"Вс";"Пн";"Вт";"Ср";"Чт";"Пт";"Сб"},1+MOD(день_начала+1-2,7)) -> Пн | L2: =INDEX({"Вс";"Пн";"Вт";"Ср";"Чт";"Пт";"Сб"},1+MOD(день_начала+2-2,7)) -> Вт | M2: =INDEX({"Вс";"Пн";"Вт";"Ср";"Чт";"Пт";"Сб"},1+MOD(день_начала+3-2,7)) -> Ср | N2: =INDEX({"Вс";"Пн";"Вт";"Ср";"Чт";"Пт";"Сб"},1+MOD(день_начала+4-2,7)) -> Чт | O2: =INDEX({"Вс";"Пн";"Вт";"Ср";"Чт";"Пт";"Сб"},1+MOD(день_начала+5-2,7)) -> Пт | P2: =INDEX({"Вс";"Пн";"Вт";"Ср";"Чт";"Пт";"Сб"},1+MOD(день_начала+6-2,7)) -> Сб | Q2: =INDEX({"Вс";"Пн";"Вт";"Ср";"Чт";"Пт";"Сб"},1+MOD(день_начала+7-2,7)) -> Вс | S2: =INDEX({"Вс";"Пн";"Вт";"Ср";"Чт";"Пт";"Сб"},1+MOD(день_начала+1-2,7)) -> Пн | T2: =INDEX({"Вс";"Пн";"Вт";"Ср";"Чт";"Пт";"Сб"},1+MOD(день_начала+2-2,7)) -> Вт | U2: =INDEX({"Вс";"Пн";"Вт";"Ср";"Чт";"Пт";"Сб"},1+MOD(день_начала+3-2,7)) -> Ср | V2: =INDEX({"Вс";"Пн";"Вт";"Ср";"Чт";"Пт";"Сб"},1+MOD(день_начала+4-2,7)) -> Чт | W2: =INDEX({"Вс";"Пн";"Вт";"Ср";"Чт";"Пт";"Сб"},1+MOD(день_начала+5-2,7)) -> Пт | X2: =INDEX({"Вс";"Пн";"Вт";"Ср";"Чт";"Пт";"Сб"},1+MOD(день_начала+6-2,7)) -> Сб | Y2: =INDEX({"Вс";"Пн";"Вт";"Ср";"Чт";"Пт";"Сб"},1+MOD(день_начала+7-2,7)) -> Вс
K3: =IF(MONTH($K$1)<>MONTH($K$1-(WEEKDAY($K$1,1)-(день_начала-1))-IF((WEEKDAY($K$1,1)-(день_начала-1))<=0,7,0)+(ROW(K3)-ROW($K$3))*7+(COLUMN(K3)-COLUMN($K$3)+1)),"",$K$1-(WEEKDAY($K$1,1)-(день_начала-1))-IF((WEEKDAY($K$1,1)-(день_начала-1))<=0,7,0)+(ROW(K3)-ROW($K$3))*7+(COLUMN(K3)-COLUMN($K$3)+1)) | L3: =IF(MONTH($K$1)<>MONTH($K$1-(WEEKDAY($K$1,1)-(день_начала-1))-IF((WEEKDAY($K$1,1)-(день_начала-1))<=0,7,0)+(ROW(L3)-ROW($K$3))*7+(COLUMN(L3)-COLUMN($K$3)+1)),"",$K$1-(WEEKDAY($K$1,1)-(день_начала-1))-IF((WEEKDAY($K$1,1)-(день_начала-1))<=0,7,0)+(ROW(L3)-ROW($K$3))*7+(COLUMN(L3)-COLUMN($K$3)+1)) | M3: =IF(MONTH($K$1)<>MONTH($K$1-(WEEKDAY($K$1,1)-(день_начала-1))-IF((WEEKDAY($K$1,1)-(день_начала-1))<=0,7,0)+(ROW(M3)-ROW($K$3))*7+(COLUMN(M3)-COLUMN($K$3)+1)),"",$K$1-(WEEKDAY($K$1,1)-(день_начала-1))-IF((WEEKDAY($K$1,1)-(день_начала-1))<=0,7,0)+(ROW(M3)-ROW($K$3))*7+(COLUMN(M3)-COLUMN($K$3)+1)) -> 45658 | N3: =IF(MONTH($K$1)<>MONTH($K$1-(WEEKDAY($K$1,1)-(день_начала-1))-IF((WEEKDAY($K$1,1)-(день_начала-1))<=0,7,0)+(ROW(N3)-ROW($K$3))*7+(COLUMN(N3)-COLUMN($K$3)+1)),"",$K$1-(WEEKDAY($K$1,1)-(день_начала-1))-IF((WEEKDAY($K$1,1)-(день_начала-1))<=0,7,0)+(ROW(N3)-ROW($K$3))*7+(COLUMN(N3)-COLUMN($K$3)+1)) -> 45659 | O3: =IF(MONTH($K$1)<>MONTH($K$1-(WEEKDAY($K$1,1)-(день_начала-1))-IF((WEEKDAY($K$1,1)-(день_начала-1))<=0,7,0)+(ROW(O3)-ROW($K$3))*7+(COLUMN(O3)-COLUMN($K$3)+1)),"",$K$1-(WEEKDAY($K$1,1)-(день_начала-1))-IF((WEEKDAY($K$1,1)-(день_начала-1))<=0,7,0)+(ROW(O3)-ROW($K$3))*7+(COLUMN(O3)-COLUMN($K$3)+1)) -> 45660 | P3: =IF(MONTH($K$1)<>MONTH($K$1-(WEEKDAY($K$1,1)-(день_начала-1))-IF((WEEKDAY($K$1,1)-(день_начала-1))<=0,7,0)+(ROW(P3)-ROW($K$3))*7+(COLUMN(P3)-COLUMN($K$3)+1)),"",$K$1-(WEEKDAY($K$1,1)-(день_начала-1))-IF((WEEKDAY($K$1,1)-(день_начала-1))<=0,7,0)+(ROW(P3)-ROW($K$3))*7+(COLUMN(P3)-COLUMN($K$3)+1)) -> 45661 | Q3: =IF(MONTH($K$1)<>MONTH($K$1-(WEEKDAY($K$1,1)-(день_начала-1))-IF((WEEKDAY($K$1,1)-(день_начала-1))<=0,7,0)+(ROW(Q3)-ROW($K$3))*7+(COLUMN(Q3)-COLUMN($K$3)+1)),"",$K$1-(WEEKDAY($K$1,1)-(день_начала-1))-IF((WEEKDAY($K$1,1)-(день_начала-1))<=0,7,0)+(ROW(Q3)-ROW($K$3))*7+(COLUMN(Q3)-COLUMN($K$3)+1)) -> 45662 | S3: =IF(MONTH($S$1)<>MONTH($S$1-(WEEKDAY($S$1,1)-(день_начала-1))-IF((WEEKDAY($S$1,1)-(день_начала-1))<=0,7,0)+(ROW(S3)-ROW($S$3))*7+(COLUMN(S3)-COLUMN($S$3)+1)),"",$S$1-(WEEKDAY($S$1,1)-(день_начала-1))-IF((WEEKDAY($S$1,1)-(день_начала-1))<=0,7,0)+(ROW(S3)-ROW($S$3))*7+(COLUMN(S3)-COLUMN($S$3)+1)) | T3: =IF(MONTH($S$1)<>MONTH($S$1-(WEEKDAY($S$1,1)-(день_начала-1))-IF((WEEKDAY($S$1,1)-(день_начала-1))<=0,7,0)+(ROW(T3)-ROW($S$3))*7+(COLUMN(T3)-COLUMN($S$3)+1)),"",$S$1-(WEEKDAY($S$1,1)-(день_начала-1))-IF((WEEKDAY($S$1,1)-(день_начала-1))<=0,7,0)+(ROW(T3)-ROW($S$3))*7+(COLUMN(T3)-COLUMN($S$3)+1)) | U3: =IF(MONTH($S$1)<>MONTH($S$1-(WEEKDAY($S$1,1)-(день_начала-1))-IF((WEEKDAY($S$1,1)-(день_начала-1))<=0,7,0)+(ROW(U3)-ROW($S$3))*7+(COLUMN(U3)-COLUMN($S$3)+1)),"",$S$1-(WEEKDAY($S$1,1)-(день_начала-1))-IF((WEEKDAY($S$1,1)-(день_начала-1))<=0,7,0)+(ROW(U3)-ROW($S$3))*7+(COLUMN(U3)-COLUMN($S$3)+1)) | V3: =IF(MONTH($S$1)<>MONTH($S$1-(WEEKDAY($S$1,1)-(день_начала-1))-IF((WEEKDAY($S$1,1)-(день_начала-1))<=0,7,0)+(ROW(V3)-ROW($S$3))*7+(COLUMN(V3)-COLUMN($S$3)+1)),"",$S$1-(WEEKDAY($S$1,1)-(день_начала-1))-IF((WEEKDAY($S$1,1)-(день_начала-1))<=0,7,0)+(ROW(V3)-ROW($S$3))*7+(COLUMN(V3)-COLUMN($S$3)+1)) | W3: =IF(MONTH($S$1)<>MONTH($S$1-(WEEKDAY($S$1,1)-(день_начала-1))-IF((WEEKDAY($S$1,1)-(день_начала-1))<=0,7,0)+(ROW(W3)-ROW($S$3))*7+(COLUMN(W3)-COLUMN($S$3)+1)),"",$S$1-(WEEKDAY($S$1,1)-(день_начала-1))-IF((WEEKDAY($S$1,1)-(день_начала-1))<=0,7,0)+(ROW(W3)-ROW($S$3))*7+(COLUMN(W3)-COLUMN($S$3)+1)) | X3: =IF(MONTH($S$1)<>MONTH($S$1-(WEEKDAY($S$1,1)-(день_начала-1))-IF((WEEKDAY($S$1,1)-(день_начала-1))<=0,7,0)+(ROW(X3)-ROW($S$3))*7+(COLUMN(X3)-COLUMN($S$3)+1)),"",$S$1-(WEEKDAY($S$1,1)-(день_начала-1))-IF((WEEKDAY($S$1,1)-(день_начала-1))<=0,7,0)+(ROW(X3)-ROW($S$3))*7+(COLUMN(X3)-COLUMN($S$3)+1)) -> 45717 | Y3: =IF(MONTH($S$1)<>MONTH($S$1-(WEEKDAY($S$1,1)-(день_начала-1))-IF((WEEKDAY($S$1,1)-(день_начала-1))<=0,7,0)+(ROW(Y3)-ROW($S$3))*7+(COLUMN(Y3)-COLUMN($S$3)+1)),"",$S$1-(WEEKDAY($S$1,1)-(день_начала-1))-IF((WEEKDAY($S$1,1)-(день_начала-1))<=0,7,0)+(ROW(Y3)-ROW($S$3))*7+(COLUMN(Y3)-COLUMN($S$3)+1)) -> 45718
K4: =IF(MONTH($K$1)<>MONTH($K$1-(WEEKDAY($K$1,1)-(день_начала-1))-IF((WEEKDAY($K$1,1)-(день_начала-1))<=0,7,0)+(ROW(K4)-ROW($K$3))*7+(COLUMN(K4)-COLUMN($K$3)+1)),"",$K$1-(WEEKDAY($K$1,1)-(день_начала-1))-IF((WEEKDAY($K$1,1)-(день_начала-1))<=0,7,0)+(ROW(K4)-ROW($K$3))*7+(COLUMN(K4)-COLUMN($K$3)+1)) -> 45663 | L4: =IF(MONTH($K$1)<>MONTH($K$1-(WEEKDAY($K$1,1)-(день_начала-1))-IF((WEEKDAY($K$1,1)-(день_начала-1))<=0,7,0)+(ROW(L4)-ROW($K$3))*7+(COLUMN(L4)-COLUMN($K$3)+1)),"",$K$1-(WEEKDAY($K$1,1)-(день_начала-1))-IF((WEEKDAY($K$1,1)-(день_начала-1))<=0,7,0)+(ROW(L4)-ROW($K$3))*7+(COLUMN(L4)-COLUMN($K$3)+1)) -> 45664 | M4: =IF(MONTH($K$1)<>MONTH($K$1-(WEEKDAY($K$1,1)-(день_начала-1))-IF((WEEKDAY($K$1,1)-(день_начала-1))<=0,7,0)+(ROW(M4)-ROW($K$3))*7+(COLUMN(M4)-COLUMN($K$3)+1)),"",$K$1-(WEEKDAY($K$1,1)-(день_начала-1))-IF((WEEKDAY($K$1,1)-(день_начала-1))<=0,7,0)+(ROW(M4)-ROW($K$3))*7+(COLUMN(M4)-COLUMN($K$3)+1)) -> 45665 | N4: =IF(MONTH($K$1)<>MONTH($K$1-(WEEKDAY($K$1,1)-(день_начала-1))-IF((WEEKDAY($K$1,1)-(день_начала-1))<=0,7,0)+(ROW(N4)-ROW($K$3))*7+(COLUMN(N4)-COLUMN($K$3)+1)),"",$K$1-(WEEKDAY($K$1,1)-(день_начала-1))-IF((WEEKDAY($K$1,1)-(день_начала-1))<=0,7,0)+(ROW(N4)-ROW($K$3))*7+(COLUMN(N4)-COLUMN($K$3)+1)) -> 45666 | O4: =IF(MONTH($K$1)<>MONTH($K$1-(WEEKDAY($K$1,1)-(день_начала-1))-IF((WEEKDAY($K$1,1)-(день_начала-1))<=0,7,0)+(ROW(O4)-ROW($K$3))*7+(COLUMN(O4)-COLUMN($K$3)+1)),"",$K$1-(WEEKDAY($K$1,1)-(день_начала-1))-IF((WEEKDAY($K$1,1)-(день_начала-1))<=0,7,0)+(ROW(O4)-ROW($K$3))*7+(COLUMN(O4)-COLUMN($K$3)+1)) -> 45667 | P4: =IF(MONTH($K$1)<>MONTH($K$1-(WEEKDAY($K$1,1)-(день_начала-1))-IF((WEEKDAY($K$1,1)-(день_начала-1))<=0,7,0)+(ROW(P4)-ROW($K$3))*7+(COLUMN(P4)-COLUMN($K$3)+1)),"",$K$1-(WEEKDAY($K$1,1)-(день_начала-1))-IF((WEEKDAY($K$1,1)-(день_начала-1))<=0,7,0)+(ROW(P4)-ROW($K$3))*7+(COLUMN(P4)-COLUMN($K$3)+1)) -> 45668 | Q4: =IF(MONTH($K$1)<>MONTH($K$1-(WEEKDAY($K$1,1)-(день_начала-1))-IF((WEEKDAY($K$1,1)-(день_начала-1))<=0,7,0)+(ROW(Q4)-ROW($K$3))*7+(COLUMN(Q4)-COLUMN($K$3)+1)),"",$K$1-(WEEKDAY($K$1,1)-(день_начала-1))-IF((WEEKDAY($K$1,1)-(день_начала-1))<=0,7,0)+(ROW(Q4)-ROW($K$3))*7+(COLUMN(Q4)-COLUMN($K$3)+1)) -> 45669 | S4: =IF(MONTH($S$1)<>MONTH($S$1-(WEEKDAY($S$1,1)-(день_начала-1))-IF((WEEKDAY($S$1,1)-(день_начала-1))<=0,7,0)+(ROW(S4)-ROW($S$3))*7+(COLUMN(S4)-COLUMN($S$3)+1)),"",$S$1-(WEEKDAY($S$1,1)-(день_начала-1))-IF((WEEKDAY($S$1,1)-(день_начала-1))<=0,7,0)+(ROW(S4)-ROW($S$3))*7+(COLUMN(S4)-COLUMN($S$3)+1)) -> 45719 | T4: =IF(MONTH($S$1)<>MONTH($S$1-(WEEKDAY($S$1,1)-(день_начала-1))-IF((WEEKDAY($S$1,1)-(день_начала-1))<=0,7,0)+(ROW(T4)-ROW($S$3))*7+(COLUMN(T4)-COLUMN($S$3)+1)),"",$S$1-(WEEKDAY($S$1,1)-(день_начала-1))-IF((WEEKDAY($S$1,1)-(день_начала-1))<=0,7,0)+(ROW(T4)-ROW($S$3))*7+(COLUMN(T4)-COLUMN($S$3)+1)) -> 45720 | U4: =IF(MONTH($S$1)<>MONTH($S$1-(WEEKDAY($S$1,1)-(день_начала-1))-IF((WEEKDAY($S$1,1)-(день_начала-1))<=0,7,0)+(ROW(U4)-ROW($S$3))*7+(COLUMN(U4)-COLUMN($S$3)+1)),"",$S$1-(WEEKDAY($S$1,1)-(день_начала-1))-IF((WEEKDAY($S$1,1)-(день_начала-1))<=0,7,0)+(ROW(U4)-ROW($S$3))*7+(COLUMN(U4)-COLUMN($S$3)+1)) -> 45721 | V4: =IF(MONTH($S$1)<>MONTH($S$1-(WEEKDAY($S$1,1)-(день_начала-1))-IF((WEEKDAY($S$1,1)-(день_начала-1))<=0,7,0)+(ROW(V4)-ROW($S$3))*7+(COLUMN(V4)-COLUMN($S$3)+1)),"",$S$1-(WEEKDAY($S$1,1)-(день_начала-1))-IF((WEEKDAY($S$1,1)-(день_начала-1))<=0,7,0)+(ROW(V4)-ROW($S$3))*7+(COLUMN(V4)-COLUMN($S$3)+1)) -> 45722 | W4: =IF(MONTH($S$1)<>MONTH($S$1-(WEEKDAY($S$1,1)-(день_начала-1))-IF((WEEKDAY($S$1,1)-(день_начала-1))<=0,7,0)+(ROW(W4)-ROW($S$3))*7+(COLUMN(W4)-COLUMN($S$3)+1)),"",$S$1-(WEEKDAY($S$1,1)-(день_начала-1))-IF((WEEKDAY($S$1,1)-(день_начала-1))<=0,7,0)+(ROW(W4)-ROW($S$3))*7+(COLUMN(W4)-COLUMN($S$3)+1)) -> 45723 | X4: =IF(MONTH($S$1)<>MONTH($S$1-(WEEKDAY($S$1,1)-(день_начала-1))-IF((WEEKDAY($S$1,1)-(день_начала-1))<=0,7,0)+(ROW(X4)-ROW($S$3))*7+(COLUMN(X4)-COLUMN($S$3)+1)),"",$S$1-(WEEKDAY($S$1,1)-(день_начала-1))-IF((WEEKDAY($S$1,1)-(день_начала-1))<=0,7,0)+(ROW(X4)-ROW($S$3))*7+(COLUMN(X4)-COLUMN($S$3)+1)) -> 45724 | Y4: =IF(MONTH($S$1)<>MONTH($S$1-(WEEKDAY($S$1,1)-(день_начала-1))-IF((WEEKDAY($S$1,1)-(день_начала-1))<=0,7,0)+(ROW(Y4)-ROW($S$3))*7+(COLUMN(Y4)-COLUMN($S$3)+1)),"",$S$1-(WEEKDAY($S$1,1)-(день_начала-1))-IF((WEEKDAY($S$1,1)-(день_начала-1))<=0,7,0)+(ROW(Y4)-ROW($S$3))*7+(COLUMN(Y4)-COLUMN($S$3)+1)) -> 45725
K5: =IF(MONTH($K$1)<>MONTH($K$1-(WEEKDAY($K$1,1)-(день_начала-1))-IF((WEEKDAY($K$1,1)-(день_начала-1))<=0,7,0)+(ROW(K5)-ROW($K$3))*7+(COLUMN(K5)-COLUMN($K$3)+1)),"",$K$1-(WEEKDAY($K$1,1)-(день_начала-1))-IF((WEEKDAY($K$1,1)-(день_начала-1))<=0,7,0)+(ROW(K5)-ROW($K$3))*7+(COLUMN(K5)-COLUMN($K$3)+1)) -> 45670 | L5: =IF(MONTH($K$1)<>MONTH($K$1-(WEEKDAY($K$1,1)-(день_начала-1))-IF((WEEKDAY($K$1,1)-(день_начала-1))<=0,7,0)+(ROW(L5)-ROW($K$3))*7+(COLUMN(L5)-COLUMN($K$3)+1)),"",$K$1-(WEEKDAY($K$1,1)-(день_начала-1))-IF((WEEKDAY($K$1,1)-(день_начала-1))<=0,7,0)+(ROW(L5)-ROW($K$3))*7+(COLUMN(L5)-COLUMN($K$3)+1)) -> 45671 | M5: =IF(MONTH($K$1)<>MONTH($K$1-(WEEKDAY($K$1,1)-(день_начала-1))-IF((WEEKDAY($K$1,1)-(день_начала-1))<=0,7,0)+(ROW(M5)-ROW($K$3))*7+(COLUMN(M5)-COLUMN($K$3)+1)),"",$K$1-(WEEKDAY($K$1,1)-(день_начала-1))-IF((WEEKDAY($K$1,1)-(день_начала-1))<=0,7,0)+(ROW(M5)-ROW($K$3))*7+(COLUMN(M5)-COLUMN($K$3)+1)) -> 45672 | N5: =IF(MONTH($K$1)<>MONTH($K$1-(WEEKDAY($K$1,1)-(день_начала-1))-IF((WEEKDAY($K$1,1)-(день_начала-1))<=0,7,0)+(ROW(N5)-ROW($K$3))*7+(COLUMN(N5)-COLUMN($K$3)+1)),"",$K$1-(WEEKDAY($K$1,1)-(день_начала-1))-IF((WEEKDAY($K$1,1)-(день_начала-1))<=0,7,0)+(ROW(N5)-ROW($K$3))*7+(COLUMN(N5)-COLUMN($K$3)+1)) -> 45673 | O5: =IF(MONTH($K$1)<>MONTH($K$1-(WEEKDAY($K$1,1)-(день_начала-1))-IF((WEEKDAY($K$1,1)-(день_начала-1))<=0,7,0)+(ROW(O5)-ROW($K$3))*7+(COLUMN(O5)-COLUMN($K$3)+1)),"",$K$1-(WEEKDAY($K$1,1)-(день_начала-1))-IF((WEEKDAY($K$1,1)-(день_начала-1))<=0,7,0)+(ROW(O5)-ROW($K$3))*7+(COLUMN(O5)-COLUMN($K$3)+1)) -> 45674 | P5: =IF(MONTH($K$1)<>MONTH($K$1-(WEEKDAY($K$1,1)-(день_начала-1))-IF((WEEKDAY($K$1,1)-(день_начала-1))<=0,7,0)+(ROW(P5)-ROW($K$3))*7+(COLUMN(P5)-COLUMN($K$3)+1)),"",$K$1-(WEEKDAY($K$1,1)-(день_начала-1))-IF((WEEKDAY($K$1,1)-(день_начала-1))<=0,7,0)+(ROW(P5)-ROW($K$3))*7+(COLUMN(P5)-COLUMN($K$3)+1)) -> 45675 | Q5: =IF(MONTH($K$1)<>MONTH($K$1-(WEEKDAY($K$1,1)-(день_начала-1))-IF((WEEKDAY($K$1,1)-(день_начала-1))<=0,7,0)+(ROW(Q5)-ROW($K$3))*7+(COLUMN(Q5)-COLUMN($K$3)+1)),"",$K$1-(WEEKDAY($K$1,1)-(день_начала-1))-IF((WEEKDAY($K$1,1)-(день_начала-1))<=0,7,0)+(ROW(Q5)-ROW($K$3))*7+(COLUMN(Q5)-COLUMN($K$3)+1)) -> 45676 | S5: =IF(MONTH($S$1)<>MONTH($S$1-(WEEKDAY($S$1,1)-(день_начала-1))-IF((WEEKDAY($S$1,1)-(день_начала-1))<=0,7,0)+(ROW(S5)-ROW($S$3))*7+(COLUMN(S5)-COLUMN($S$3)+1)),"",$S$1-(WEEKDAY($S$1,1)-(день_начала-1))-IF((WEEKDAY($S$1,1)-(день_начала-1))<=0,7,0)+(ROW(S5)-ROW($S$3))*7+(COLUMN(S5)-COLUMN($S$3)+1)) -> 45726 | T5: =IF(MONTH($S$1)<>MONTH($S$1-(WEEKDAY($S$1,1)-(день_начала-1))-IF((WEEKDAY($S$1,1)-(день_начала-1))<=0,7,0)+(ROW(T5)-ROW($S$3))*7+(COLUMN(T5)-COLUMN($S$3)+1)),"",$S$1-(WEEKDAY($S$1,1)-(день_начала-1))-IF((WEEKDAY($S$1,1)-(день_начала-1))<=0,7,0)+(ROW(T5)-ROW($S$3))*7+(COLUMN(T5)-COLUMN($S$3)+1)) -> 45727 | U5: =IF(MONTH($S$1)<>MONTH($S$1-(WEEKDAY($S$1,1)-(день_начала-1))-IF((WEEKDAY($S$1,1)-(день_начала-1))<=0,7,0)+(ROW(U5)-ROW($S$3))*7+(COLUMN(U5)-COLUMN($S$3)+1)),"",$S$1-(WEEKDAY($S$1,1)-(день_начала-1))-IF((WEEKDAY($S$1,1)-(день_начала-1))<=0,7,0)+(ROW(U5)-ROW($S$3))*7+(COLUMN(U5)-COLUMN($S$3)+1)) -> 45728 | V5: =IF(MONTH($S$1)<>MONTH($S$1-(WEEKDAY($S$1,1)-(день_начала-1))-IF((WEEKDAY($S$1,1)-(день_начала-1))<=0,7,0)+(ROW(V5)-ROW($S$3))*7+(COLUMN(V5)-COLUMN($S$3)+1)),"",$S$1-(WEEKDAY($S$1,1)-(день_начала-1))-IF((WEEKDAY($S$1,1)-(день_начала-1))<=0,7,0)+(ROW(V5)-ROW($S$3))*7+(COLUMN(V5)-COLUMN($S$3)+1)) -> 45729 | W5: =IF(MONTH($S$1)<>MONTH($S$1-(WEEKDAY($S$1,1)-(день_начала-1))-IF((WEEKDAY($S$1,1)-(день_начала-1))<=0,7,0)+(ROW(W5)-ROW($S$3))*7+(COLUMN(W5)-COLUMN($S$3)+1)),"",$S$1-(WEEKDAY($S$1,1)-(день_начала-1))-IF((WEEKDAY($S$1,1)-(день_начала-1))<=0,7,0)+(ROW(W5)-ROW($S$3))*7+(COLUMN(W5)-COLUMN($S$3)+1)) -> 45730 | X5: =IF(MONTH($S$1)<>MONTH($S$1-(WEEKDAY($S$1,1)-(день_начала-1))-IF((WEEKDAY($S$1,1)-(день_начала-1))<=0,7,0)+(ROW(X5)-ROW($S$3))*7+(COLUMN(X5)-COLUMN($S$3)+1)),"",$S$1-(WEEKDAY($S$1,1)-(день_начала-1))-IF((WEEKDAY($S$1,1)-(день_начала-1))<=0,7,0)+(ROW(X5)-ROW($S$3))*7+(COLUMN(X5)-COLUMN($S$3)+1)) -> 45731 | Y5: =IF(MONTH($S$1)<>MONTH($S$1-(WEEKDAY($S$1,1)-(день_начала-1))-IF((WEEKDAY($S$1,1)-(день_начала-1))<=0,7,0)+(ROW(Y5)-ROW($S$3))*7+(COLUMN(Y5)-COLUMN($S$3)+1)),"",$S$1-(WEEKDAY($S$1,1)-(день_начала-1))-IF((WEEKDAY($S$1,1)-(день_начала-1))<=0,7,0)+(ROW(Y5)-ROW($S$3))*7+(COLUMN(Y5)-COLUMN($S$3)+1)) -> 45732
K6: =IF(MONTH($K$1)<>MONTH($K$1-(WEEKDAY($K$1,1)-(день_начала-1))-IF((WEEKDAY($K$1,1)-(день_начала-1))<=0,7,0)+(ROW(K6)-ROW($K$3))*7+(COLUMN(K6)-COLUMN($K$3)+1)),"",$K$1-(WEEKDAY($K$1,1)-(день_начала-1))-IF((WEEKDAY($K$1,1)-(день_начала-1))<=0,7,0)+(ROW(K6)-ROW($K$3))*7+(COLUMN(K6)-COLUMN($K$3)+1)) -> 45677 | L6: =IF(MONTH($K$1)<>MONTH($K$1-(WEEKDAY($K$1,1)-(день_начала-1))-IF((WEEKDAY($K$1,1)-(день_начала-1))<=0,7,0)+(ROW(L6)-ROW($K$3))*7+(COLUMN(L6)-COLUMN($K$3)+1)),"",$K$1-(WEEKDAY($K$1,1)-(день_начала-1))-IF((WEEKDAY($K$1,1)-(день_начала-1))<=0,7,0)+(ROW(L6)-ROW($K$3))*7+(COLUMN(L6)-COLUMN($K$3)+1)) -> 45678 | M6: =IF(MONTH($K$1)<>MONTH($K$1-(WEEKDAY($K$1,1)-(день_начала-1))-IF((WEEKDAY($K$1,1)-(день_начала-1))<=0,7,0)+(ROW(M6)-ROW($K$3))*7+(COLUMN(M6)-COLUMN($K$3)+1)),"",$K$1-(WEEKDAY($K$1,1)-(день_начала-1))-IF((WEEKDAY($K$1,1)-(день_начала-1))<=0,7,0)+(ROW(M6)-ROW($K$3))*7+(COLUMN(M6)-COLUMN($K$3)+1)) -> 45679 | N6: =IF(MONTH($K$1)<>MONTH($K$1-(WEEKDAY($K$1,1)-(день_начала-1))-IF((WEEKDAY($K$1,1)-(день_начала-1))<=0,7,0)+(ROW(N6)-ROW($K$3))*7+(COLUMN(N6)-COLUMN($K$3)+1)),"",$K$1-(WEEKDAY($K$1,1)-(день_начала-1))-IF((WEEKDAY($K$1,1)-(день_начала-1))<=0,7,0)+(ROW(N6)-ROW($K$3))*7+(COLUMN(N6)-COLUMN($K$3)+1)) -> 45680 | O6: =IF(MONTH($K$1)<>MONTH($K$1-(WEEKDAY($K$1,1)-(день_начала-1))-IF((WEEKDAY($K$1,1)-(день_начала-1))<=0,7,0)+(ROW(O6)-ROW($K$3))*7+(COLUMN(O6)-COLUMN($K$3)+1)),"",$K$1-(WEEKDAY($K$1,1)-(день_начала-1))-IF((WEEKDAY($K$1,1)-(день_начала-1))<=0,7,0)+(ROW(O6)-ROW($K$3))*7+(COLUMN(O6)-COLUMN($K$3)+1)) -> 45681 | P6: =IF(MONTH($K$1)<>MONTH($K$1-(WEEKDAY($K$1,1)-(день_начала-1))-IF((WEEKDAY($K$1,1)-(день_начала-1))<=0,7,0)+(ROW(P6)-ROW($K$3))*7+(COLUMN(P6)-COLUMN($K$3)+1)),"",$K$1-(WEEKDAY($K$1,1)-(день_начала-1))-IF((WEEKDAY($K$1,1)-(день_начала-1))<=0,7,0)+(ROW(P6)-ROW($K$3))*7+(COLUMN(P6)-COLUMN($K$3)+1)) -> 45682 | Q6: =IF(MONTH($K$1)<>MONTH($K$1-(WEEKDAY($K$1,1)-(день_начала-1))-IF((WEEKDAY($K$1,1)-(день_начала-1))<=0,7,0)+(ROW(Q6)-ROW($K$3))*7+(COLUMN(Q6)-COLUMN($K$3)+1)),"",$K$1-(WEEKDAY($K$1,1)-(день_начала-1))-IF((WEEKDAY($K$1,1)-(день_начала-1))<=0,7,0)+(ROW(Q6)-ROW($K$3))*7+(COLUMN(Q6)-COLUMN($K$3)+1)) -> 45683 | S6: =IF(MONTH($S$1)<>MONTH($S$1-(WEEKDAY($S$1,1)-(день_начала-1))-IF((WEEKDAY($S$1,1)-(день_начала-1))<=0,7,0)+(ROW(S6)-ROW($S$3))*7+(COLUMN(S6)-COLUMN($S$3)+1)),"",$S$1-(WEEKDAY($S$1,1)-(день_начала-1))-IF((WEEKDAY($S$1,1)-(день_начала-1))<=0,7,0)+(ROW(S6)-ROW($S$3))*7+(COLUMN(S6)-COLUMN($S$3)+1)) -> 45733 | T6: =IF(MONTH($S$1)<>MONTH($S$1-(WEEKDAY($S$1,1)-(день_начала-1))-IF((WEEKDAY($S$1,1)-(день_начала-1))<=0,7,0)+(ROW(T6)-ROW($S$3))*7+(COLUMN(T6)-COLUMN($S$3)+1)),"",$S$1-(WEEKDAY($S$1,1)-(день_начала-1))-IF((WEEKDAY($S$1,1)-(день_начала-1))<=0,7,0)+(ROW(T6)-ROW($S$3))*7+(COLUMN(T6)-COLUMN($S$3)+1)) -> 45734 | U6: =IF(MONTH($S$1)<>MONTH($S$1-(WEEKDAY($S$1,1)-(день_начала-1))-IF((WEEKDAY($S$1,1)-(день_начала-1))<=0,7,0)+(ROW(U6)-ROW($S$3))*7+(COLUMN(U6)-COLUMN($S$3)+1)),"",$S$1-(WEEKDAY($S$1,1)-(день_начала-1))-IF((WEEKDAY($S$1,1)-(день_начала-1))<=0,7,0)+(ROW(U6)-ROW($S$3))*7+(COLUMN(U6)-COLUMN($S$3)+1)) -> 45735 | V6: =IF(MONTH($S$1)<>MONTH($S$1-(WEEKDAY($S$1,1)-(день_начала-1))-IF((WEEKDAY($S$1,1)-(день_начала-1))<=0,7,0)+(ROW(V6)-ROW($S$3))*7+(COLUMN(V6)-COLUMN($S$3)+1)),"",$S$1-(WEEKDAY($S$1,1)-(день_начала-1))-IF((WEEKDAY($S$1,1)-(день_начала-1))<=0,7,0)+(ROW(V6)-ROW($S$3))*7+(COLUMN(V6)-COLUMN($S$3)+1)) -> 45736 | W6: =IF(MONTH($S$1)<>MONTH($S$1-(WEEKDAY($S$1,1)-(день_начала-1))-IF((WEEKDAY($S$1,1)-(день_начала-1))<=0,7,0)+(ROW(W6)-ROW($S$3))*7+(COLUMN(W6)-COLUMN($S$3)+1)),"",$S$1-(WEEKDAY($S$1,1)-(день_начала-1))-IF((WEEKDAY($S$1,1)-(день_начала-1))<=0,7,0)+(ROW(W6)-ROW($S$3))*7+(COLUMN(W6)-COLUMN($S$3)+1)) -> 45737 | X6: =IF(MONTH($S$1)<>MONTH($S$1-(WEEKDAY($S$1,1)-(день_начала-1))-IF((WEEKDAY($S$1,1)-(день_начала-1))<=0,7,0)+(ROW(X6)-ROW($S$3))*7+(COLUMN(X6)-COLUMN($S$3)+1)),"",$S$1-(WEEKDAY($S$1,1)-(день_начала-1))-IF((WEEKDAY($S$1,1)-(день_начала-1))<=0,7,0)+(ROW(X6)-ROW($S$3))*7+(COLUMN(X6)-COLUMN($S$3)+1)) -> 45738 | Y6: =IF(MONTH($S$1)<>MONTH($S$1-(WEEKDAY($S$1,1)-(день_начала-1))-IF((WEEKDAY($S$1,1)-(день_начала-1))<=0,7,0)+(ROW(Y6)-ROW($S$3))*7+(COLUMN(Y6)-COLUMN($S$3)+1)),"",$S$1-(WEEKDAY($S$1,1)-(день_начала-1))-IF((WEEKDAY($S$1,1)-(день_начала-1))<=0,7,0)+(ROW(Y6)-ROW($S$3))*7+(COLUMN(Y6)-COLUMN($S$3)+1)) -> 45739
K7: =IF(MONTH($K$1)<>MONTH($K$1-(WEEKDAY($K$1,1)-(день_начала-1))-IF((WEEKDAY($K$1,1)-(день_начала-1))<=0,7,0)+(ROW(K7)-ROW($K$3))*7+(COLUMN(K7)-COLUMN($K$3)+1)),"",$K$1-(WEEKDAY($K$1,1)-(день_начала-1))-IF((WEEKDAY($K$1,1)-(день_начала-1))<=0,7,0)+(ROW(K7)-ROW($K$3))*7+(COLUMN(K7)-COLUMN($K$3)+1)) -> 45684 | L7: =IF(MONTH($K$1)<>MONTH($K$1-(WEEKDAY($K$1,1)-(день_начала-1))-IF((WEEKDAY($K$1,1)-(день_начала-1))<=0,7,0)+(ROW(L7)-ROW($K$3))*7+(COLUMN(L7)-COLUMN($K$3)+1)),"",$K$1-(WEEKDAY($K$1,1)-(день_начала-1))-IF((WEEKDAY($K$1,1)-(день_начала-1))<=0,7,0)+(ROW(L7)-ROW($K$3))*7+(COLUMN(L7)-COLUMN($K$3)+1)) -> 45685 | M7: =IF(MONTH($K$1)<>MONTH($K$1-(WEEKDAY($K$1,1)-(день_начала-1))-IF((WEEKDAY($K$1,1)-(день_начала-1))<=0,7,0)+(ROW(M7)-ROW($K$3))*7+(COLUMN(M7)-COLUMN($K$3)+1)),"",$K$1-(WEEKDAY($K$1,1)-(день_начала-1))-IF((WEEKDAY($K$1,1)-(день_начала-1))<=0,7,0)+(ROW(M7)-ROW($K$3))*7+(COLUMN(M7)-COLUMN($K$3)+1)) -> 45686 | N7: =IF(MONTH($K$1)<>MONTH($K$1-(WEEKDAY($K$1,1)-(день_начала-1))-IF((WEEKDAY($K$1,1)-(день_начала-1))<=0,7,0)+(ROW(N7)-ROW($K$3))*7+(COLUMN(N7)-COLUMN($K$3)+1)),"",$K$1-(WEEKDAY($K$1,1)-(день_начала-1))-IF((WEEKDAY($K$1,1)-(день_начала-1))<=0,7,0)+(ROW(N7)-ROW($K$3))*7+(COLUMN(N7)-COLUMN($K$3)+1)) -> 45687 | O7: =IF(MONTH($K$1)<>MONTH($K$1-(WEEKDAY($K$1,1)-(день_начала-1))-IF((WEEKDAY($K$1,1)-(день_начала-1))<=0,7,0)+(ROW(O7)-ROW($K$3))*7+(COLUMN(O7)-COLUMN($K$3)+1)),"",$K$1-(WEEKDAY($K$1,1)-(день_начала-1))-IF((WEEKDAY($K$1,1)-(день_начала-1))<=0,7,0)+(ROW(O7)-ROW($K$3))*7+(COLUMN(O7)-COLUMN($K$3)+1)) -> 45688 | P7: =IF(MONTH($K$1)<>MONTH($K$1-(WEEKDAY($K$1,1)-(день_начала-1))-IF((WEEKDAY($K$1,1)-(день_начала-1))<=0,7,0)+(ROW(P7)-ROW($K$3))*7+(COLUMN(P7)-COLUMN($K$3)+1)),"",$K$1-(WEEKDAY($K$1,1)-(день_начала-1))-IF((WEEKDAY($K$1,1)-(день_начала-1))<=0,7,0)+(ROW(P7)-ROW($K$3))*7+(COLUMN(P7)-COLUMN($K$3)+1)) | Q7: =IF(MONTH($K$1)<>MONTH($K$1-(WEEKDAY($K$1,1)-(день_начала-1))-IF((WEEKDAY($K$1,1)-(день_начала-1))<=0,7,0)+(ROW(Q7)-ROW($K$3))*7+(COLUMN(Q7)-COLUMN($K$3)+1)),"",$K$1-(WEEKDAY($K$1,1)-(день_начала-1))-IF((WEEKDAY($K$1,1)-(день_начала-1))<=0,7,0)+(ROW(Q7)-ROW($K$3))*7+(COLUMN(Q7)-COLUMN($K$3)+1)) | S7: =IF(MONTH($S$1)<>MONTH($S$1-(WEEKDAY($S$1,1)-(день_начала-1))-IF((WEEKDAY($S$1,1)-(день_начала-1))<=0,7,0)+(ROW(S7)-ROW($S$3))*7+(COLUMN(S7)-COLUMN($S$3)+1)),"",$S$1-(WEEKDAY($S$1,1)-(день_начала-1))-IF((WEEKDAY($S$1,1)-(день_начала-1))<=0,7,0)+(ROW(S7)-ROW($S$3))*7+(COLUMN(S7)-COLUMN($S$3)+1)) -> 45740 | T7: =IF(MONTH($S$1)<>MONTH($S$1-(WEEKDAY($S$1,1)-(день_начала-1))-IF((WEEKDAY($S$1,1)-(день_начала-1))<=0,7,0)+(ROW(T7)-ROW($S$3))*7+(COLUMN(T7)-COLUMN($S$3)+1)),"",$S$1-(WEEKDAY($S$1,1)-(день_начала-1))-IF((WEEKDAY($S$1,1)-(день_начала-1))<=0,7,0)+(ROW(T7)-ROW($S$3))*7+(COLUMN(T7)-COLUMN($S$3)+1)) -> 45741 | U7: =IF(MONTH($S$1)<>MONTH($S$1-(WEEKDAY($S$1,1)-(день_начала-1))-IF((WEEKDAY($S$1,1)-(день_начала-1))<=0,7,0)+(ROW(U7)-ROW($S$3))*7+(COLUMN(U7)-COLUMN($S$3)+1)),"",$S$1-(WEEKDAY($S$1,1)-(день_начала-1))-IF((WEEKDAY($S$1,1)-(день_начала-1))<=0,7,0)+(ROW(U7)-ROW($S$3))*7+(COLUMN(U7)-COLUMN($S$3)+1)) -> 45742 | V7: =IF(MONTH($S$1)<>MONTH($S$1-(WEEKDAY($S$1,1)-(день_начала-1))-IF((WEEKDAY($S$1,1)-(день_начала-1))<=0,7,0)+(ROW(V7)-ROW($S$3))*7+(COLUMN(V7)-COLUMN($S$3)+1)),"",$S$1-(WEEKDAY($S$1,1)-(день_начала-1))-IF((WEEKDAY($S$1,1)-(день_начала-1))<=0,7,0)+(ROW(V7)-ROW($S$3))*7+(COLUMN(V7)-COLUMN($S$3)+1)) -> 45743 | W7: =IF(MONTH($S$1)<>MONTH($S$1-(WEEKDAY($S$1,1)-(день_начала-1))-IF((WEEKDAY($S$1,1)-(день_начала-1))<=0,7,0)+(ROW(W7)-ROW($S$3))*7+(COLUMN(W7)-COLUMN($S$3)+1)),"",$S$1-(WEEKDAY($S$1,1)-(день_начала-1))-IF((WEEKDAY($S$1,1)-(день_начала-1))<=0,7,0)+(ROW(W7)-ROW($S$3))*7+(COLUMN(W7)-COLUMN($S$3)+1)) -> 45744 | X7: =IF(MONTH($S$1)<>MONTH($S$1-(WEEKDAY($S$1,1)-(день_начала-1))-IF((WEEKDAY($S$1,1)-(день_начала-1))<=0,7,0)+(ROW(X7)-ROW($S$3))*7+(COLUMN(X7)-COLUMN($S$3)+1)),"",$S$1-(WEEKDAY($S$1,1)-(день_начала-1))-IF((WEEKDAY($S$1,1)-(день_начала-1))<=0,7,0)+(ROW(X7)-ROW($S$3))*7+(COLUMN(X7)-COLUMN($S$3)+1)) -> 45745 | Y7: =IF(MONTH($S$1)<>MONTH($S$1-(WEEKDAY($S$1,1)-(день_начала-1))-IF((WEEKDAY($S$1,1)-(день_начала-1))<=0,7,0)+(ROW(Y7)-ROW($S$3))*7+(COLUMN(Y7)-COLUMN($S$3)+1)),"",$S$1-(WEEKDAY($S$1,1)-(день_начала-1))-IF((WEEKDAY($S$1,1)-(день_начала-1))<=0,7,0)+(ROW(Y7)-ROW($S$3))*7+(COLUMN(Y7)-COLUMN($S$3)+1)) -> 45746
K8: =IF(MONTH($K$1)<>MONTH($K$1-(WEEKDAY($K$1,1)-(день_начала-1))-IF((WEEKDAY($K$1,1)-(день_начала-1))<=0,7,0)+(ROW(K8)-ROW($K$3))*7+(COLUMN(K8)-COLUMN($K$3)+1)),"",$K$1-(WEEKDAY($K$1,1)-(день_начала-1))-IF((WEEKDAY($K$1,1)-(день_начала-1))<=0,7,0)+(ROW(K8)-ROW($K$3))*7+(COLUMN(K8)-COLUMN($K$3)+1)) | L8: =IF(MONTH($K$1)<>MONTH($K$1-(WEEKDAY($K$1,1)-(день_начала-1))-IF((WEEKDAY($K$1,1)-(день_начала-1))<=0,7,0)+(ROW(L8)-ROW($K$3))*7+(COLUMN(L8)-COLUMN($K$3)+1)),"",$K$1-(WEEKDAY($K$1,1)-(день_начала-1))-IF((WEEKDAY($K$1,1)-(день_начала-1))<=0,7,0)+(ROW(L8)-ROW($K$3))*7+(COLUMN(L8)-COLUMN($K$3)+1)) | M8: =IF(MONTH($K$1)<>MONTH($K$1-(WEEKDAY($K$1,1)-(день_начала-1))-IF((WEEKDAY($K$1,1)-(день_начала-1))<=0,7,0)+(ROW(M8)-ROW($K$3))*7+(COLUMN(M8)-COLUMN($K$3)+1)),"",$K$1-(WEEKDAY($K$1,1)-(день_начала-1))-IF((WEEKDAY($K$1,1)-(день_начала-1))<=0,7,0)+(ROW(M8)-ROW($K$3))*7+(COLUMN(M8)-COLUMN($K$3)+1)) | N8: =IF(MONTH($K$1)<>MONTH($K$1-(WEEKDAY($K$1,1)-(день_начала-1))-IF((WEEKDAY($K$1,1)-(день_начала-1))<=0,7,0)+(ROW(N8)-ROW($K$3))*7+(COLUMN(N8)-COLUMN($K$3)+1)),"",$K$1-(WEEKDAY($K$1,1)-(день_начала-1))-IF((WEEKDAY($K$1,1)-(день_начала-1))<=0,7,0)+(ROW(N8)-ROW($K$3))*7+(COLUMN(N8)-COLUMN($K$3)+1)) | O8: =IF(MONTH($K$1)<>MONTH($K$1-(WEEKDAY($K$1,1)-(день_начала-1))-IF((WEEKDAY($K$1,1)-(день_начала-1))<=0,7,0)+(ROW(O8)-ROW($K$3))*7+(COLUMN(O8)-COLUMN($K$3)+1)),"",$K$1-(WEEKDAY($K$1,1)-(день_начала-1))-IF((WEEKDAY($K$1,1)-(день_начала-1))<=0,7,0)+(ROW(O8)-ROW($K$3))*7+(COLUMN(O8)-COLUMN($K$3)+1)) | P8: =IF(MONTH($K$1)<>MONTH($K$1-(WEEKDAY($K$1,1)-(день_начала-1))-IF((WEEKDAY($K$1,1)-(день_начала-1))<=0,7,0)+(ROW(P8)-ROW($K$3))*7+(COLUMN(P8)-COLUMN($K$3)+1)),"",$K$1-(WEEKDAY($K$1,1)-(день_начала-1))-IF((WEEKDAY($K$1,1)-(день_начала-1))<=0,7,0)+(ROW(P8)-ROW($K$3))*7+(COLUMN(P8)-COLUMN($K$3)+1)) | Q8: =IF(MONTH($K$1)<>MONTH($K$1-(WEEKDAY($K$1,1)-(день_начала-1))-IF((WEEKDAY($K$1,1)-(день_начала-1))<=0,7,0)+(ROW(Q8)-ROW($K$3))*7+(COLUMN(Q8)-COLUMN($K$3)+1)),"",$K$1-(WEEKDAY($K$1,1)-(день_начала-1))-IF((WEEKDAY($K$1,1)-(день_начала-1))<=0,7,0)+(ROW(Q8)-ROW($K$3))*7+(COLUMN(Q8)-COLUMN($K$3)+1)) | S8: =IF(MONTH($S$1)<>MONTH($S$1-(WEEKDAY($S$1,1)-(день_начала-1))-IF((WEEKDAY($S$1,1)-(день_начала-1))<=0,7,0)+(ROW(S8)-ROW($S$3))*7+(COLUMN(S8)-COLUMN($S$3)+1)),"",$S$1-(WEEKDAY($S$1,1)-(день_начала-1))-IF((WEEKDAY($S$1,1)-(день_начала-1))<=0,7,0)+(ROW(S8)-ROW($S$3))*7+(COLUMN(S8)-COLUMN($S$3)+1)) -> 45747 | T8: =IF(MONTH($S$1)<>MONTH($S$1-(WEEKDAY($S$1,1)-(день_начала-1))-IF((WEEKDAY($S$1,1)-(день_начала-1))<=0,7,0)+(ROW(T8)-ROW($S$3))*7+(COLUMN(T8)-COLUMN($S$3)+1)),"",$S$1-(WEEKDAY($S$1,1)-(день_начала-1))-IF((WEEKDAY($S$1,1)-(день_начала-1))<=0,7,0)+(ROW(T8)-ROW($S$3))*7+(COLUMN(T8)-COLUMN($S$3)+1)) | U8: =IF(MONTH($S$1)<>MONTH($S$1-(WEEKDAY($S$1,1)-(день_начала-1))-IF((WEEKDAY($S$1,1)-(день_начала-1))<=0,7,0)+(ROW(U8)-ROW($S$3))*7+(COLUMN(U8)-COLUMN($S$3)+1)),"",$S$1-(WEEKDAY($S$1,1)-(день_начала-1))-IF((WEEKDAY($S$1,1)-(день_начала-1))<=0,7,0)+(ROW(U8)-ROW($S$3))*7+(COLUMN(U8)-COLUMN($S$3)+1)) | V8: =IF(MONTH($S$1)<>MONTH($S$1-(WEEKDAY($S$1,1)-(день_начала-1))-IF((WEEKDAY($S$1,1)-(день_начала-1))<=0,7,0)+(ROW(V8)-ROW($S$3))*7+(COLUMN(V8)-COLUMN($S$3)+1)),"",$S$1-(WEEKDAY($S$1,1)-(день_начала-1))-IF((WEEKDAY($S$1,1)-(день_начала-1))<=0,7,0)+(ROW(V8)-ROW($S$3))*7+(COLUMN(V8)-COLUMN($S$3)+1)) | W8: =IF(MONTH($S$1)<>MONTH($S$1-(WEEKDAY($S$1,1)-(день_начала-1))-IF((WEEKDAY($S$1,1)-(день_начала-1))<=0,7,0)+(ROW(W8)-ROW($S$3))*7+(COLUMN(W8)-COLUMN($S$3)+1)),"",$S$1-(WEEKDAY($S$1,1)-(день_начала-1))-IF((WEEKDAY($S$1,1)-(день_начала-1))<=0,7,0)+(ROW(W8)-ROW($S$3))*7+(COLUMN(W8)-COLUMN($S$3)+1)) | X8: =IF(MONTH($S$1)<>MONTH($S$1-(WEEKDAY($S$1,1)-(день_начала-1))-IF((WEEKDAY($S$1,1)-(день_начала-1))<=0,7,0)+(ROW(X8)-ROW($S$3))*7+(COLUMN(X8)-COLUMN($S$3)+1)),"",$S$1-(WEEKDAY($S$1,1)-(день_начала-1))-IF((WEEKDAY($S$1,1)-(день_начала-1))<=0,7,0)+(ROW(X8)-ROW($S$3))*7+(COLUMN(X8)-COLUMN($S$3)+1)) | Y8: =IF(MONTH($S$1)<>MONTH($S$1-(WEEKDAY($S$1,1)-(день_начала-1))-IF((WEEKDAY($S$1,1)-(день_начала-1))<=0,7,0)+(ROW(Y8)-ROW($S$3))*7+(COLUMN(Y8)-COLUMN($S$3)+1)),"",$S$1-(WEEKDAY($S$1,1)-(день_начала-1))-IF((WEEKDAY($S$1,1)-(день_начала-1))<=0,7,0)+(ROW(Y8)-ROW($S$3))*7+(COLUMN(Y8)-COLUMN($S$3)+1))
A9: =A10 -> 45684 | C9: =C10 -> 45685 | E9: =E10 -> 45686 | G9: =G10 -> 45687 | I9: =I10 -> 45688 | K9: =K10 -> 45689 | S9: =S10 -> 45690
A10: =$A$1-(WEEKDAY($A$1,1)-(день_начала-1))-IF((WEEKDAY($A$1,1)-(день_начала-1))<=0,7,0)+1 -> 45684 | C10: =A10+1 -> 45685 | E10: =C10+1 -> 45686 | G10: =E10+1 -> 45687 | I10: =G10+1 -> 45688 | K10: =I10+1 -> 45689 | S10: =K10+1 -> 45690
A16: =S10+1 -> 45691 | C16: =A16+1 -> 45692 | E16: =C16+1 -> 45693 | G16: =E16+1 -> 45694 | I16: =G16+1 -> 45695 | K16: =I16+1 -> 45696 | S16: =K16+1 -> 45697
A22: =S16+1 -> 45698 | C22: =A22+1 -> 45699 | E22: =C22+1 -> 45700 | G22: =E22+1 -> 45701 | I22: =G22+1 -> 45702 | K22: =I22+1 -> 45703 | S22: =K22+1 -> 45704
A28: =S22+1 -> 45705 | C28: =A28+1 -> 45706 | E28: =C28+1 -> 45707 | G28: =E28+1 -> 45708 | I28: =G28+1 -> 45709 | K28: =I28+1 -> 45710 | S28: =K28+1 -> 45711
A34: =S28+1 -> 45712 | C34: =A34+1 -> 45713 | E34: =C34+1 -> 45714 | G34: =E34+1 -> 45715 | I34: =G34+1 -> 45716 | K34: =I34+1 -> 45717 | S34: =K34+1 -> 45718
A40: =S34+1 -> 45719 | C40: =A40+1 -> 45720 | E40: Примечания

Sheet 3
A1: =DATE(Настройка!D5,Настройка!D7+2,1) -> 45717 | K1: =DATE(YEAR(A1),MONTH(A1)-1,1) -> 45689 | S1: =DATE(YEAR(A1),MONTH(A1)+1,1) -> 45748
K2: =INDEX({"Вс";"Пн";"Вт";"Ср";"Чт";"Пт";"Сб"},1+MOD(день_начала+1-2,7)) -> Пн | L2: =INDEX({"Вс";"Пн";"Вт";"Ср";"Чт";"Пт";"Сб"},1+MOD(день_начала+2-2,7)) -> Вт | M2: =INDEX({"Вс";"Пн";"Вт";"Ср";"Чт";"Пт";"Сб"},1+MOD(день_начала+3-2,7)) -> Ср | N2: =INDEX({"Вс";"Пн";"Вт";"Ср";"Чт";"Пт";"Сб"},1+MOD(день_начала+4-2,7)) -> Чт | O2: =INDEX({"Вс";"Пн";"Вт";"Ср";"Чт";"Пт";"Сб"},1+MOD(день_начала+5-2,7)) -> Пт | P2: =INDEX({"Вс";"Пн";"Вт";"Ср";"Чт";"Пт";"Сб"},1+MOD(день_начала+6-2,7)) -> Сб | Q2: =INDEX({"Вс";"Пн";"Вт";"Ср";"Чт";"Пт";"Сб"},1+MOD(день_начала+7-2,7)) -> Вс | S2: =INDEX({"Вс";"Пн";"Вт";"Ср";"Чт";"Пт";"Сб"},1+MOD(день_начала+1-2,7)) -> Пн | T2: =INDEX({"Вс";"Пн";"Вт";"Ср";"Чт";"Пт";"Сб"},1+MOD(день_начала+2-2,7)) -> Вт | U2: =INDEX({"Вс";"Пн";"Вт";"Ср";"Чт";"Пт";"Сб"},1+MOD(день_начала+3-2,7)) -> Ср | V2: =INDEX({"Вс";"Пн";"Вт";"Ср";"Чт";"Пт";"Сб"},1+MOD(день_начала+4-2,7)) -> Чт | W2: =INDEX({"Вс";"Пн";"Вт";"Ср";"Чт";"Пт";"Сб"},1+MOD(день_начала+5-2,7)) -> Пт | X2: =INDEX({"Вс";"Пн";"Вт";"Ср";"Чт";"Пт";"Сб"},1+MOD(день_начала+6-2,7)) -> Сб | Y2: =INDEX({"Вс";"Пн";"Вт";"Ср";"Чт";"Пт";"Сб"},1+MOD(день_начала+7-2,7)) -> Вс
K3: =IF(MONTH($K$1)<>MONTH($K$1-(WEEKDAY($K$1,1)-(день_начала-1))-IF((WEEKDAY($K$1,1)-(день_начала-1))<=0,7,0)+(ROW(K3)-ROW($K$3))*7+(COLUMN(K3)-COLUMN($K$3)+1)),"",$K$1-(WEEKDAY($K$1,1)-(день_начала-1))-IF((WEEKDAY($K$1,1)-(день_начала-1))<=0,7,0)+(ROW(K3)-ROW($K$3))*7+(COLUMN(K3)-COLUMN($K$3)+1)) | L3: =IF(MONTH($K$1)<>MONTH($K$1-(WEEKDAY($K$1,1)-(день_начала-1))-IF((WEEKDAY($K$1,1)-(день_начала-1))<=0,7,0)+(ROW(L3)-ROW($K$3))*7+(COLUMN(L3)-COLUMN($K$3)+1)),"",$K$1-(WEEKDAY($K$1,1)-(день_начала-1))-IF((WEEKDAY($K$1,1)-(день_начала-1))<=0,7,0)+(ROW(L3)-ROW($K$3))*7+(COLUMN(L3)-COLUMN($K$3)+1)) | M3: =IF(MONTH($K$1)<>MONTH($K$1-(WEEKDAY($K$1,1)-(день_начала-1))-IF((WEEKDAY($K$1,1)-(день_начала-1))<=0,7,0)+(ROW(M3)-ROW($K$3))*7+(COLUMN(M3)-COLUMN($K$3)+1)),"",$K$1-(WEEKDAY($K$1,1)-(день_начала-1))-IF((WEEKDAY($K$1,1)-(день_начала-1))<=0,7,0)+(ROW(M3)-ROW($K$3))*7+(COLUMN(M3)-COLUMN($K$3)+1)) | N3: =IF(MONTH($K$1)<>MONTH($K$1-(WEEKDAY($K$1,1)-(день_начала-1))-IF((WEEKDAY($K$1,1)-(день_начала-1))<=0,7,0)+(ROW(N3)-ROW($K$3))*7+(COLUMN(N3)-COLUMN($K$3)+1)),"",$K$1-(WEEKDAY($K$1,1)-(день_начала-1))-IF((WEEKDAY($K$1,1)-(день_начала-1))<=0,7,0)+(ROW(N3)-ROW($K$3))*7+(COLUMN(N3)-COLUMN($K$3)+1)) | O3: =IF(MONTH($K$1)<>MONTH($K$1-(WEEKDAY($K$1,1)-(день_начала-1))-IF((WEEKDAY($K$1,1)-(день_начала-1))<=0,7,0)+(ROW(O3)-ROW($K$3))*7+(COLUMN(O3)-COLUMN($K$3)+1)),"",$K$1-(WEEKDAY($K$1,1)-(день_начала-1))-IF((WEEKDAY($K$1,1)-(день_начала-1))<=0,7,0)+(ROW(O3)-ROW($K$3))*7+(COLUMN(O3)-COLUMN($K$3)+1)) | P3: =IF(MONTH($K$1)<>MONTH($K$1-(WEEKDAY($K$1,1)-(день_начала-1))-IF((WEEKDAY($K$1,1)-(день_начала-1))<=0,7,0)+(ROW(P3)-ROW($K$3))*7+(COLUMN(P3)-COLUMN($K$3)+1)),"",$K$1-(WEEKDAY($K$1,1)-(день_начала-1))-IF((WEEKDAY($K$1,1)-(день_начала-1))<=0,7,0)+(ROW(P3)-ROW($K$3))*7+(COLUMN(P3)-COLUMN($K$3)+1)) -> 45689 | Q3: =IF(MONTH($K$1)<>MONTH($K$1-(WEEKDAY($K$1,1)-(день_начала-1))-IF((WEEKDAY($K$1,1)-(день_начала-1))<=0,7,0)+(ROW(Q3)-ROW($K$3))*7+(COLUMN(Q3)-COLUMN($K$3)+1)),"",$K$1-(WEEKDAY($K$1,1)-(день_начала-1))-IF((WEEKDAY($K$1,1)-(день_начала-1))<=0,7,0)+(ROW(Q3)-ROW($K$3))*7+(COLUMN(Q3)-COLUMN($K$3)+1)) -> 45690 | S3: =IF(MONTH($S$1)<>MONTH($S$1-(WEEKDAY($S$1,1)-(день_начала-1))-IF((WEEKDAY($S$1,1)-(день_начала-1))<=0,7,0)+(ROW(S3)-ROW($S$3))*7+(COLUMN(S3)-COLUMN($S$3)+1)),"",$S$1-(WEEKDAY($S$1,1)-(день_начала-1))-IF((WEEKDAY($S$1,1)-(день_начала-1))<=0,7,0)+(ROW(S3)-ROW($S$3))*7+(COLUMN(S3)-COLUMN($S$3)+1)) | T3: =IF(MONTH($S$1)<>MONTH($S$1-(WEEKDAY($S$1,1)-(день_начала-1))-IF((WEEKDAY($S$1,1)-(день_начала-1))<=0,7,0)+(ROW(T3)-ROW($S$3))*7+(COLUMN(T3)-COLUMN($S$3)+1)),"",$S$1-(WEEKDAY($S$1,1)-(день_начала-1))-IF((WEEKDAY($S$1,1)-(день_начала-1))<=0,7,0)+(ROW(T3)-ROW($S$3))*7+(COLUMN(T3)-COLUMN($S$3)+1)) -> 45748 | U3: =IF(MONTH($S$1)<>MONTH($S$1-(WEEKDAY($S$1,1)-(день_начала-1))-IF((WEEKDAY($S$1,1)-(день_начала-1))<=0,7,0)+(ROW(U3)-ROW($S$3))*7+(COLUMN(U3)-COLUMN($S$3)+1)),"",$S$1-(WEEKDAY($S$1,1)-(день_начала-1))-IF((WEEKDAY($S$1,1)-(день_начала-1))<=0,7,0)+(ROW(U3)-ROW($S$3))*7+(COLUMN(U3)-COLUMN($S$3)+1)) -> 45749 | V3: =IF(MONTH($S$1)<>MONTH($S$1-(WEEKDAY($S$1,1)-(день_начала-1))-IF((WEEKDAY($S$1,1)-(день_начала-1))<=0,7,0)+(ROW(V3)-ROW($S$3))*7+(COLUMN(V3)-COLUMN($S$3)+1)),"",$S$1-(WEEKDAY($S$1,1)-(день_начала-1))-IF((WEEKDAY($S$1,1)-(день_начала-1))<=0,7,0)+(ROW(V3)-ROW($S$3))*7+(COLUMN(V3)-COLUMN($S$3)+1)) -> 45750 | W3: =IF(MONTH($S$1)<>MONTH($S$1-(WEEKDAY($S$1,1)-(день_начала-1))-IF((WEEKDAY($S$1,1)-(день_начала-1))<=0,7,0)+(ROW(W3)-ROW($S$3))*7+(COLUMN(W3)-COLUMN($S$3)+1)),"",$S$1-(WEEKDAY($S$1,1)-(день_начала-1))-IF((WEEKDAY($S$1,1)-(день_начала-1))<=0,7,0)+(ROW(W3)-ROW($S$3))*7+(COLUMN(W3)-COLUMN($S$3)+1)) -> 45751 | X3: =IF(MONTH($S$1)<>MONTH($S$1-(WEEKDAY($S$1,1)-(день_начала-1))-IF((WEEKDAY($S$1,1)-(день_начала-1))<=0,7,0)+(ROW(X3)-ROW($S$3))*7+(COLUMN(X3)-COLUMN($S$3)+1)),"",$S$1-(WEEKDAY($S$1,1)-(день_начала-1))-IF((WEEKDAY($S$1,1)-(день_начала-1))<=0,7,0)+(ROW(X3)-ROW($S$3))*7+(COLUMN(X3)-COLUMN($S$3)+1)) -> 45752 | Y3: =IF(MONTH($S$1)<>MONTH($S$1-(WEEKDAY($S$1,1)-(день_начала-1))-IF((WEEKDAY($S$1,1)-(день_начала-1))<=0,7,0)+(ROW(Y3)-ROW($S$3))*7+(COLUMN(Y3)-COLUMN($S$3)+1)),"",$S$1-(WEEKDAY($S$1,1)-(день_начала-1))-IF((WEEKDAY($S$1,1)-(день_начала-1))<=0,7,0)+(ROW(Y3)-ROW($S$3))*7+(COLUMN(Y3)-COLUMN($S$3)+1)) -> 45753
K4: =IF(MONTH($K$1)<>MONTH($K$1-(WEEKDAY($K$1,1)-(день_начала-1))-IF((WEEKDAY($K$1,1)-(день_начала-1))<=0,7,0)+(ROW(K4)-ROW($K$3))*7+(COLUMN(K4)-COLUMN($K$3)+1)),"",$K$1-(WEEKDAY($K$1,1)-(день_начала-1))-IF((WEEKDAY($K$1,1)-(день_начала-1))<=0,7,0)+(ROW(K4)-ROW($K$3))*7+(COLUMN(K4)-COLUMN($K$3)+1)) -> 45691 | L4: =IF(MONTH($K$1)<>MONTH($K$1-(WEEKDAY($K$1,1)-(день_начала-1))-IF((WEEKDAY($K$1,1)-(день_начала-1))<=0,7,0)+(ROW(L4)-ROW($K$3))*7+(COLUMN(L4)-COLUMN($K$3)+1)),"",$K$1-(WEEKDAY($K$1,1)-(день_начала-1))-IF((WEEKDAY($K$1,1)-(день_начала-1))<=0,7,0)+(ROW(L4)-ROW($K$3))*7+(COLUMN(L4)-COLUMN($K$3)+1)) -> 45692 | M4: =IF(MONTH($K$1)<>MONTH($K$1-(WEEKDAY($K$1,1)-(день_начала-1))-IF((WEEKDAY($K$1,1)-(день_начала-1))<=0,7,0)+(ROW(M4)-ROW($K$3))*7+(COLUMN(M4)-COLUMN($K$3)+1)),"",$K$1-(WEEKDAY($K$1,1)-(день_начала-1))-IF((WEEKDAY($K$1,1)-(день_начала-1))<=0,7,0)+(ROW(M4)-ROW($K$3))*7+(COLUMN(M4)-COLUMN($K$3)+1)) -> 45693 | N4: =IF(MONTH($K$1)<>MONTH($K$1-(WEEKDAY($K$1,1)-(день_начала-1))-IF((WEEKDAY($K$1,1)-(день_начала-1))<=0,7,0)+(ROW(N4)-ROW($K$3))*7+(COLUMN(N4)-COLUMN($K$3)+1)),"",$K$1-(WEEKDAY($K$1,1)-(день_начала-1))-IF((WEEKDAY($K$1,1)-(день_начала-1))<=0,7,0)+(ROW(N4)-ROW($K$3))*7+(COLUMN(N4)-COLUMN($K$3)+1)) -> 45694 | O4: =IF(MONTH($K$1)<>MONTH($K$1-(WEEKDAY($K$1,1)-(день_начала-1))-IF((WEEKDAY($K$1,1)-(день_начала-1))<=0,7,0)+(ROW(O4)-ROW($K$3))*7+(COLUMN(O4)-COLUMN($K$3)+1)),"",$K$1-(WEEKDAY($K$1,1)-(день_начала-1))-IF((WEEKDAY($K$1,1)-(день_начала-1))<=0,7,0)+(ROW(O4)-ROW($K$3))*7+(COLUMN(O4)-COLUMN($K$3)+1)) -> 45695 | P4: =IF(MONTH($K$1)<>MONTH($K$1-(WEEKDAY($K$1,1)-(день_начала-1))-IF((WEEKDAY($K$1,1)-(день_начала-1))<=0,7,0)+(ROW(P4)-ROW($K$3))*7+(COLUMN(P4)-COLUMN($K$3)+1)),"",$K$1-(WEEKDAY($K$1,1)-(день_начала-1))-IF((WEEKDAY($K$1,1)-(день_начала-1))<=0,7,0)+(ROW(P4)-ROW($K$3))*7+(COLUMN(P4)-COLUMN($K$3)+1)) -> 45696 | Q4: =IF(MONTH($K$1)<>MONTH($K$1-(WEEKDAY($K$1,1)-(день_начала-1))-IF((WEEKDAY($K$1,1)-(день_начала-1))<=0,7,0)+(ROW(Q4)-ROW($K$3))*7+(COLUMN(Q4)-COLUMN($K$3)+1)),"",$K$1-(WEEKDAY($K$1,1)-(день_начала-1))-IF((WEEKDAY($K$1,1)-(день_начала-1))<=0,7,0)+(ROW(Q4)-ROW($K$3))*7+(COLUMN(Q4)-COLUMN($K$3)+1)) -> 45697 | S4: =IF(MONTH($S$1)<>MONTH($S$1-(WEEKDAY($S$1,1)-(день_начала-1))-IF((WEEKDAY($S$1,1)-(день_начала-1))<=0,7,0)+(ROW(S4)-ROW($S$3))*7+(COLUMN(S4)-COLUMN($S$3)+1)),"",$S$1-(WEEKDAY($S$1,1)-(день_начала-1))-IF((WEEKDAY($S$1,1)-(день_начала-1))<=0,7,0)+(ROW(S4)-ROW($S$3))*7+(COLUMN(S4)-COLUMN($S$3)+1)) -> 45754 | T4: =IF(MONTH($S$1)<>MONTH($S$1-(WEEKDAY($S$1,1)-(день_начала-1))-IF((WEEKDAY($S$1,1)-(день_начала-1))<=0,7,0)+(ROW(T4)-ROW($S$3))*7+(COLUMN(T4)-COLUMN($S$3)+1)),"",$S$1-(WEEKDAY($S$1,1)-(день_начала-1))-IF((WEEKDAY($S$1,1)-(день_начала-1))<=0,7,0)+(ROW(T4)-ROW($S$3))*7+(COLUMN(T4)-COLUMN($S$3)+1)) -> 45755 | U4: =IF(MONTH($S$1)<>MONTH($S$1-(WEEKDAY($S$1,1)-(день_начала-1))-IF((WEEKDAY($S$1,1)-(день_начала-1))<=0,7,0)+(ROW(U4)-ROW($S$3))*7+(COLUMN(U4)-COLUMN($S$3)+1)),"",$S$1-(WEEKDAY($S$1,1)-(день_начала-1))-IF((WEEKDAY($S$1,1)-(день_начала-1))<=0,7,0)+(ROW(U4)-ROW($S$3))*7+(COLUMN(U4)-COLUMN($S$3)+1)) -> 45756 | V4: =IF(MONTH($S$1)<>MONTH($S$1-(WEEKDAY($S$1,1)-(день_начала-1))-IF((WEEKDAY($S$1,1)-(день_начала-1))<=0,7,0)+(ROW(V4)-ROW($S$3))*7+(COLUMN(V4)-COLUMN($S$3)+1)),"",$S$1-(WEEKDAY($S$1,1)-(день_начала-1))-IF((WEEKDAY($S$1,1)-(день_начала-1))<=0,7,0)+(ROW(V4)-ROW($S$3))*7+(COLUMN(V4)-COLUMN($S$3)+1)) -> 45757 | W4: =IF(MONTH($S$1)<>MONTH($S$1-(WEEKDAY($S$1,1)-(день_начала-1))-IF((WEEKDAY($S$1,1)-(день_начала-1))<=0,7,0)+(ROW(W4)-ROW($S$3))*7+(COLUMN(W4)-COLUMN($S$3)+1)),"",$S$1-(WEEKDAY($S$1,1)-(день_начала-1))-IF((WEEKDAY($S$1,1)-(день_начала-1))<=0,7,0)+(ROW(W4)-ROW($S$3))*7+(COLUMN(W4)-COLUMN($S$3)+1)) -> 45758 | X4: =IF(MONTH($S$1)<>MONTH($S$1-(WEEKDAY($S$1,1)-(день_начала-1))-IF((WEEKDAY($S$1,1)-(день_начала-1))<=0,7,0)+(ROW(X4)-ROW($S$3))*7+(COLUMN(X4)-COLUMN($S$3)+1)),"",$S$1-(WEEKDAY($S$1,1)-(день_начала-1))-IF((WEEKDAY($S$1,1)-(день_начала-1))<=0,7,0)+(ROW(X4)-ROW($S$3))*7+(COLUMN(X4)-COLUMN($S$3)+1)) -> 45759 | Y4: =IF(MONTH($S$1)<>MONTH($S$1-(WEEKDAY($S$1,1)-(день_начала-1))-IF((WEEKDAY($S$1,1)-(день_начала-1))<=0,7,0)+(ROW(Y4)-ROW($S$3))*7+(COLUMN(Y4)-COLUMN($S$3)+1)),"",$S$1-(WEEKDAY($S$1,1)-(день_начала-1))-IF((WEEKDAY($S$1,1)-(день_начала-1))<=0,7,0)+(ROW(Y4)-ROW($S$3))*7+(COLUMN(Y4)-COLUMN($S$3)+1)) -> 45760
K5: =IF(MONTH($K$1)<>MONTH($K$1-(WEEKDAY($K$1,1)-(день_начала-1))-IF((WEEKDAY($K$1,1)-(день_начала-1))<=0,7,0)+(ROW(K5)-ROW($K$3))*7+(COLUMN(K5)-COLUMN($K$3)+1)),"",$K$1-(WEEKDAY($K$1,1)-(день_начала-1))-IF((WEEKDAY($K$1,1)-(день_начала-1))<=0,7,0)+(ROW(K5)-ROW($K$3))*7+(COLUMN(K5)-COLUMN($K$3)+1)) -> 45698 | L5: =IF(MONTH($K$1)<>MONTH($K$1-(WEEKDAY($K$1,1)-(день_начала-1))-IF((WEEKDAY($K$1,1)-(день_начала-1))<=0,7,0)+(ROW(L5)-ROW($K$3))*7+(COLUMN(L5)-COLUMN($K$3)+1)),"",$K$1-(WEEKDAY($K$1,1)-(день_начала-1))-IF((WEEKDAY($K$1,1)-(день_начала-1))<=0,7,0)+(ROW(L5)-ROW($K$3))*7+(COLUMN(L5)-COLUMN($K$3)+1)) -> 45699 | M5: =IF(MONTH($K$1)<>MONTH($K$1-(WEEKDAY($K$1,1)-(день_начала-1))-IF((WEEKDAY($K$1,1)-(день_начала-1))<=0,7,0)+(ROW(M5)-ROW($K$3))*7+(COLUMN(M5)-COLUMN($K$3)+1)),"",$K$1-(WEEKDAY($K$1,1)-(день_начала-1))-IF((WEEKDAY($K$1,1)-(день_начала-1))<=0,7,0)+(ROW(M5)-ROW($K$3))*7+(COLUMN(M5)-COLUMN($K$3)+1)) -> 45700 | N5: =IF(MONTH($K$1)<>MONTH($K$1-(WEEKDAY($K$1,1)-(день_начала-1))-IF((WEEKDAY($K$1,1)-(день_начала-1))<=0,7,0)+(ROW(N5)-ROW($K$3))*7+(COLUMN(N5)-COLUMN($K$3)+1)),"",$K$1-(WEEKDAY($K$1,1)-(день_начала-1))-IF((WEEKDAY($K$1,1)-(день_начала-1))<=0,7,0)+(ROW(N5)-ROW($K$3))*7+(COLUMN(N5)-COLUMN($K$3)+1)) -> 45701 | O5: =IF(MONTH($K$1)<>MONTH($K$1-(WEEKDAY($K$1,1)-(день_начала-1))-IF((WEEKDAY($K$1,1)-(день_начала-1))<=0,7,0)+(ROW(O5)-ROW($K$3))*7+(COLUMN(O5)-COLUMN($K$3)+1)),"",$K$1-(WEEKDAY($K$1,1)-(день_начала-1))-IF((WEEKDAY($K$1,1)-(день_начала-1))<=0,7,0)+(ROW(O5)-ROW($K$3))*7+(COLUMN(O5)-COLUMN($K$3)+1)) -> 45702 | P5: =IF(MONTH($K$1)<>MONTH($K$1-(WEEKDAY($K$1,1)-(день_начала-1))-IF((WEEKDAY($K$1,1)-(день_начала-1))<=0,7,0)+(ROW(P5)-ROW($K$3))*7+(COLUMN(P5)-COLUMN($K$3)+1)),"",$K$1-(WEEKDAY($K$1,1)-(день_начала-1))-IF((WEEKDAY($K$1,1)-(день_начала-1))<=0,7,0)+(ROW(P5)-ROW($K$3))*7+(COLUMN(P5)-COLUMN($K$3)+1)) -> 45703 | Q5: =IF(MONTH($K$1)<>MONTH($K$1-(WEEKDAY($K$1,1)-(день_начала-1))-IF((WEEKDAY($K$1,1)-(день_начала-1))<=0,7,0)+(ROW(Q5)-ROW($K$3))*7+(COLUMN(Q5)-COLUMN($K$3)+1)),"",$K$1-(WEEKDAY($K$1,1)-(день_начала-1))-IF((WEEKDAY($K$1,1)-(день_начала-1))<=0,7,0)+(ROW(Q5)-ROW($K$3))*7+(COLUMN(Q5)-COLUMN($K$3)+1)) -> 45704 | S5: =IF(MONTH($S$1)<>MONTH($S$1-(WEEKDAY($S$1,1)-(день_начала-1))-IF((WEEKDAY($S$1,1)-(день_начала-1))<=0,7,0)+(ROW(S5)-ROW($S$3))*7+(COLUMN(S5)-COLUMN($S$3)+1)),"",$S$1-(WEEKDAY($S$1,1)-(день_начала-1))-IF((WEEKDAY($S$1,1)-(день_начала-1))<=0,7,0)+(ROW(S5)-ROW($S$3))*7+(COLUMN(S5)-COLUMN($S$3)+1)) -> 45761 | T5: =IF(MONTH($S$1)<>MONTH($S$1-(WEEKDAY($S$1,1)-(день_начала-1))-IF((WEEKDAY($S$1,1)-(день_начала-1))<=0,7,0)+(ROW(T5)-ROW($S$3))*7+(COLUMN(T5)-COLUMN($S$3)+1)),"",$S$1-(WEEKDAY($S$1,1)-(день_начала-1))-IF((WEEKDAY($S$1,1)-(день_начала-1))<=0,7,0)+(ROW(T5)-ROW($S$3))*7+(COLUMN(T5)-COLUMN($S$3)+1)) -> 45762 | U5: =IF(MONTH($S$1)<>MONTH($S$1-(WEEKDAY($S$1,1)-(день_начала-1))-IF((WEEKDAY($S$1,1)-(день_начала-1))<=0,7,0)+(ROW(U5)-ROW($S$3))*7+(COLUMN(U5)-COLUMN($S$3)+1)),"",$S$1-(WEEKDAY($S$1,1)-(день_начала-1))-IF((WEEKDAY($S$1,1)-(день_начала-1))<=0,7,0)+(ROW(U5)-ROW($S$3))*7+(COLUMN(U5)-COLUMN($S$3)+1)) -> 45763 | V5: =IF(MONTH($S$1)<>MONTH($S$1-(WEEKDAY($S$1,1)-(день_начала-1))-IF((WEEKDAY($S$1,1)-(день_начала-1))<=0,7,0)+(ROW(V5)-ROW($S$3))*7+(COLUMN(V5)-COLUMN($S$3)+1)),"",$S$1-(WEEKDAY($S$1,1)-(день_начала-1))-IF((WEEKDAY($S$1,1)-(день_начала-1))<=0,7,0)+(ROW(V5)-ROW($S$3))*7+(COLUMN(V5)-COLUMN($S$3)+1)) -> 45764 | W5: =IF(MONTH($S$1)<>MONTH($S$1-(WEEKDAY($S$1,1)-(день_начала-1))-IF((WEEKDAY($S$1,1)-(день_начала-1))<=0,7,0)+(ROW(W5)-ROW($S$3))*7+(COLUMN(W5)-COLUMN($S$3)+1)),"",$S$1-(WEEKDAY($S$1,1)-(день_начала-1))-IF((WEEKDAY($S$1,1)-(день_начала-1))<=0,7,0)+(ROW(W5)-ROW($S$3))*7+(COLUMN(W5)-COLUMN($S$3)+1)) -> 45765 | X5: =IF(MONTH($S$1)<>MONTH($S$1-(WEEKDAY($S$1,1)-(день_начала-1))-IF((WEEKDAY($S$1,1)-(день_начала-1))<=0,7,0)+(ROW(X5)-ROW($S$3))*7+(COLUMN(X5)-COLUMN($S$3)+1)),"",$S$1-(WEEKDAY($S$1,1)-(день_начала-1))-IF((WEEKDAY($S$1,1)-(день_начала-1))<=0,7,0)+(ROW(X5)-ROW($S$3))*7+(COLUMN(X5)-COLUMN($S$3)+1)) -> 45766 | Y5: =IF(MONTH($S$1)<>MONTH($S$1-(WEEKDAY($S$1,1)-(день_начала-1))-IF((WEEKDAY($S$1,1)-(день_начала-1))<=0,7,0)+(ROW(Y5)-ROW($S$3))*7+(COLUMN(Y5)-COLUMN($S$3)+1)),"",$S$1-(WEEKDAY($S$1,1)-(день_начала-1))-IF((WEEKDAY($S$1,1)-(день_начала-1))<=0,7,0)+(ROW(Y5)-ROW($S$3))*7+(COLUMN(Y5)-COLUMN($S$3)+1)) -> 45767
K6: =IF(MONTH($K$1)<>MONTH($K$1-(WEEKDAY($K$1,1)-(день_начала-1))-IF((WEEKDAY($K$1,1)-(день_начала-1))<=0,7,0)+(ROW(K6)-ROW($K$3))*7+(COLUMN(K6)-COLUMN($K$3)+1)),"",$K$1-(WEEKDAY($K$1,1)-(день_начала-1))-IF((WEEKDAY($K$1,1)-(день_начала-1))<=0,7,0)+(ROW(K6)-ROW($K$3))*7+(COLUMN(K6)-COLUMN($K$3)+1)) -> 45705 | L6: =IF(MONTH($K$1)<>MONTH($K$1-(WEEKDAY($K$1,1)-(день_начала-1))-IF((WEEKDAY($K$1,1)-(день_начала-1))<=0,7,0)+(ROW(L6)-ROW($K$3))*7+(COLUMN(L6)-COLUMN($K$3)+1)),"",$K$1-(WEEKDAY($K$1,1)-(день_начала-1))-IF((WEEKDAY($K$1,1)-(день_начала-1))<=0,7,0)+(ROW(L6)-ROW($K$3))*7+(COLUMN(L6)-COLUMN($K$3)+1)) -> 45706 | M6: =IF(MONTH($K$1)<>MONTH($K$1-(WEEKDAY($K$1,1)-(день_начала-1))-IF((WEEKDAY($K$1,1)-(день_начала-1))<=0,7,0)+(ROW(M6)-ROW($K$3))*7+(COLUMN(M6)-COLUMN($K$3)+1)),"",$K$1-(WEEKDAY($K$1,1)-(день_начала-1))-IF((WEEKDAY($K$1,1)-(день_начала-1))<=0,7,0)+(ROW(M6)-ROW($K$3))*7+(COLUMN(M6)-COLUMN($K$3)+1)) -> 45707 | N6: =IF(MONTH($K$1)<>MONTH($K$1-(WEEKDAY($K$1,1)-(день_начала-1))-IF((WEEKDAY($K$1,1)-(день_начала-1))<=0,7,0)+(ROW(N6)-ROW($K$3))*7+(COLUMN(N6)-COLUMN($K$3)+1)),"",$K$1-(WEEKDAY($K$1,1)-(день_начала-1))-IF((WEEKDAY($K$1,1)-(день_начала-1))<=0,7,0)+(ROW(N6)-ROW($K$3))*7+(COLUMN(N6)-COLUMN($K$3)+1)) -> 45708 | O6: =IF(MONTH($K$1)<>MONTH($K$1-(WEEKDAY($K$1,1)-(день_начала-1))-IF((WEEKDAY($K$1,1)-(день_начала-1))<=0,7,0)+(ROW(O6)-ROW($K$3))*7+(COLUMN(O6)-COLUMN($K$3)+1)),"",$K$1-(WEEKDAY($K$1,1)-(день_начала-1))-IF((WEEKDAY($K$1,1)-(день_начала-1))<=0,7,0)+(ROW(O6)-ROW($K$3))*7+(COLUMN(O6)-COLUMN($K$3)+1)) -> 45709 | P6: =IF(MONTH($K$1)<>MONTH($K$1-(WEEKDAY($K$1,1)-(день_начала-1))-IF((WEEKDAY($K$1,1)-(день_начала-1))<=0,7,0)+(ROW(P6)-ROW($K$3))*7+(COLUMN(P6)-COLUMN($K$3)+1)),"",$K$1-(WEEKDAY($K$1,1)-(день_начала-1))-IF((WEEKDAY($K$1,1)-(день_начала-1))<=0,7,0)+(ROW(P6)-ROW($K$3))*7+(COLUMN(P6)-COLUMN($K$3)+1)) -> 45710 | Q6: =IF(MONTH($K$1)<>MONTH($K$1-(WEEKDAY($K$1,1)-(день_начала-1))-IF((WEEKDAY($K$1,1)-(день_начала-1))<=0,7,0)+(ROW(Q6)-ROW($K$3))*7+(COLUMN(Q6)-COLUMN($K$3)+1)),"",$K$1-(WEEKDAY($K$1,1)-(день_начала-1))-IF((WEEKDAY($K$1,1)-(день_начала-1))<=0,7,0)+(ROW(Q6)-ROW($K$3))*7+(COLUMN(Q6)-COLUMN($K$3)+1)) -> 45711 | S6: =IF(MONTH($S$1)<>MONTH($S$1-(WEEKDAY($S$1,1)-(день_начала-1))-IF((WEEKDAY($S$1,1)-(день_начала-1))<=0,7,0)+(ROW(S6)-ROW($S$3))*7+(COLUMN(S6)-COLUMN($S$3)+1)),"",$S$1-(WEEKDAY($S$1,1)-(день_начала-1))-IF((WEEKDAY($S$1,1)-(день_начала-1))<=0,7,0)+(ROW(S6)-ROW($S$3))*7+(COLUMN(S6)-COLUMN($S$3)+1)) -> 45768 | T6: =IF(MONTH($S$1)<>MONTH($S$1-(WEEKDAY($S$1,1)-(день_начала-1))-IF((WEEKDAY($S$1,1)-(день_начала-1))<=0,7,0)+(ROW(T6)-ROW($S$3))*7+(COLUMN(T6)-COLUMN($S$3)+1)),"",$S$1-(WEEKDAY($S$1,1)-(день_начала-1))-IF((WEEKDAY($S$1,1)-(день_начала-1))<=0,7,0)+(ROW(T6)-ROW($S$3))*7+(COLUMN(T6)-COLUMN($S$3)+1)) -> 45769 | U6: =IF(MONTH($S$1)<>MONTH($S$1-(WEEKDAY($S$1,1)-(день_начала-1))-IF((WEEKDAY($S$1,1)-(день_начала-1))<=0,7,0)+(ROW(U6)-ROW($S$3))*7+(COLUMN(U6)-COLUMN($S$3)+1)),"",$S$1-(WEEKDAY($S$1,1)-(день_начала-1))-IF((WEEKDAY($S$1,1)-(день_начала-1))<=0,7,0)+(ROW(U6)-ROW($S$3))*7+(COLUMN(U6)-COLUMN($S$3)+1)) -> 45770 | V6: =IF(MONTH($S$1)<>MONTH($S$1-(WEEKDAY($S$1,1)-(день_начала-1))-IF((WEEKDAY($S$1,1)-(день_начала-1))<=0,7,0)+(ROW(V6)-ROW($S$3))*7+(COLUMN(V6)-COLUMN($S$3)+1)),"",$S$1-(WEEKDAY($S$1,1)-(день_начала-1))-IF((WEEKDAY($S$1,1)-(день_начала-1))<=0,7,0)+(ROW(V6)-ROW($S$3))*7+(COLUMN(V6)-COLUMN($S$3)+1)) -> 45771 | W6: =IF(MONTH($S$1)<>MONTH($S$1-(WEEKDAY($S$1,1)-(день_начала-1))-IF((WEEKDAY($S$1,1)-(день_начала-1))<=0,7,0)+(ROW(W6)-ROW($S$3))*7+(COLUMN(W6)-COLUMN($S$3)+1)),"",$S$1-(WEEKDAY($S$1,1)-(день_начала-1))-IF((WEEKDAY($S$1,1)-(день_начала-1))<=0,7,0)+(ROW(W6)-ROW($S$3))*7+(COLUMN(W6)-COLUMN($S$3)+1)) -> 45772 | X6: =IF(MONTH($S$1)<>MONTH($S$1-(WEEKDAY($S$1,1)-(день_начала-1))-IF((WEEKDAY($S$1,1)-(день_начала-1))<=0,7,0)+(ROW(X6)-ROW($S$3))*7+(COLUMN(X6)-COLUMN($S$3)+1)),"",$S$1-(WEEKDAY($S$1,1)-(день_начала-1))-IF((WEEKDAY($S$1,1)-(день_начала-1))<=0,7,0)+(ROW(X6)-ROW($S$3))*7+(COLUMN(X6)-COLUMN($S$3)+1)) -> 45773 | Y6: =IF(MONTH($S$1)<>MONTH($S$1-(WEEKDAY($S$1,1)-(день_начала-1))-IF((WEEKDAY($S$1,1)-(день_начала-1))<=0,7,0)+(ROW(Y6)-ROW($S$3))*7+(COLUMN(Y6)-COLUMN($S$3)+1)),"",$S$1-(WEEKDAY($S$1,1)-(день_начала-1))-IF((WEEKDAY($S$1,1)-(день_начала-1))<=0,7,0)+(ROW(Y6)-ROW($S$3))*7+(COLUMN(Y6)-COLUMN($S$3)+1)) -> 45774
K7: =IF(MONTH($K$1)<>MONTH($K$1-(WEEKDAY($K$1,1)-(день_начала-1))-IF((WEEKDAY($K$1,1)-(день_начала-1))<=0,7,0)+(ROW(K7)-ROW($K$3))*7+(COLUMN(K7)-COLUMN($K$3)+1)),"",$K$1-(WEEKDAY($K$1,1)-(день_начала-1))-IF((WEEKDAY($K$1,1)-(день_начала-1))<=0,7,0)+(ROW(K7)-ROW($K$3))*7+(COLUMN(K7)-COLUMN($K$3)+1)) -> 45712 | L7: =IF(MONTH($K$1)<>MONTH($K$1-(WEEKDAY($K$1,1)-(день_начала-1))-IF((WEEKDAY($K$1,1)-(день_начала-1))<=0,7,0)+(ROW(L7)-ROW($K$3))*7+(COLUMN(L7)-COLUMN($K$3)+1)),"",$K$1-(WEEKDAY($K$1,1)-(день_начала-1))-IF((WEEKDAY($K$1,1)-(день_начала-1))<=0,7,0)+(ROW(L7)-ROW($K$3))*7+(COLUMN(L7)-COLUMN($K$3)+1)) -> 45713 | M7: =IF(MONTH($K$1)<>MONTH($K$1-(WEEKDAY($K$1,1)-(день_начала-1))-IF((WEEKDAY($K$1,1)-(день_начала-1))<=0,7,0)+(ROW(M7)-ROW($K$3))*7+(COLUMN(M7)-COLUMN($K$3)+1)),"",$K$1-(WEEKDAY($K$1,1)-(день_начала-1))-IF((WEEKDAY($K$1,1)-(день_начала-1))<=0,7,0)+(ROW(M7)-ROW($K$3))*7+(COLUMN(M7)-COLUMN($K$3)+1)) -> 45714 | N7: =IF(MONTH($K$1)<>MONTH($K$1-(WEEKDAY($K$1,1)-(день_начала-1))-IF((WEEKDAY($K$1,1)-(день_начала-1))<=0,7,0)+(ROW(N7)-ROW($K$3))*7+(COLUMN(N7)-COLUMN($K$3)+1)),"",$K$1-(WEEKDAY($K$1,1)-(день_начала-1))-IF((WEEKDAY($K$1,1)-(день_начала-1))<=0,7,0)+(ROW(N7)-ROW($K$3))*7+(COLUMN(N7)-COLUMN($K$3)+1)) -> 45715 | O7: =IF(MONTH($K$1)<>MONTH($K$1-(WEEKDAY($K$1,1)-(день_начала-1))-IF((WEEKDAY($K$1,1)-(день_начала-1))<=0,7,0)+(ROW(O7)-ROW($K$3))*7+(COLUMN(O7)-COLUMN($K$3)+1)),"",$K$1-(WEEKDAY($K$1,1)-(день_начала-1))-IF((WEEKDAY($K$1,1)-(день_начала-1))<=0,7,0)+(ROW(O7)-ROW($K$3))*7+(COLUMN(O7)-COLUMN($K$3)+1)) -> 45716 | P7: =IF(MONTH($K$1)<>MONTH($K$1-(WEEKDAY($K$1,1)-(день_начала-1))-IF((WEEKDAY($K$1,1)-(день_начала-1))<=0,7,0)+(ROW(P7)-ROW($K$3))*7+(COLUMN(P7)-COLUMN($K$3)+1)),"",$K$1-(WEEKDAY($K$1,1)-(день_начала-1))-IF((WEEKDAY($K$1,1)-(день_начала-1))<=0,7,0)+(ROW(P7)-ROW($K$3))*7+(COLUMN(P7)-COLUMN($K$3)+1)) | Q7: =IF(MONTH($K$1)<>MONTH($K$1-(WEEKDAY($K$1,1)-(день_начала-1))-IF((WEEKDAY($K$1,1)-(день_начала-1))<=0,7,0)+(ROW(Q7)-ROW($K$3))*7+(COLUMN(Q7)-COLUMN($K$3)+1)),"",$K$1-(WEEKDAY($K$1,1)-(день_начала-1))-IF((WEEKDAY($K$1,1)-(день_начала-1))<=0,7,0)+(ROW(Q7)-ROW($K$3))*7+(COLUMN(Q7)-COLUMN($K$3)+1)) | S7: =IF(MONTH($S$1)<>MONTH($S$1-(WEEKDAY($S$1,1)-(день_начала-1))-IF((WEEKDAY($S$1,1)-(день_начала-1))<=0,7,0)+(ROW(S7)-ROW($S$3))*7+(COLUMN(S7)-COLUMN($S$3)+1)),"",$S$1-(WEEKDAY($S$1,1)-(день_начала-1))-IF((WEEKDAY($S$1,1)-(день_начала-1))<=0,7,0)+(ROW(S7)-ROW($S$3))*7+(COLUMN(S7)-COLUMN($S$3)+1)) -> 45775 | T7: =IF(MONTH($S$1)<>MONTH($S$1-(WEEKDAY($S$1,1)-(день_начала-1))-IF((WEEKDAY($S$1,1)-(день_начала-1))<=0,7,0)+(ROW(T7)-ROW($S$3))*7+(COLUMN(T7)-COLUMN($S$3)+1)),"",$S$1-(WEEKDAY($S$1,1)-(день_начала-1))-IF((WEEKDAY($S$1,1)-(день_начала-1))<=0,7,0)+(ROW(T7)-ROW($S$3))*7+(COLUMN(T7)-COLUMN($S$3)+1)) -> 45776 | U7: =IF(MONTH($S$1)<>MONTH($S$1-(WEEKDAY($S$1,1)-(день_начала-1))-IF((WEEKDAY($S$1,1)-(день_начала-1))<=0,7,0)+(ROW(U7)-ROW($S$3))*7+(COLUMN(U7)-COLUMN($S$3)+1)),"",$S$1-(WEEKDAY($S$1,1)-(день_начала-1))-IF((WEEKDAY($S$1,1)-(день_начала-1))<=0,7,0)+(ROW(U7)-ROW($S$3))*7+(COLUMN(U7)-COLUMN($S$3)+1)) -> 45777 | V7: =IF(MONTH($S$1)<>MONTH($S$1-(WEEKDAY($S$1,1)-(день_начала-1))-IF((WEEKDAY($S$1,1)-(день_начала-1))<=0,7,0)+(ROW(V7)-ROW($S$3))*7+(COLUMN(V7)-COLUMN($S$3)+1)),"",$S$1-(WEEKDAY($S$1,1)-(день_начала-1))-IF((WEEKDAY($S$1,1)-(день_начала-1))<=0,7,0)+(ROW(V7)-ROW($S$3))*7+(COLUMN(V7)-COLUMN($S$3)+1)) | W7: =IF(MONTH($S$1)<>MONTH($S$1-(WEEKDAY($S$1,1)-(день_начала-1))-IF((WEEKDAY($S$1,1)-(день_начала-1))<=0,7,0)+(ROW(W7)-ROW($S$3))*7+(COLUMN(W7)-COLUMN($S$3)+1)),"",$S$1-(WEEKDAY($S$1,1)-(день_начала-1))-IF((WEEKDAY($S$1,1)-(день_начала-1))<=0,7,0)+(ROW(W7)-ROW($S$3))*7+(COLUMN(W7)-COLUMN($S$3)+1)) | X7: =IF(MONTH($S$1)<>MONTH($S$1-(WEEKDAY($S$1,1)-(день_начала-1))-IF((WEEKDAY($S$1,1)-(день_начала-1))<=0,7,0)+(ROW(X7)-ROW($S$3))*7+(COLUMN(X7)-COLUMN($S$3)+1)),"",$S$1-(WEEKDAY($S$1,1)-(день_начала-1))-IF((WEEKDAY($S$1,1)-(день_начала-1))<=0,7,0)+(ROW(X7)-ROW($S$3))*7+(COLUMN(X7)-COLUMN($S$3)+1)) | Y7: =IF(MONTH($S$1)<>MONTH($S$1-(WEEKDAY($S$1,1)-(день_начала-1))-IF((WEEKDAY($S$1,1)-(день_начала-1))<=0,7,0)+(ROW(Y7)-ROW($S$3))*7+(COLUMN(Y7)-COLUMN($S$3)+1)),"",$S$1-(WEEKDAY($S$1,1)-(день_начала-1))-IF((WEEKDAY($S$1,1)-(день_начала-1))<=0,7,0)+(ROW(Y7)-ROW($S$3))*7+(COLUMN(Y7)-COLUMN($S$3)+1))
K8: =IF(MONTH($K$1)<>MONTH($K$1-(WEEKDAY($K$1,1)-(день_начала-1))-IF((WEEKDAY($K$1,1)-(день_начала-1))<=0,7,0)+(ROW(K8)-ROW($K$3))*7+(COLUMN(K8)-COLUMN($K$3)+1)),"",$K$1-(WEEKDAY($K$1,1)-(день_начала-1))-IF((WEEKDAY($K$1,1)-(день_начала-1))<=0,7,0)+(ROW(K8)-ROW($K$3))*7+(COLUMN(K8)-COLUMN($K$3)+1)) | L8: =IF(MONTH($K$1)<>MONTH($K$1-(WEEKDAY($K$1,1)-(день_начала-1))-IF((WEEKDAY($K$1,1)-(день_начала-1))<=0,7,0)+(ROW(L8)-ROW($K$3))*7+(COLUMN(L8)-COLUMN($K$3)+1)),"",$K$1-(WEEKDAY($K$1,1)-(день_начала-1))-IF((WEEKDAY($K$1,1)-(день_начала-1))<=0,7,0)+(ROW(L8)-ROW($K$3))*7+(COLUMN(L8)-COLUMN($K$3)+1)) | M8: =IF(MONTH($K$1)<>MONTH($K$1-(WEEKDAY($K$1,1)-(день_начала-1))-IF((WEEKDAY($K$1,1)-(день_начала-1))<=0,7,0)+(ROW(M8)-ROW($K$3))*7+(COLUMN(M8)-COLUMN($K$3)+1)),"",$K$1-(WEEKDAY($K$1,1)-(день_начала-1))-IF((WEEKDAY($K$1,1)-(день_начала-1))<=0,7,0)+(ROW(M8)-ROW($K$3))*7+(COLUMN(M8)-COLUMN($K$3)+1)) | N8: =IF(MONTH($K$1)<>MONTH($K$1-(WEEKDAY($K$1,1)-(день_начала-1))-IF((WEEKDAY($K$1,1)-(день_начала-1))<=0,7,0)+(ROW(N8)-ROW($K$3))*7+(COLUMN(N8)-COLUMN($K$3)+1)),"",$K$1-(WEEKDAY($K$1,1)-(день_начала-1))-IF((WEEKDAY($K$1,1)-(день_начала-1))<=0,7,0)+(ROW(N8)-ROW($K$3))*7+(COLUMN(N8)-COLUMN($K$3)+1)) | O8: =IF(MONTH($K$1)<>MONTH($K$1-(WEEKDAY($K$1,1)-(день_начала-1))-IF((WEEKDAY($K$1,1)-(день_начала-1))<=0,7,0)+(ROW(O8)-ROW($K$3))*7+(COLUMN(O8)-COLUMN($K$3)+1)),"",$K$1-(WEEKDAY($K$1,1)-(день_начала-1))-IF((WEEKDAY($K$1,1)-(день_начала-1))<=0,7,0)+(ROW(O8)-ROW($K$3))*7+(COLUMN(O8)-COLUMN($K$3)+1)) | P8: =IF(MONTH($K$1)<>MONTH($K$1-(WEEKDAY($K$1,1)-(день_начала-1))-IF((WEEKDAY($K$1,1)-(день_начала-1))<=0,7,0)+(ROW(P8)-ROW($K$3))*7+(COLUMN(P8)-COLUMN($K$3)+1)),"",$K$1-(WEEKDAY($K$1,1)-(день_начала-1))-IF((WEEKDAY($K$1,1)-(день_начала-1))<=0,7,0)+(ROW(P8)-ROW($K$3))*7+(COLUMN(P8)-COLUMN($K$3)+1)) | Q8: =IF(MONTH($K$1)<>MONTH($K$1-(WEEKDAY($K$1,1)-(день_начала-1))-IF((WEEKDAY($K$1,1)-(день_начала-1))<=0,7,0)+(ROW(Q8)-ROW($K$3))*7+(COLUMN(Q8)-COLUMN($K$3)+1)),"",$K$1-(WEEKDAY($K$1,1)-(день_начала-1))-IF((WEEKDAY($K$1,1)-(день_начала-1))<=0,7,0)+(ROW(Q8)-ROW($K$3))*7+(COLUMN(Q8)-COLUMN($K$3)+1)) | S8: =IF(MONTH($S$1)<>MONTH($S$1-(WEEKDAY($S$1,1)-(день_начала-1))-IF((WEEKDAY($S$1,1)-(день_начала-1))<=0,7,0)+(ROW(S8)-ROW($S$3))*7+(COLUMN(S8)-COLUMN($S$3)+1)),"",$S$1-(WEEKDAY($S$1,1)-(день_начала-1))-IF((WEEKDAY($S$1,1)-(день_начала-1))<=0,7,0)+(ROW(S8)-ROW($S$3))*7+(COLUMN(S8)-COLUMN($S$3)+1)) | T8: =IF(MONTH($S$1)<>MONTH($S$1-(WEEKDAY($S$1,1)-(день_начала-1))-IF((WEEKDAY($S$1,1)-(день_начала-1))<=0,7,0)+(ROW(T8)-ROW($S$3))*7+(COLUMN(T8)-COLUMN($S$3)+1)),"",$S$1-(WEEKDAY($S$1,1)-(день_начала-1))-IF((WEEKDAY($S$1,1)-(день_начала-1))<=0,7,0)+(ROW(T8)-ROW($S$3))*7+(COLUMN(T8)-COLUMN($S$3)+1)) | U8: =IF(MONTH($S$1)<>MONTH($S$1-(WEEKDAY($S$1,1)-(день_начала-1))-IF((WEEKDAY($S$1,1)-(день_начала-1))<=0,7,0)+(ROW(U8)-ROW($S$3))*7+(COLUMN(U8)-COLUMN($S$3)+1)),"",$S$1-(WEEKDAY($S$1,1)-(день_начала-1))-IF((WEEKDAY($S$1,1)-(день_начала-1))<=0,7,0)+(ROW(U8)-ROW($S$3))*7+(COLUMN(U8)-COLUMN($S$3)+1)) | V8: =IF(MONTH($S$1)<>MONTH($S$1-(WEEKDAY($S$1,1)-(день_начала-1))-IF((WEEKDAY($S$1,1)-(день_начала-1))<=0,7,0)+(ROW(V8)-ROW($S$3))*7+(COLUMN(V8)-COLUMN($S$3)+1)),"",$S$1-(WEEKDAY($S$1,1)-(день_начала-1))-IF((WEEKDAY($S$1,1)-(день_начала-1))<=0,7,0)+(ROW(V8)-ROW($S$3))*7+(COLUMN(V8)-COLUMN($S$3)+1)) | W8: =IF(MONTH($S$1)<>MONTH($S$1-(WEEKDAY($S$1,1)-(день_начала-1))-IF((WEEKDAY($S$1,1)-(день_начала-1))<=0,7,0)+(ROW(W8)-ROW($S$3))*7+(COLUMN(W8)-COLUMN($S$3)+1)),"",$S$1-(WEEKDAY($S$1,1)-(день_начала-1))-IF((WEEKDAY($S$1,1)-(день_начала-1))<=0,7,0)+(ROW(W8)-ROW($S$3))*7+(COLUMN(W8)-COLUMN($S$3)+1)) | X8: =IF(MONTH($S$1)<>MONTH($S$1-(WEEKDAY($S$1,1)-(день_начала-1))-IF((WEEKDAY($S$1,1)-(день_начала-1))<=0,7,0)+(ROW(X8)-ROW($S$3))*7+(COLUMN(X8)-COLUMN($S$3)+1)),"",$S$1-(WEEKDAY($S$1,1)-(день_начала-1))-IF((WEEKDAY($S$1,1)-(день_начала-1))<=0,7,0)+(ROW(X8)-ROW($S$3))*7+(COLUMN(X8)-COLUMN($S$3)+1)) | Y8: =IF(MONTH($S$1)<>MONTH($S$1-(WEEKDAY($S$1,1)-(день_начала-1))-IF((WEEKDAY($S$1,1)-(день_начала-1))<=0,7,0)+(ROW(Y8)-ROW($S$3))*7+(COLUMN(Y8)-COLUMN($S$3)+1)),"",$S$1-(WEEKDAY($S$1,1)-(день_начала-1))-IF((WEEKDAY($S$1,1)-(день_начала-1))<=0,7,0)+(ROW(Y8)-ROW($S$3))*7+(COLUMN(Y8)-COLUMN($S$3)+1))
A9: =A10 -> 45712 | C9: =C10 -> 45713 | E9: =E10 -> 45714 | G9: =G10 -> 45715 | I9: =I10 -> 45716 | K9: =K10 -> 45717 | S9: =S10 -> 45718
A10: =$A$1-(WEEKDAY($A$1,1)-(день_начала-1))-IF((WEEKDAY($A$1,1)-(день_начала-1))<=0,7,0)+1 -> 45712 | C10: =A10+1 -> 45713 | E10: =C10+1 -> 45714 | G10: =E10+1 -> 45715 | I10: =G10+1 -> 45716 | K10: =I10+1 -> 45717 | S10: =K10+1 -> 45718
A16: =S10+1 -> 45719 | C16: =A16+1 -> 45720 | E16: =C16+1 -> 45721 | G16: =E16+1 -> 45722 | I16: =G16+1 -> 45723 | K16: =I16+1 -> 45724 | S16: =K16+1 -> 45725
A22: =S16+1 -> 45726 | C22: =A22+1 -> 45727 | E22: =C22+1 -> 45728 | G22: =E22+1 -> 45729 | I22: =G22+1 -> 45730 | K22: =I22+1 -> 45731 | S22: =K22+1 -> 45732
A28: =S22+1 -> 45733 | C28: =A28+1 -> 45734 | E28: =C28+1 -> 45735 | G28: =E28+1 -> 45736 | I28: =G28+1 -> 45737 | K28: =I28+1 -> 45738 | S28: =K28+1 -> 45739
A34: =S28+1 -> 45740 | C34: =A34+1 -> 45741 | E34: =C34+1 -> 45742 | G34: =E34+1 -> 45743 | I34: =G34+1 -> 45744 | K34: =I34+1 -> 45745 | S34: =K34+1 -> 45746
A40: =S34+1 -> 45747 | C40: =A40+1 -> 45748 | E40: Примечания

Sheet 4
A1: =DATE(Настройка!D5,Настройка!D7+3,1) -> 45748 | K1: =DATE(YEAR(A1),MONTH(A1)-1,1) -> 45717 | S1: =DATE(YEAR(A1),MONTH(A1)+1,1) -> 45778
K2: =INDEX({"Вс";"Пн";"Вт";"Ср";"Чт";"Пт";"Сб"},1+MOD(день_начала+1-2,7)) -> Пн | L2: =INDEX({"Вс";"Пн";"Вт";"Ср";"Чт";"Пт";"Сб"},1+MOD(день_начала+2-2,7)) -> Вт | M2: =INDEX({"Вс";"Пн";"Вт";"Ср";"Чт";"Пт";"Сб"},1+MOD(день_начала+3-2,7)) -> Ср | N2: =INDEX({"Вс";"Пн";"Вт";"Ср";"Чт";"Пт";"Сб"},1+MOD(день_начала+4-2,7)) -> Чт | O2: =INDEX({"Вс";"Пн";"Вт";"Ср";"Чт";"Пт";"Сб"},1+MOD(день_начала+5-2,7)) -> Пт | P2: =INDEX({"Вс";"Пн";"Вт";"Ср";"Чт";"Пт";"Сб"},1+MOD(день_начала+6-2,7)) -> Сб | Q2: =INDEX({"Вс";"Пн";"Вт";"Ср";"Чт";"Пт";"Сб"},1+MOD(день_начала+7-2,7)) -> Вс | S2: =INDEX({"Вс";"Пн";"Вт";"Ср";"Чт";"Пт";"Сб"},1+MOD(день_начала+1-2,7)) -> Пн | T2: =INDEX({"Вс";"Пн";"Вт";"Ср";"Чт";"Пт";"Сб"},1+MOD(день_начала+2-2,7)) -> Вт | U2: =INDEX({"Вс";"Пн";"Вт";"Ср";"Чт";"Пт";"Сб"},1+MOD(день_начала+3-2,7)) -> Ср | V2: =INDEX({"Вс";"Пн";"Вт";"Ср";"Чт";"Пт";"Сб"},1+MOD(день_начала+4-2,7)) -> Чт | W2: =INDEX({"Вс";"Пн";"Вт";"Ср";"Чт";"Пт";"Сб"},1+MOD(день_начала+5-2,7)) -> Пт | X2: =INDEX({"Вс";"Пн";"Вт";"Ср";"Чт";"Пт";"Сб"},1+MOD(день_начала+6-2,7)) -> Сб | Y2: =INDEX({"Вс";"Пн";"Вт";"Ср";"Чт";"Пт";"Сб"},1+MOD(день_начала+7-2,7)) -> Вс
K3: =IF(MONTH($K$1)<>MONTH($K$1-(WEEKDAY($K$1,1)-(день_начала-1))-IF((WEEKDAY($K$1,1)-(день_начала-1))<=0,7,0)+(ROW(K3)-ROW($K$3))*7+(COLUMN(K3)-COLUMN($K$3)+1)),"",$K$1-(WEEKDAY($K$1,1)-(день_начала-1))-IF((WEEKDAY($K$1,1)-(день_начала-1))<=0,7,0)+(ROW(K3)-ROW($K$3))*7+(COLUMN(K3)-COLUMN($K$3)+1)) | L3: =IF(MONTH($K$1)<>MONTH($K$1-(WEEKDAY($K$1,1)-(день_начала-1))-IF((WEEKDAY($K$1,1)-(день_начала-1))<=0,7,0)+(ROW(L3)-ROW($K$3))*7+(COLUMN(L3)-COLUMN($K$3)+1)),"",$K$1-(WEEKDAY($K$1,1)-(день_начала-1))-IF((WEEKDAY($K$1,1)-(день_начала-1))<=0,7,0)+(ROW(L3)-ROW($K$3))*7+(COLUMN(L3)-COLUMN($K$3)+1)) | M3: =IF(MONTH($K$1)<>MONTH($K$1-(WEEKDAY($K$1,1)-(день_начала-1))-IF((WEEKDAY($K$1,1)-(день_начала-1))<=0,7,0)+(ROW(M3)-ROW($K$3))*7+(COLUMN(M3)-COLUMN($K$3)+1)),"",$K$1-(WEEKDAY($K$1,1)-(день_начала-1))-IF((WEEKDAY($K$1,1)-(день_начала-1))<=0,7,0)+(ROW(M3)-ROW($K$3))*7+(COLUMN(M3)-COLUMN($K$3)+1)) | N3: =IF(MONTH($K$1)<>MONTH($K$1-(WEEKDAY($K$1,1)-(день_начала-1))-IF((WEEKDAY($K$1,1)-(день_начала-1))<=0,7,0)+(ROW(N3)-ROW($K$3))*7+(COLUMN(N3)-COLUMN($K$3)+1)),"",$K$1-(WEEKDAY($K$1,1)-(день_начала-1))-IF((WEEKDAY($K$1,1)-(день_начала-1))<=0,7,0)+(ROW(N3)-ROW($K$3))*7+(COLUMN(N3)-COLUMN($K$3)+1)) | O3: =IF(MONTH($K$1)<>MONTH($K$1-(WEEKDAY($K$1,1)-(день_начала-1))-IF((WEEKDAY($K$1,1)-(день_начала-1))<=0,7,0)+(ROW(O3)-ROW($K$3))*7+(COLUMN(O3)-COLUMN($K$3)+1)),"",$K$1-(WEEKDAY($K$1,1)-(день_начала-1))-IF((WEEKDAY($K$1,1)-(день_начала-1))<=0,7,0)+(ROW(O3)-ROW($K$3))*7+(COLUMN(O3)-COLUMN($K$3)+1)) | P3: =IF(MONTH($K$1)<>MONTH($K$1-(WEEKDAY($K$1,1)-(день_начала-1))-IF((WEEKDAY($K$1,1)-(день_начала-1))<=0,7,0)+(ROW(P3)-ROW($K$3))*7+(COLUMN(P3)-COLUMN($K$3)+1)),"",$K$1-(WEEKDAY($K$1,1)-(день_начала-1))-IF((WEEKDAY($K$1,1)-(день_начала-1))<=0,7,0)+(ROW(P3)-ROW($K$3))*7+(COLUMN(P3)-COLUMN($K$3)+1)) -> 45717 | Q3: =IF(MONTH($K$1)<>MONTH($K$1-(WEEKDAY($K$1,1)-(день_начала-1))-IF((WEEKDAY($K$1,1)-(день_начала-1))<=0,7,0)+(ROW(Q3)-ROW($K$3))*7+(COLUMN(Q3)-COLUMN($K$3)+1)),"",$K$1-(WEEKDAY($K$1,1)-(день_начала-1))-IF((WEEKDAY($K$1,1)-(день_начала-1))<=0,7,0)+(ROW(Q3)-ROW($K$3))*7+(COLUMN(Q3)-COLUMN($K$3)+1)) -> 45718 | S3: =IF(MONTH($S$1)<>MONTH($S$1-(WEEKDAY($S$1,1)-(день_начала-1))-IF((WEEKDAY($S$1,1)-(день_начала-1))<=0,7,0)+(ROW(S3)-ROW($S$3))*7+(COLUMN(S3)-COLUMN($S$3)+1)),"",$S$1-(WEEKDAY($S$1,1)-(день_начала-1))-IF((WEEKDAY($S$1,1)-(день_начала-1))<=0,7,0)+(ROW(S3)-ROW($S$3))*7+(COLUMN(S3)-COLUMN($S$3)+1)) | T3: =IF(MONTH($S$1)<>MONTH($S$1-(WEEKDAY($S$1,1)-(день_начала-1))-IF((WEEKDAY($S$1,1)-(день_начала-1))<=0,7,0)+(ROW(T3)-ROW($S$3))*7+(COLUMN(T3)-COLUMN($S$3)+1)),"",$S$1-(WEEKDAY($S$1,1)-(день_начала-1))-IF((WEEKDAY($S$1,1)-(день_начала-1))<=0,7,0)+(ROW(T3)-ROW($S$3))*7+(COLUMN(T3)-COLUMN($S$3)+1)) | U3: =IF(MONTH($S$1)<>MONTH($S$1-(WEEKDAY($S$1,1)-(день_начала-1))-IF((WEEKDAY($S$1,1)-(день_начала-1))<=0,7,0)+(ROW(U3)-ROW($S$3))*7+(COLUMN(U3)-COLUMN($S$3)+1)),"",$S$1-(WEEKDAY($S$1,1)-(день_начала-1))-IF((WEEKDAY($S$1,1)-(день_начала-1))<=0,7,0)+(ROW(U3)-ROW($S$3))*7+(COLUMN(U3)-COLUMN($S$3)+1)) | V3: =IF(MONTH($S$1)<>MONTH($S$1-(WEEKDAY($S$1,1)-(день_начала-1))-IF((WEEKDAY($S$1,1)-(день_начала-1))<=0,7,0)+(ROW(V3)-ROW($S$3))*7+(COLUMN(V3)-COLUMN($S$3)+1)),"",$S$1-(WEEKDAY($S$1,1)-(день_начала-1))-IF((WEEKDAY($S$1,1)-(день_начала-1))<=0,7,0)+(ROW(V3)-ROW($S$3))*7+(COLUMN(V3)-COLUMN($S$3)+1)) -> 45778 | W3: =IF(MONTH($S$1)<>MONTH($S$1-(WEEKDAY($S$1,1)-(день_начала-1))-IF((WEEKDAY($S$1,1)-(день_начала-1))<=0,7,0)+(ROW(W3)-ROW($S$3))*7+(COLUMN(W3)-COLUMN($S$3)+1)),"",$S$1-(WEEKDAY($S$1,1)-(день_начала-1))-IF((WEEKDAY($S$1,1)-(день_начала-1))<=0,7,0)+(ROW(W3)-ROW($S$3))*7+(COLUMN(W3)-COLUMN($S$3)+1)) -> 45779 | X3: =IF(MONTH($S$1)<>MONTH($S$1-(WEEKDAY($S$1,1)-(день_начала-1))-IF((WEEKDAY($S$1,1)-(день_начала-1))<=0,7,0)+(ROW(X3)-ROW($S$3))*7+(COLUMN(X3)-COLUMN($S$3)+1)),"",$S$1-(WEEKDAY($S$1,1)-(день_начала-1))-IF((WEEKDAY($S$1,1)-(день_начала-1))<=0,7,0)+(ROW(X3)-ROW($S$3))*7+(COLUMN(X3)-COLUMN($S$3)+1)) -> 45780 | Y3: =IF(MONTH($S$1)<>MONTH($S$1-(WEEKDAY($S$1,1)-(день_начала-1))-IF((WEEKDAY($S$1,1)-(день_начала-1))<=0,7,0)+(ROW(Y3)-ROW($S$3))*7+(COLUMN(Y3)-COLUMN($S$3)+1)),"",$S$1-(WEEKDAY($S$1,1)-(день_начала-1))-IF((WEEKDAY($S$1,1)-(день_начала-1))<=0,7,0)+(ROW(Y3)-ROW($S$3))*7+(COLUMN(Y3)-COLUMN($S$3)+1)) -> 45781
K4: =IF(MONTH($K$1)<>MONTH($K$1-(WEEKDAY($K$1,1)-(день_начала-1))-IF((WEEKDAY($K$1,1)-(день_начала-1))<=0,7,0)+(ROW(K4)-ROW($K$3))*7+(COLUMN(K4)-COLUMN($K$3)+1)),"",$K$1-(WEEKDAY($K$1,1)-(день_начала-1))-IF((WEEKDAY($K$1,1)-(день_начала-1))<=0,7,0)+(ROW(K4)-ROW($K$3))*7+(COLUMN(K4)-COLUMN($K$3)+1)) -> 45719 | L4: =IF(MONTH($K$1)<>MONTH($K$1-(WEEKDAY($K$1,1)-(день_начала-1))-IF((WEEKDAY($K$1,1)-(день_начала-1))<=0,7,0)+(ROW(L4)-ROW($K$3))*7+(COLUMN(L4)-COLUMN($K$3)+1)),"",$K$1-(WEEKDAY($K$1,1)-(день_начала-1))-IF((WEEKDAY($K$1,1)-(день_начала-1))<=0,7,0)+(ROW(L4)-ROW($K$3))*7+(COLUMN(L4)-COLUMN($K$3)+1)) -> 45720 | M4: =IF(MONTH($K$1)<>MONTH($K$1-(WEEKDAY($K$1,1)-(день_начала-1))-IF((WEEKDAY($K$1,1)-(день_начала-1))<=0,7,0)+(ROW(M4)-ROW($K$3))*7+(COLUMN(M4)-COLUMN($K$3)+1)),"",$K$1-(WEEKDAY($K$1,1)-(день_начала-1))-IF((WEEKDAY($K$1,1)-(день_начала-1))<=0,7,0)+(ROW(M4)-ROW($K$3))*7+(COLUMN(M4)-COLUMN($K$3)+1)) -> 45721 | N4: =IF(MONTH($K$1)<>MONTH($K$1-(WEEKDAY($K$1,1)-(день_начала-1))-IF((WEEKDAY($K$1,1)-(день_начала-1))<=0,7,0)+(ROW(N4)-ROW($K$3))*7+(COLUMN(N4)-COLUMN($K$3)+1)),"",$K$1-(WEEKDAY($K$1,1)-(день_начала-1))-IF((WEEKDAY($K$1,1)-(день_начала-1))<=0,7,0)+(ROW(N4)-ROW($K$3))*7+(COLUMN(N4)-COLUMN($K$3)+1)) -> 45722 | O4: =IF(MONTH($K$1)<>MONTH($K$1-(WEEKDAY($K$1,1)-(день_начала-1))-IF((WEEKDAY($K$1,1)-(день_начала-1))<=0,7,0)+(ROW(O4)-ROW($K$3))*7+(COLUMN(O4)-COLUMN($K$3)+1)),"",$K$1-(WEEKDAY($K$1,1)-(день_начала-1))-IF((WEEKDAY($K$1,1)-(день_начала-1))<=0,7,0)+(ROW(O4)-ROW($K$3))*7+(COLUMN(O4)-COLUMN($K$3)+1)) -> 45723 | P4: =IF(MONTH($K$1)<>MONTH($K$1-(WEEKDAY($K$1,1)-(день_начала-1))-IF((WEEKDAY($K$1,1)-(день_начала-1))<=0,7,0)+(ROW(P4)-ROW($K$3))*7+(COLUMN(P4)-COLUMN($K$3)+1)),"",$K$1-(WEEKDAY($K$1,1)-(день_начала-1))-IF((WEEKDAY($K$1,1)-(день_начала-1))<=0,7,0)+(ROW(P4)-ROW($K$3))*7+(COLUMN(P4)-COLUMN($K$3)+1)) -> 45724 | Q4: =IF(MONTH($K$1)<>MONTH($K$1-(WEEKDAY($K$1,1)-(день_начала-1))-IF((WEEKDAY($K$1,1)-(день_начала-1))<=0,7,0)+(ROW(Q4)-ROW($K$3))*7+(COLUMN(Q4)-COLUMN($K$3)+1)),"",$K$1-(WEEKDAY($K$1,1)-(день_начала-1))-IF((WEEKDAY($K$1,1)-(день_начала-1))<=0,7,0)+(ROW(Q4)-ROW($K$3))*7+(COLUMN(Q4)-COLUMN($K$3)+1)) -> 45725 | S4: =IF(MONTH($S$1)<>MONTH($S$1-(WEEKDAY($S$1,1)-(день_начала-1))-IF((WEEKDAY($S$1,1)-(день_начала-1))<=0,7,0)+(ROW(S4)-ROW($S$3))*7+(COLUMN(S4)-COLUMN($S$3)+1)),"",$S$1-(WEEKDAY($S$1,1)-(день_начала-1))-IF((WEEKDAY($S$1,1)-(день_начала-1))<=0,7,0)+(ROW(S4)-ROW($S$3))*7+(COLUMN(S4)-COLUMN($S$3)+1)) -> 45782 | T4: =IF(MONTH($S$1)<>MONTH($S$1-(WEEKDAY($S$1,1)-(день_начала-1))-IF((WEEKDAY($S$1,1)-(день_начала-1))<=0,7,0)+(ROW(T4)-ROW($S$3))*7+(COLUMN(T4)-COLUMN($S$3)+1)),"",$S$1-(WEEKDAY($S$1,1)-(день_начала-1))-IF((WEEKDAY($S$1,1)-(день_начала-1))<=0,7,0)+(ROW(T4)-ROW($S$3))*7+(COLUMN(T4)-COLUMN($S$3)+1)) -> 45783 | U4: =IF(MONTH($S$1)<>MONTH($S$1-(WEEKDAY($S$1,1)-(день_начала-1))-IF((WEEKDAY($S$1,1)-(день_начала-1))<=0,7,0)+(ROW(U4)-ROW($S$3))*7+(COLUMN(U4)-COLUMN($S$3)+1)),"",$S$1-(WEEKDAY($S$1,1)-(день_начала-1))-IF((WEEKDAY($S$1,1)-(день_начала-1))<=0,7,0)+(ROW(U4)-ROW($S$3))*7+(COLUMN(U4)-COLUMN($S$3)+1)) -> 45784 | V4: =IF(MONTH($S$1)<>MONTH($S$1-(WEEKDAY($S$1,1)-(день_начала-1))-IF((WEEKDAY($S$1,1)-(день_начала-1))<=0,7,0)+(ROW(V4)-ROW($S$3))*7+(COLUMN(V4)-COLUMN($S$3)+1)),"",$S$1-(WEEKDAY($S$1,1)-(день_начала-1))-IF((WEEKDAY($S$1,1)-(день_начала-1))<=0,7,0)+(ROW(V4)-ROW($S$3))*7+(COLUMN(V4)-COLUMN($S$3)+1)) -> 45785 | W4: =IF(MONTH($S$1)<>MONTH($S$1-(WEEKDAY($S$1,1)-(день_начала-1))-IF((WEEKDAY($S$1,1)-(день_начала-1))<=0,7,0)+(ROW(W4)-ROW($S$3))*7+(COLUMN(W4)-COLUMN($S$3)+1)),"",$S$1-(WEEKDAY($S$1,1)-(день_начала-1))-IF((WEEKDAY($S$1,1)-(день_начала-1))<=0,7,0)+(ROW(W4)-ROW($S$3))*7+(COLUMN(W4)-COLUMN($S$3)+1)) -> 45786 | X4: =IF(MONTH($S$1)<>MONTH($S$1-(WEEKDAY($S$1,1)-(день_начала-1))-IF((WEEKDAY($S$1,1)-(день_начала-1))<=0,7,0)+(ROW(X4)-ROW($S$3))*7+(COLUMN(X4)-COLUMN($S$3)+1)),"",$S$1-(WEEKDAY($S$1,1)-(день_начала-1))-IF((WEEKDAY($S$1,1)-(день_начала-1))<=0,7,0)+(ROW(X4)-ROW($S$3))*7+(COLUMN(X4)-COLUMN($S$3)+1)) -> 45787 | Y4: =IF(MONTH($S$1)<>MONTH($S$1-(WEEKDAY($S$1,1)-(день_начала-1))-IF((WEEKDAY($S$1,1)-(день_начала-1))<=0,7,0)+(ROW(Y4)-ROW($S$3))*7+(COLUMN(Y4)-COLUMN($S$3)+1)),"",$S$1-(WEEKDAY($S$1,1)-(день_начала-1))-IF((WEEKDAY($S$1,1)-(день_начала-1))<=0,7,0)+(ROW(Y4)-ROW($S$3))*7+(COLUMN(Y4)-COLUMN($S$3)+1)) -> 45788
K5: =IF(MONTH($K$1)<>MONTH($K$1-(WEEKDAY($K$1,1)-(день_начала-1))-IF((WEEKDAY($K$1,1)-(день_начала-1))<=0,7,0)+(ROW(K5)-ROW($K$3))*7+(COLUMN(K5)-COLUMN($K$3)+1)),"",$K$1-(WEEKDAY($K$1,1)-(день_начала-1))-IF((WEEKDAY($K$1,1)-(день_начала-1))<=0,7,0)+(ROW(K5)-ROW($K$3))*7+(COLUMN(K5)-COLUMN($K$3)+1)) -> 45726 | L5: =IF(MONTH($K$1)<>MONTH($K$1-(WEEKDAY($K$1,1)-(день_начала-1))-IF((WEEKDAY($K$1,1)-(день_начала-1))<=0,7,0)+(ROW(L5)-ROW($K$3))*7+(COLUMN(L5)-COLUMN($K$3)+1)),"",$K$1-(WEEKDAY($K$1,1)-(день_начала-1))-IF((WEEKDAY($K$1,1)-(день_начала-1))<=0,7,0)+(ROW(L5)-ROW($K$3))*7+(COLUMN(L5)-COLUMN($K$3)+1)) -> 45727 | M5: =IF(MONTH($K$1)<>MONTH($K$1-(WEEKDAY($K$1,1)-(день_начала-1))-IF((WEEKDAY($K$1,1)-(день_начала-1))<=0,7,0)+(ROW(M5)-ROW($K$3))*7+(COLUMN(M5)-COLUMN($K$3)+1)),"",$K$1-(WEEKDAY($K$1,1)-(день_начала-1))-IF((WEEKDAY($K$1,1)-(день_начала-1))<=0,7,0)+(ROW(M5)-ROW($K$3))*7+(COLUMN(M5)-COLUMN($K$3)+1)) -> 45728 | N5: =IF(MONTH($K$1)<>MONTH($K$1-(WEEKDAY($K$1,1)-(день_начала-1))-IF((WEEKDAY($K$1,1)-(день_начала-1))<=0,7,0)+(ROW(N5)-ROW($K$3))*7+(COLUMN(N5)-COLUMN($K$3)+1)),"",$K$1-(WEEKDAY($K$1,1)-(день_начала-1))-IF((WEEKDAY($K$1,1)-(день_начала-1))<=0,7,0)+(ROW(N5)-ROW($K$3))*7+(COLUMN(N5)-COLUMN($K$3)+1)) -> 45729 | O5: =IF(MONTH($K$1)<>MONTH($K$1-(WEEKDAY($K$1,1)-(день_начала-1))-IF((WEEKDAY($K$1,1)-(день_начала-1))<=0,7,0)+(ROW(O5)-ROW($K$3))*7+(COLUMN(O5)-COLUMN($K$3)+1)),"",$K$1-(WEEKDAY($K$1,1)-(день_начала-1))-IF((WEEKDAY($K$1,1)-(день_начала-1))<=0,7,0)+(ROW(O5)-ROW($K$3))*7+(COLUMN(O5)-COLUMN($K$3)+1)) -> 45730 | P5: =IF(MONTH($K$1)<>MONTH($K$1-(WEEKDAY($K$1,1)-(день_начала-1))-IF((WEEKDAY($K$1,1)-(день_начала-1))<=0,7,0)+(ROW(P5)-ROW($K$3))*7+(COLUMN(P5)-COLUMN($K$3)+1)),"",$K$1-(WEEKDAY($K$1,1)-(день_начала-1))-IF((WEEKDAY($K$1,1)-(день_начала-1))<=0,7,0)+(ROW(P5)-ROW($K$3))*7+(COLUMN(P5)-COLUMN($K$3)+1)) -> 45731 | Q5: =IF(MONTH($K$1)<>MONTH($K$1-(WEEKDAY($K$1,1)-(день_начала-1))-IF((WEEKDAY($K$1,1)-(день_начала-1))<=0,7,0)+(ROW(Q5)-ROW($K$3))*7+(COLUMN(Q5)-COLUMN($K$3)+1)),"",$K$1-(WEEKDAY($K$1,1)-(день_начала-1))-IF((WEEKDAY($K$1,1)-(день_начала-1))<=0,7,0)+(ROW(Q5)-ROW($K$3))*7+(COLUMN(Q5)-COLUMN($K$3)+1)) -> 45732 | S5: =IF(MONTH($S$1)<>MONTH($S$1-(WEEKDAY($S$1,1)-(день_начала-1))-IF((WEEKDAY($S$1,1)-(день_начала-1))<=0,7,0)+(ROW(S5)-ROW($S$3))*7+(COLUMN(S5)-COLUMN($S$3)+1)),"",$S$1-(WEEKDAY($S$1,1)-(день_начала-1))-IF((WEEKDAY($S$1,1)-(день_начала-1))<=0,7,0)+(ROW(S5)-ROW($S$3))*7+(COLUMN(S5)-COLUMN($S$3)+1)) -> 45789 | T5: =IF(MONTH($S$1)<>MONTH($S$1-(WEEKDAY($S$1,1)-(день_начала-1))-IF((WEEKDAY($S$1,1)-(день_начала-1))<=0,7,0)+(ROW(T5)-ROW($S$3))*7+(COLUMN(T5)-COLUMN($S$3)+1)),"",$S$1-(WEEKDAY($S$1,1)-(день_начала-1))-IF((WEEKDAY($S$1,1)-(день_начала-1))<=0,7,0)+(ROW(T5)-ROW($S$3))*7+(COLUMN(T5)-COLUMN($S$3)+1)) -> 45790 | U5: =IF(MONTH($S$1)<>MONTH($S$1-(WEEKDAY($S$1,1)-(день_начала-1))-IF((WEEKDAY($S$1,1)-(день_начала-1))<=0,7,0)+(ROW(U5)-ROW($S$3))*7+(COLUMN(U5)-COLUMN($S$3)+1)),"",$S$1-(WEEKDAY($S$1,1)-(день_начала-1))-IF((WEEKDAY($S$1,1)-(день_начала-1))<=0,7,0)+(ROW(U5)-ROW($S$3))*7+(COLUMN(U5)-COLUMN($S$3)+1)) -> 45791 | V5: =IF(MONTH($S$1)<>MONTH($S$1-(WEEKDAY($S$1,1)-(день_начала-1))-IF((WEEKDAY($S$1,1)-(день_начала-1))<=0,7,0)+(ROW(V5)-ROW($S$3))*7+(COLUMN(V5)-COLUMN($S$3)+1)),"",$S$1-(WEEKDAY($S$1,1)-(день_начала-1))-IF((WEEKDAY($S$1,1)-(день_начала-1))<=0,7,0)+(ROW(V5)-ROW($S$3))*7+(COLUMN(V5)-COLUMN($S$3)+1)) -> 45792 | W5: =IF(MONTH($S$1)<>MONTH($S$1-(WEEKDAY($S$1,1)-(день_начала-1))-IF((WEEKDAY($S$1,1)-(день_начала-1))<=0,7,0)+(ROW(W5)-ROW($S$3))*7+(COLUMN(W5)-COLUMN($S$3)+1)),"",$S$1-(WEEKDAY($S$1,1)-(день_начала-1))-IF((WEEKDAY($S$1,1)-(день_начала-1))<=0,7,0)+(ROW(W5)-ROW($S$3))*7+(COLUMN(W5)-COLUMN($S$3)+1)) -> 45793 | X5: =IF(MONTH($S$1)<>MONTH($S$1-(WEEKDAY($S$1,1)-(день_начала-1))-IF((WEEKDAY($S$1,1)-(день_начала-1))<=0,7,0)+(ROW(X5)-ROW($S$3))*7+(COLUMN(X5)-COLUMN($S$3)+1)),"",$S$1-(WEEKDAY($S$1,1)-(день_начала-1))-IF((WEEKDAY($S$1,1)-(день_начала-1))<=0,7,0)+(ROW(X5)-ROW($S$3))*7+(COLUMN(X5)-COLUMN($S$3)+1)) -> 45794 | Y5: =IF(MONTH($S$1)<>MONTH($S$1-(WEEKDAY($S$1,1)-(день_начала-1))-IF((WEEKDAY($S$1,1)-(день_начала-1))<=0,7,0)+(ROW(Y5)-ROW($S$3))*7+(COLUMN(Y5)-COLUMN($S$3)+1)),"",$S$1-(WEEKDAY($S$1,1)-(день_начала-1))-IF((WEEKDAY($S$1,1)-(день_начала-1))<=0,7,0)+(ROW(Y5)-ROW($S$3))*7+(COLUMN(Y5)-COLUMN($S$3)+1)) -> 45795
K6: =IF(MONTH($K$1)<>MONTH($K$1-(WEEKDAY($K$1,1)-(день_начала-1))-IF((WEEKDAY($K$1,1)-(день_начала-1))<=0,7,0)+(ROW(K6)-ROW($K$3))*7+(COLUMN(K6)-COLUMN($K$3)+1)),"",$K$1-(WEEKDAY($K$1,1)-(день_начала-1))-IF((WEEKDAY($K$1,1)-(день_начала-1))<=0,7,0)+(ROW(K6)-ROW($K$3))*7+(COLUMN(K6)-COLUMN($K$3)+1)) -> 45733 | L6: =IF(MONTH($K$1)<>MONTH($K$1-(WEEKDAY($K$1,1)-(день_начала-1))-IF((WEEKDAY($K$1,1)-(день_начала-1))<=0,7,0)+(ROW(L6)-ROW($K$3))*7+(COLUMN(L6)-COLUMN($K$3)+1)),"",$K$1-(WEEKDAY($K$1,1)-(день_начала-1))-IF((WEEKDAY($K$1,1)-(день_начала-1))<=0,7,0)+(ROW(L6)-ROW($K$3))*7+(COLUMN(L6)-COLUMN($K$3)+1)) -> 45734 | M6: =IF(MONTH($K$1)<>MONTH($K$1-(WEEKDAY($K$1,1)-(день_начала-1))-IF((WEEKDAY($K$1,1)-(день_начала-1))<=0,7,0)+(ROW(M6)-ROW($K$3))*7+(COLUMN(M6)-COLUMN($K$3)+1)),"",$K$1-(WEEKDAY($K$1,1)-(день_начала-1))-IF((WEEKDAY($K$1,1)-(день_начала-1))<=0,7,0)+(ROW(M6)-ROW($K$3))*7+(COLUMN(M6)-COLUMN($K$3)+1)) -> 45735 | N6: =IF(MONTH($K$1)<>MONTH($K$1-(WEEKDAY($K$1,1)-(день_начала-1))-IF((WEEKDAY($K$1,1)-(день_начала-1))<=0,7,0)+(ROW(N6)-ROW($K$3))*7+(COLUMN(N6)-COLUMN($K$3)+1)),"",$K$1-(WEEKDAY($K$1,1)-(день_начала-1))-IF((WEEKDAY($K$1,1)-(день_начала-1))<=0,7,0)+(ROW(N6)-ROW($K$3))*7+(COLUMN(N6)-COLUMN($K$3)+1)) -> 45736 | O6: =IF(MONTH($K$1)<>MONTH($K$1-(WEEKDAY($K$1,1)-(день_начала-1))-IF((WEEKDAY($K$1,1)-(день_начала-1))<=0,7,0)+(ROW(O6)-ROW($K$3))*7+(COLUMN(O6)-COLUMN($K$3)+1)),"",$K$1-(WEEKDAY($K$1,1)-(день_начала-1))-IF((WEEKDAY($K$1,1)-(день_начала-1))<=0,7,0)+(ROW(O6)-ROW($K$3))*7+(COLUMN(O6)-COLUMN($K$3)+1)) -> 45737 | P6: =IF(MONTH($K$1)<>MONTH($K$1-(WEEKDAY($K$1,1)-(день_начала-1))-IF((WEEKDAY($K$1,1)-(день_начала-1))<=0,7,0)+(ROW(P6)-ROW($K$3))*7+(COLUMN(P6)-COLUMN($K$3)+1)),"",$K$1-(WEEKDAY($K$1,1)-(день_начала-1))-IF((WEEKDAY($K$1,1)-(день_начала-1))<=0,7,0)+(ROW(P6)-ROW($K$3))*7+(COLUMN(P6)-COLUMN($K$3)+1)) -> 45738 | Q6: =IF(MONTH($K$1)<>MONTH($K$1-(WEEKDAY($K$1,1)-(день_начала-1))-IF((WEEKDAY($K$1,1)-(день_начала-1))<=0,7,0)+(ROW(Q6)-ROW($K$3))*7+(COLUMN(Q6)-COLUMN($K$3)+1)),"",$K$1-(WEEKDAY($K$1,1)-(день_начала-1))-IF((WEEKDAY($K$1,1)-(день_начала-1))<=0,7,0)+(ROW(Q6)-ROW($K$3))*7+(COLUMN(Q6)-COLUMN($K$3)+1)) -> 45739 | S6: =IF(MONTH($S$1)<>MONTH($S$1-(WEEKDAY($S$1,1)-(день_начала-1))-IF((WEEKDAY($S$1,1)-(день_начала-1))<=0,7,0)+(ROW(S6)-ROW($S$3))*7+(COLUMN(S6)-COLUMN($S$3)+1)),"",$S$1-(WEEKDAY($S$1,1)-(день_начала-1))-IF((WEEKDAY($S$1,1)-(день_начала-1))<=0,7,0)+(ROW(S6)-ROW($S$3))*7+(COLUMN(S6)-COLUMN($S$3)+1)) -> 45796 | T6: =IF(MONTH($S$1)<>MONTH($S$1-(WEEKDAY($S$1,1)-(день_начала-1))-IF((WEEKDAY($S$1,1)-(день_начала-1))<=0,7,0)+(ROW(T6)-ROW($S$3))*7+(COLUMN(T6)-COLUMN($S$3)+1)),"",$S$1-(WEEKDAY($S$1,1)-(день_начала-1))-IF((WEEKDAY($S$1,1)-(день_начала-1))<=0,7,0)+(ROW(T6)-ROW($S$3))*7+(COLUMN(T6)-COLUMN($S$3)+1)) -> 45797 | U6: =IF(MONTH($S$1)<>MONTH($S$1-(WEEKDAY($S$1,1)-(день_начала-1))-IF((WEEKDAY($S$1,1)-(день_начала-1))<=0,7,0)+(ROW(U6)-ROW($S$3))*7+(COLUMN(U6)-COLUMN($S$3)+1)),"",$S$1-(WEEKDAY($S$1,1)-(день_начала-1))-IF((WEEKDAY($S$1,1)-(день_начала-1))<=0,7,0)+(ROW(U6)-ROW($S$3))*7+(COLUMN(U6)-COLUMN($S$3)+1)) -> 45798 | V6: =IF(MONTH($S$1)<>MONTH($S$1-(WEEKDAY($S$1,1)-(день_начала-1))-IF((WEEKDAY($S$1,1)-(день_начала-1))<=0,7,0)+(ROW(V6)-ROW($S$3))*7+(COLUMN(V6)-COLUMN($S$3)+1)),"",$S$1-(WEEKDAY($S$1,1)-(день_начала-1))-IF((WEEKDAY($S$1,1)-(день_начала-1))<=0,7,0)+(ROW(V6)-ROW($S$3))*7+(COLUMN(V6)-COLUMN($S$3)+1)) -> 45799 | W6: =IF(MONTH($S$1)<>MONTH($S$1-(WEEKDAY($S$1,1)-(день_начала-1))-IF((WEEKDAY($S$1,1)-(день_начала-1))<=0,7,0)+(ROW(W6)-ROW($S$3))*7+(COLUMN(W6)-COLUMN($S$3)+1)),"",$S$1-(WEEKDAY($S$1,1)-(день_начала-1))-IF((WEEKDAY($S$1,1)-(день_начала-1))<=0,7,0)+(ROW(W6)-ROW($S$3))*7+(COLUMN(W6)-COLUMN($S$3)+1)) -> 45800 | X6: =IF(MONTH($S$1)<>MONTH($S$1-(WEEKDAY($S$1,1)-(день_начала-1))-IF((WEEKDAY($S$1,1)-(день_начала-1))<=0,7,0)+(ROW(X6)-ROW($S$3))*7+(COLUMN(X6)-COLUMN($S$3)+1)),"",$S$1-(WEEKDAY($S$1,1)-(день_начала-1))-IF((WEEKDAY($S$1,1)-(день_начала-1))<=0,7,0)+(ROW(X6)-ROW($S$3))*7+(COLUMN(X6)-COLUMN($S$3)+1)) -> 45801 | Y6: =IF(MONTH($S$1)<>MONTH($S$1-(WEEKDAY($S$1,1)-(день_начала-1))-IF((WEEKDAY($S$1,1)-(день_начала-1))<=0,7,0)+(ROW(Y6)-ROW($S$3))*7+(COLUMN(Y6)-COLUMN($S$3)+1)),"",$S$1-(WEEKDAY($S$1,1)-(день_начала-1))-IF((WEEKDAY($S$1,1)-(день_начала-1))<=0,7,0)+(ROW(Y6)-ROW($S$3))*7+(COLUMN(Y6)-COLUMN($S$3)+1)) -> 45802
K7: =IF(MONTH($K$1)<>MONTH($K$1-(WEEKDAY($K$1,1)-(день_начала-1))-IF((WEEKDAY($K$1,1)-(день_начала-1))<=0,7,0)+(ROW(K7)-ROW($K$3))*7+(COLUMN(K7)-COLUMN($K$3)+1)),"",$K$1-(WEEKDAY($K$1,1)-(день_начала-1))-IF((WEEKDAY($K$1,1)-(день_начала-1))<=0,7,0)+(ROW(K7)-ROW($K$3))*7+(COLUMN(K7)-COLUMN($K$3)+1)) -> 45740 | L7: =IF(MONTH($K$1)<>MONTH($K$1-(WEEKDAY($K$1,1)-(день_начала-1))-IF((WEEKDAY($K$1,1)-(день_начала-1))<=0,7,0)+(ROW(L7)-ROW($K$3))*7+(COLUMN(L7)-COLUMN($K$3)+1)),"",$K$1-(WEEKDAY($K$1,1)-(день_начала-1))-IF((WEEKDAY($K$1,1)-(день_начала-1))<=0,7,0)+(ROW(L7)-ROW($K$3))*7+(COLUMN(L7)-COLUMN($K$3)+1)) -> 45741 | M7: =IF(MONTH($K$1)<>MONTH($K$1-(WEEKDAY($K$1,1)-(день_начала-1))-IF((WEEKDAY($K$1,1)-(день_начала-1))<=0,7,0)+(ROW(M7)-ROW($K$3))*7+(COLUMN(M7)-COLUMN($K$3)+1)),"",$K$1-(WEEKDAY($K$1,1)-(день_начала-1))-IF((WEEKDAY($K$1,1)-(день_начала-1))<=0,7,0)+(ROW(M7)-ROW($K$3))*7+(COLUMN(M7)-COLUMN($K$3)+1)) -> 45742 | N7: =IF(MONTH($K$1)<>MONTH($K$1-(WEEKDAY($K$1,1)-(день_начала-1))-IF((WEEKDAY($K$1,1)-(день_начала-1))<=0,7,0)+(ROW(N7)-ROW($K$3))*7+(COLUMN(N7)-COLUMN($K$3)+1)),"",$K$1-(WEEKDAY($K$1,1)-(день_начала-1))-IF((WEEKDAY($K$1,1)-(день_начала-1))<=0,7,0)+(ROW(N7)-ROW($K$3))*7+(COLUMN(N7)-COLUMN($K$3)+1)) -> 45743 | O7: =IF(MONTH($K$1)<>MONTH($K$1-(WEEKDAY($K$1,1)-(день_начала-1))-IF((WEEKDAY($K$1,1)-(день_начала-1))<=0,7,0)+(ROW(O7)-ROW($K$3))*7+(COLUMN(O7)-COLUMN($K$3)+1)),"",$K$1-(WEEKDAY($K$1,1)-(день_начала-1))-IF((WEEKDAY($K$1,1)-(день_начала-1))<=0,7,0)+(ROW(O7)-ROW($K$3))*7+(COLUMN(O7)-COLUMN($K$3)+1)) -> 45744 | P7: =IF(MONTH($K$1)<>MONTH($K$1-(WEEKDAY($K$1,1)-(день_начала-1))-IF((WEEKDAY($K$1,1)-(день_начала-1))<=0,7,0)+(ROW(P7)-ROW($K$3))*7+(COLUMN(P7)-COLUMN($K$3)+1)),"",$K$1-(WEEKDAY($K$1,1)-(день_начала-1))-IF((WEEKDAY($K$1,1)-(день_начала-1))<=0,7,0)+(ROW(P7)-ROW($K$3))*7+(COLUMN(P7)-COLUMN($K$3)+1)) -> 45745 | Q7: =IF(MONTH($K$1)<>MONTH($K$1-(WEEKDAY($K$1,1)-(день_начала-1))-IF((WEEKDAY($K$1,1)-(день_начала-1))<=0,7,0)+(ROW(Q7)-ROW($K$3))*7+(COLUMN(Q7)-COLUMN($K$3)+1)),"",$K$1-(WEEKDAY($K$1,1)-(день_начала-1))-IF((WEEKDAY($K$1,1)-(день_начала-1))<=0,7,0)+(ROW(Q7)-ROW($K$3))*7+(COLUMN(Q7)-COLUMN($K$3)+1)) -> 45746 | S7: =IF(MONTH($S$1)<>MONTH($S$1-(WEEKDAY($S$1,1)-(день_начала-1))-IF((WEEKDAY($S$1,1)-(день_начала-1))<=0,7,0)+(ROW(S7)-ROW($S$3))*7+(COLUMN(S7)-COLUMN($S$3)+1)),"",$S$1-(WEEKDAY($S$1,1)-(день_начала-1))-IF((WEEKDAY($S$1,1)-(день_начала-1))<=0,7,0)+(ROW(S7)-ROW($S$3))*7+(COLUMN(S7)-COLUMN($S$3)+1)) -> 45803 | T7: =IF(MONTH($S$1)<>MONTH($S$1-(WEEKDAY($S$1,1)-(день_начала-1))-IF((WEEKDAY($S$1,1)-(день_начала-1))<=0,7,0)+(ROW(T7)-ROW($S$3))*7+(COLUMN(T7)-COLUMN($S$3)+1)),"",$S$1-(WEEKDAY($S$1,1)-(день_начала-1))-IF((WEEKDAY($S$1,1)-(день_начала-1))<=0,7,0)+(ROW(T7)-ROW($S$3))*7+(COLUMN(T7)-COLUMN($S$3)+1)) -> 45804 | U7: =IF(MONTH($S$1)<>MONTH($S$1-(WEEKDAY($S$1,1)-(день_начала-1))-IF((WEEKDAY($S$1,1)-(день_начала-1))<=0,7,0)+(ROW(U7)-ROW($S$3))*7+(COLUMN(U7)-COLUMN($S$3)+1)),"",$S$1-(WEEKDAY($S$1,1)-(день_начала-1))-IF((WEEKDAY($S$1,1)-(день_начала-1))<=0,7,0)+(ROW(U7)-ROW($S$3))*7+(COLUMN(U7)-COLUMN($S$3)+1)) -> 45805 | V7: =IF(MONTH($S$1)<>MONTH($S$1-(WEEKDAY($S$1,1)-(день_начала-1))-IF((WEEKDAY($S$1,1)-(день_начала-1))<=0,7,0)+(ROW(V7)-ROW($S$3))*7+(COLUMN(V7)-COLUMN($S$3)+1)),"",$S$1-(WEEKDAY($S$1,1)-(день_начала-1))-IF((WEEKDAY($S$1,1)-(день_начала-1))<=0,7,0)+(ROW(V7)-ROW($S$3))*7+(COLUMN(V7)-COLUMN($S$3)+1)) -> 45806 | W7: =IF(MONTH($S$1)<>MONTH($S$1-(WEEKDAY($S$1,1)-(день_начала-1))-IF((WEEKDAY($S$1,1)-(день_начала-1))<=0,7,0)+(ROW(W7)-ROW($S$3))*7+(COLUMN(W7)-COLUMN($S$3)+1)),"",$S$1-(WEEKDAY($S$1,1)-(день_начала-1))-IF((WEEKDAY($S$1,1)-(день_начала-1))<=0,7,0)+(ROW(W7)-ROW($S$3))*7+(COLUMN(W7)-COLUMN($S$3)+1)) -> 45807 | X7: =IF(MONTH($S$1)<>MONTH($S$1-(WEEKDAY($S$1,1)-(день_начала-1))-IF((WEEKDAY($S$1,1)-(день_начала-1))<=0,7,0)+(ROW(X7)-ROW($S$3))*7+(COLUMN(X7)-COLUMN($S$3)+1)),"",$S$1-(WEEKDAY($S$1,1)-(день_начала-1))-IF((WEEKDAY($S$1,1)-(день_начала-1))<=0,7,0)+(ROW(X7)-ROW($S$3))*7+(COLUMN(X7)-COLUMN($S$3)+1)) -> 45808 | Y7: =IF(MONTH($S$1)<>MONTH($S$1-(WEEKDAY($S$1,1)-(день_начала-1))-IF((WEEKDAY($S$1,1)-(день_начала-1))<=0,7,0)+(ROW(Y7)-ROW($S$3))*7+(COLUMN(Y7)-COLUMN($S$3)+1)),"",$S$1-(WEEKDAY($S$1,1)-(день_начала-1))-IF((WEEKDAY($S$1,1)-(день_начала-1))<=0,7,0)+(ROW(Y7)-ROW($S$3))*7+(COLUMN(Y7)-COLUMN($S$3)+1))
K8: =IF(MONTH($K$1)<>MONTH($K$1-(WEEKDAY($K$1,1)-(день_начала-1))-IF((WEEKDAY($K$1,1)-(день_начала-1))<=0,7,0)+(ROW(K8)-ROW($K$3))*7+(COLUMN(K8)-COLUMN($K$3)+1)),"",$K$1-(WEEKDAY($K$1,1)-(день_начала-1))-IF((WEEKDAY($K$1,1)-(день_начала-1))<=0,7,0)+(ROW(K8)-ROW($K$3))*7+(COLUMN(K8)-COLUMN($K$3)+1)) -> 45747 | L8: =IF(MONTH($K$1)<>MONTH($K$1-(WEEKDAY($K$1,1)-(день_начала-1))-IF((WEEKDAY($K$1,1)-(день_начала-1))<=0,7,0)+(ROW(L8)-ROW($K$3))*7+(COLUMN(L8)-COLUMN($K$3)+1)),"",$K$1-(WEEKDAY($K$1,1)-(день_начала-1))-IF((WEEKDAY($K$1,1)-(день_начала-1))<=0,7,0)+(ROW(L8)-ROW($K$3))*7+(COLUMN(L8)-COLUMN($K$3)+1)) | M8: =IF(MONTH($K$1)<>MONTH($K$1-(WEEKDAY($K$1,1)-(день_начала-1))-IF((WEEKDAY($K$1,1)-(день_начала-1))<=0,7,0)+(ROW(M8)-ROW($K$3))*7+(COLUMN(M8)-COLUMN($K$3)+1)),"",$K$1-(WEEKDAY($K$1,1)-(день_начала-1))-IF((WEEKDAY($K$1,1)-(день_начала-1))<=0,7,0)+(ROW(M8)-ROW($K$3))*7+(COLUMN(M8)-COLUMN($K$3)+1)) | N8: =IF(MONTH($K$1)<>MONTH($K$1-(WEEKDAY($K$1,1)-(день_начала-1))-IF((WEEKDAY($K$1,1)-(день_начала-1))<=0,7,0)+(ROW(N8)-ROW($K$3))*7+(COLUMN(N8)-COLUMN($K$3)+1)),"",$K$1-(WEEKDAY($K$1,1)-(день_начала-1))-IF((WEEKDAY($K$1,1)-(день_начала-1))<=0,7,0)+(ROW(N8)-ROW($K$3))*7+(COLUMN(N8)-COLUMN($K$3)+1)) | O8: =IF(MONTH($K$1)<>MONTH($K$1-(WEEKDAY($K$1,1)-(день_начала-1))-IF((WEEKDAY($K$1,1)-(день_начала-1))<=0,7,0)+(ROW(O8)-ROW($K$3))*7+(COLUMN(O8)-COLUMN($K$3)+1)),"",$K$1-(WEEKDAY($K$1,1)-(день_начала-1))-IF((WEEKDAY($K$1,1)-(день_начала-1))<=0,7,0)+(ROW(O8)-ROW($K$3))*7+(COLUMN(O8)-COLUMN($K$3)+1)) | P8: =IF(MONTH($K$1)<>MONTH($K$1-(WEEKDAY($K$1,1)-(день_начала-1))-IF((WEEKDAY($K$1,1)-(день_начала-1))<=0,7,0)+(ROW(P8)-ROW($K$3))*7+(COLUMN(P8)-COLUMN($K$3)+1)),"",$K$1-(WEEKDAY($K$1,1)-(день_начала-1))-IF((WEEKDAY($K$1,1)-(день_начала-1))<=0,7,0)+(ROW(P8)-ROW($K$3))*7+(COLUMN(P8)-COLUMN($K$3)+1)) | Q8: =IF(MONTH($K$1)<>MONTH($K$1-(WEEKDAY($K$1,1)-(день_начала-1))-IF((WEEKDAY($K$1,1)-(день_начала-1))<=0,7,0)+(ROW(Q8)-ROW($K$3))*7+(COLUMN(Q8)-COLUMN($K$3)+1)),"",$K$1-(WEEKDAY($K$1,1)-(день_начала-1))-IF((WEEKDAY($K$1,1)-(день_начала-1))<=0,7,0)+(ROW(Q8)-ROW($K$3))*7+(COLUMN(Q8)-COLUMN($K$3)+1)) | S8: =IF(MONTH($S$1)<>MONTH($S$1-(WEEKDAY($S$1,1)-(день_начала-1))-IF((WEEKDAY($S$1,1)-(день_начала-1))<=0,7,0)+(ROW(S8)-ROW($S$3))*7+(COLUMN(S8)-COLUMN($S$3)+1)),"",$S$1-(WEEKDAY($S$1,1)-(день_начала-1))-IF((WEEKDAY($S$1,1)-(день_начала-1))<=0,7,0)+(ROW(S8)-ROW($S$3))*7+(COLUMN(S8)-COLUMN($S$3)+1)) | T8: =IF(MONTH($S$1)<>MONTH($S$1-(WEEKDAY($S$1,1)-(день_начала-1))-IF((WEEKDAY($S$1,1)-(день_начала-1))<=0,7,0)+(ROW(T8)-ROW($S$3))*7+(COLUMN(T8)-COLUMN($S$3)+1)),"",$S$1-(WEEKDAY($S$1,1)-(день_начала-1))-IF((WEEKDAY($S$1,1)-(день_начала-1))<=0,7,0)+(ROW(T8)-ROW($S$3))*7+(COLUMN(T8)-COLUMN($S$3)+1)) | U8: =IF(MONTH($S$1)<>MONTH($S$1-(WEEKDAY($S$1,1)-(день_начала-1))-IF((WEEKDAY($S$1,1)-(день_начала-1))<=0,7,0)+(ROW(U8)-ROW($S$3))*7+(COLUMN(U8)-COLUMN($S$3)+1)),"",$S$1-(WEEKDAY($S$1,1)-(день_начала-1))-IF((WEEKDAY($S$1,1)-(день_начала-1))<=0,7,0)+(ROW(U8)-ROW($S$3))*7+(COLUMN(U8)-COLUMN($S$3)+1)) | V8: =IF(MONTH($S$1)<>MONTH($S$1-(WEEKDAY($S$1,1)-(день_начала-1))-IF((WEEKDAY($S$1,1)-(день_начала-1))<=0,7,0)+(ROW(V8)-ROW($S$3))*7+(COLUMN(V8)-COLUMN($S$3)+1)),"",$S$1-(WEEKDAY($S$1,1)-(день_начала-1))-IF((WEEKDAY($S$1,1)-(день_начала-1))<=0,7,0)+(ROW(V8)-ROW($S$3))*7+(COLUMN(V8)-COLUMN($S$3)+1)) | W8: =IF(MONTH($S$1)<>MONTH($S$1-(WEEKDAY($S$1,1)-(день_начала-1))-IF((WEEKDAY($S$1,1)-(день_начала-1))<=0,7,0)+(ROW(W8)-ROW($S$3))*7+(COLUMN(W8)-COLUMN($S$3)+1)),"",$S$1-(WEEKDAY($S$1,1)-(день_начала-1))-IF((WEEKDAY($S$1,1)-(день_начала-1))<=0,7,0)+(ROW(W8)-ROW($S$3))*7+(COLUMN(W8)-COLUMN($S$3)+1)) | X8: =IF(MONTH($S$1)<>MONTH($S$1-(WEEKDAY($S$1,1)-(день_начала-1))-IF((WEEKDAY($S$1,1)-(день_начала-1))<=0,7,0)+(ROW(X8)-ROW($S$3))*7+(COLUMN(X8)-COLUMN($S$3)+1)),"",$S$1-(WEEKDAY($S$1,1)-(день_начала-1))-IF((WEEKDAY($S$1,1)-(день_начала-1))<=0,7,0)+(ROW(X8)-ROW($S$3))*7+(COLUMN(X8)-COLUMN($S$3)+1)) | Y8: =IF(MONTH($S$1)<>MONTH($S$1-(WEEKDAY($S$1,1)-(день_начала-1))-IF((WEEKDAY($S$1,1)-(день_начала-1))<=0,7,0)+(ROW(Y8)-ROW($S$3))*7+(COLUMN(Y8)-COLUMN($S$3)+1)),"",$S$1-(WEEKDAY($S$1,1)-(день_начала-1))-IF((WEEKDAY($S$1,1)-(день_начала-1))<=0,7,0)+(ROW(Y8)-ROW($S$3))*7+(COLUMN(Y8)-COLUMN($S$3)+1))
A9: =A10 -> 45747 | C9: =C10 -> 45748 | E9: =E10 -> 45749 | G9: =G10 -> 45750 | I9: =I10 -> 45751 | K9: =K10 -> 45752 | S9: =S10 -> 45753
A10: =$A$1-(WEEKDAY($A$1,1)-(день_начала-1))-IF((WEEKDAY($A$1,1)-(день_начала-1))<=0,7,0)+1 -> 45747 | C10: =A10+1 -> 45748 | E10: =C10+1 -> 45749 | G10: =E10+1 -> 45750 | I10: =G10+1 -> 45751 | K10: =I10+1 -> 45752 | S10: =K10+1 -> 45753
A16: =S10+1 -> 45754 | C16: =A16+1 -> 45755 | E16: =C16+1 -> 45756 | G16: =E16+1 -> 45757 | I16: =G16+1 -> 45758 | K16: =I16+1 -> 45759 | S16: =K16+1 -> 45760
A22: =S16+1 -> 45761 | C22: =A22+1 -> 45762 | E22: =C22+1 -> 45763 | G22: =E22+1 -> 45764 | I22: =G22+1 -> 45765 | K22: =I22+1 -> 45766 | S22: =K22+1 -> 45767
A28: =S22+1 -> 45768 | C28: =A28+1 -> 45769 | E28: =C28+1 -> 45770 | G28: =E28+1 -> 45771 | I28: =G28+1 -> 45772 | K28: =I28+1 -> 45773 | S28: =K28+1 -> 45774
A34: =S28+1 -> 45775 | C34: =A34+1 -> 45776 | E34: =C34+1 -> 45777 | G34: =E34+1 -> 45778 | I34: =G34+1 -> 45779 | K34: =I34+1 -> 45780 | S34: =K34+1 -> 45781
A40: =S34+1 -> 45782 | C40: =A40+1 -> 45783 | E40: Примечания

Sheet 5
A1: =DATE(Настройка!D5,Настройка!D7+4,1) -> 45778 | K1: =DATE(YEAR(A1),MONTH(A1)-1,1) -> 45748 | S1: =DATE(YEAR(A1),MONTH(A1)+1,1) -> 45809
K2: =INDEX({"Вс";"Пн";"Вт";"Ср";"Чт";"Пт";"Сб"},1+MOD(день_начала+1-2,7)) -> Пн | L2: =INDEX({"Вс";"Пн";"Вт";"Ср";"Чт";"Пт";"Сб"},1+MOD(день_начала+2-2,7)) -> Вт | M2: =INDEX({"Вс";"Пн";"Вт";"Ср";"Чт";"Пт";"Сб"},1+MOD(день_начала+3-2,7)) -> Ср | N2: =INDEX({"Вс";"Пн";"Вт";"Ср";"Чт";"Пт";"Сб"},1+MOD(день_начала+4-2,7)) -> Чт | O2: =INDEX({"Вс";"Пн";"Вт";"Ср";"Чт";"Пт";"Сб"},1+MOD(день_начала+5-2,7)) -> Пт | P2: =INDEX({"Вс";"Пн";"Вт";"Ср";"Чт";"Пт";"Сб"},1+MOD(день_начала+6-2,7)) -> Сб | Q2: =INDEX({"Вс";"Пн";"Вт";"Ср";"Чт";"Пт";"Сб"},1+MOD(день_начала+7-2,7)) -> Вс | S2: =INDEX({"Вс";"Пн";"Вт";"Ср";"Чт";"Пт";"Сб"},1+MOD(день_начала+1-2,7)) -> Пн | T2: =INDEX({"Вс";"Пн";"Вт";"Ср";"Чт";"Пт";"Сб"},1+MOD(день_начала+2-2,7)) -> Вт | U2: =INDEX({"Вс";"Пн";"Вт";"Ср";"Чт";"Пт";"Сб"},1+MOD(день_начала+3-2,7)) -> Ср | V2: =INDEX({"Вс";"Пн";"Вт";"Ср";"Чт";"Пт";"Сб"},1+MOD(день_начала+4-2,7)) -> Чт | W2: =INDEX({"Вс";"Пн";"Вт";"Ср";"Чт";"Пт";"Сб"},1+MOD(день_начала+5-2,7)) -> Пт | X2: =INDEX({"Вс";"Пн";"Вт";"Ср";"Чт";"Пт";"Сб"},1+MOD(день_начала+6-2,7)) -> Сб | Y2: =INDEX({"Вс";"Пн";"Вт";"Ср";"Чт";"Пт";"Сб"},1+MOD(день_начала+7-2,7)) -> Вс
K3: =IF(MONTH($K$1)<>MONTH($K$1-(WEEKDAY($K$1,1)-(день_начала-1))-IF((WEEKDAY($K$1,1)-(день_начала-1))<=0,7,0)+(ROW(K3)-ROW($K$3))*7+(COLUMN(K3)-COLUMN($K$3)+1)),"",$K$1-(WEEKDAY($K$1,1)-(день_начала-1))-IF((WEEKDAY($K$1,1)-(день_начала-1))<=0,7,0)+(ROW(K3)-ROW($K$3))*7+(COLUMN(K3)-COLUMN($K$3)+1)) | L3: =IF(MONTH($K$1)<>MONTH($K$1-(WEEKDAY($K$1,1)-(день_начала-1))-IF((WEEKDAY($K$1,1)-(день_начала-1))<=0,7,0)+(ROW(L3)-ROW($K$3))*7+(COLUMN(L3)-COLUMN($K$3)+1)),"",$K$1-(WEEKDAY($K$1,1)-(день_начала-1))-IF((WEEKDAY($K$1,1)-(день_начала-1))<=0,7,0)+(ROW(L3)-ROW($K$3))*7+(COLUMN(L3)-COLUMN($K$3)+1)) -> 45748 | M3: =IF(MONTH($K$1)<>MONTH($K$1-(WEEKDAY($K$1,1)-(день_начала-1))-IF((WEEKDAY($K$1,1)-(день_начала-1))<=0,7,0)+(ROW(M3)-ROW($K$3))*7+(COLUMN(M3)-COLUMN($K$3)+1)),"",$K$1-(WEEKDAY($K$1,1)-(день_начала-1))-IF((WEEKDAY($K$1,1)-(день_начала-1))<=0,7,0)+(ROW(M3)-ROW($K$3))*7+(COLUMN(M3)-COLUMN($K$3)+1)) -> 45749 | N3: =IF(MONTH($K$1)<>MONTH($K$1-(WEEKDAY($K$1,1)-(день_начала-1))-IF((WEEKDAY($K$1,1)-(день_начала-1))<=0,7,0)+(ROW(N3)-ROW($K$3))*7+(COLUMN(N3)-COLUMN($K$3)+1)),"",$K$1-(WEEKDAY($K$1,1)-(день_начала-1))-IF((WEEKDAY($K$1,1)-(день_начала-1))<=0,7,0)+(ROW(N3)-ROW($K$3))*7+(COLUMN(N3)-COLUMN($K$3)+1)) -> 45750 | O3: =IF(MONTH($K$1)<>MONTH($K$1-(WEEKDAY($K$1,1)-(день_начала-1))-IF((WEEKDAY($K$1,1)-(день_начала-1))<=0,7,0)+(ROW(O3)-ROW($K$3))*7+(COLUMN(O3)-COLUMN($K$3)+1)),"",$K$1-(WEEKDAY($K$1,1)-(день_начала-1))-IF((WEEKDAY($K$1,1)-(день_начала-1))<=0,7,0)+(ROW(O3)-ROW($K$3))*7+(COLUMN(O3)-COLUMN($K$3)+1)) -> 45751 | P3: =IF(MONTH($K$1)<>MONTH($K$1-(WEEKDAY($K$1,1)-(день_начала-1))-IF((WEEKDAY($K$1,1)-(день_начала-1))<=0,7,0)+(ROW(P3)-ROW($K$3))*7+(COLUMN(P3)-COLUMN($K$3)+1)),"",$K$1-(WEEKDAY($K$1,1)-(день_начала-1))-IF((WEEKDAY($K$1,1)-(день_начала-1))<=0,7,0)+(ROW(P3)-ROW($K$3))*7+(COLUMN(P3)-COLUMN($K$3)+1)) -> 45752 | Q3: =IF(MONTH($K$1)<>MONTH($K$1-(WEEKDAY($K$1,1)-(день_начала-1))-IF((WEEKDAY($K$1,1)-(день_начала-1))<=0,7,0)+(ROW(Q3)-ROW($K$3))*7+(COLUMN(Q3)-COLUMN($K$3)+1)),"",$K$1-(WEEKDAY($K$1,1)-(день_начала-1))-IF((WEEKDAY($K$1,1)-(день_начала-1))<=0,7,0)+(ROW(Q3)-ROW($K$3))*7+(COLUMN(Q3)-COLUMN($K$3)+1)) -> 45753 | S3: =IF(MONTH($S$1)<>MONTH($S$1-(WEEKDAY($S$1,1)-(день_начала-1))-IF((WEEKDAY($S$1,1)-(день_начала-1))<=0,7,0)+(ROW(S3)-ROW($S$3))*7+(COLUMN(S3)-COLUMN($S$3)+1)),"",$S$1-(WEEKDAY($S$1,1)-(день_начала-1))-IF((WEEKDAY($S$1,1)-(день_начала-1))<=0,7,0)+(ROW(S3)-ROW($S$3))*7+(COLUMN(S3)-COLUMN($S$3)+1)) | T3: =IF(MONTH($S$1)<>MONTH($S$1-(WEEKDAY($S$1,1)-(день_начала-1))-IF((WEEKDAY($S$1,1)-(день_начала-1))<=0,7,0)+(ROW(T3)-ROW($S$3))*7+(COLUMN(T3)-COLUMN($S$3)+1)),"",$S$1-(WEEKDAY($S$1,1)-(день_начала-1))-IF((WEEKDAY($S$1,1)-(день_начала-1))<=0,7,0)+(ROW(T3)-ROW($S$3))*7+(COLUMN(T3)-COLUMN($S$3)+1)) | U3: =IF(MONTH($S$1)<>MONTH($S$1-(WEEKDAY($S$1,1)-(день_начала-1))-IF((WEEKDAY($S$1,1)-(день_начала-1))<=0,7,0)+(ROW(U3)-ROW($S$3))*7+(COLUMN(U3)-COLUMN($S$3)+1)),"",$S$1-(WEEKDAY($S$1,1)-(день_начала-1))-IF((WEEKDAY($S$1,1)-(день_начала-1))<=0,7,0)+(ROW(U3)-ROW($S$3))*7+(COLUMN(U3)-COLUMN($S$3)+1)) | V3: =IF(MONTH($S$1)<>MONTH($S$1-(WEEKDAY($S$1,1)-(день_начала-1))-IF((WEEKDAY($S$1,1)-(день_начала-1))<=0,7,0)+(ROW(V3)-ROW($S$3))*7+(COLUMN(V3)-COLUMN($S$3)+1)),"",$S$1-(WEEKDAY($S$1,1)-(день_начала-1))-IF((WEEKDAY($S$1,1)-(день_начала-1))<=0,7,0)+(ROW(V3)-ROW($S$3))*7+(COLUMN(V3)-COLUMN($S$3)+1)) | W3: =IF(MONTH($S$1)<>MONTH($S$1-(WEEKDAY($S$1,1)-(день_начала-1))-IF((WEEKDAY($S$1,1)-(день_начала-1))<=0,7,0)+(ROW(W3)-ROW($S$3))*7+(COLUMN(W3)-COLUMN($S$3)+1)),"",$S$1-(WEEKDAY($S$1,1)-(день_начала-1))-IF((WEEKDAY($S$1,1)-(день_начала-1))<=0,7,0)+(ROW(W3)-ROW($S$3))*7+(COLUMN(W3)-COLUMN($S$3)+1)) | X3: =IF(MONTH($S$1)<>MONTH($S$1-(WEEKDAY($S$1,1)-(день_начала-1))-IF((WEEKDAY($S$1,1)-(день_начала-1))<=0,7,0)+(ROW(X3)-ROW($S$3))*7+(COLUMN(X3)-COLUMN($S$3)+1)),"",$S$1-(WEEKDAY($S$1,1)-(день_начала-1))-IF((WEEKDAY($S$1,1)-(день_начала-1))<=0,7,0)+(ROW(X3)-ROW($S$3))*7+(COLUMN(X3)-COLUMN($S$3)+1)) | Y3: =IF(MONTH($S$1)<>MONTH($S$1-(WEEKDAY($S$1,1)-(день_начала-1))-IF((WEEKDAY($S$1,1)-(день_начала-1))<=0,7,0)+(ROW(Y3)-ROW($S$3))*7+(COLUMN(Y3)-COLUMN($S$3)+1)),"",$S$1-(WEEKDAY($S$1,1)-(день_начала-1))-IF((WEEKDAY($S$1,1)-(день_начала-1))<=0,7,0)+(ROW(Y3)-ROW($S$3))*7+(COLUMN(Y3)-COLUMN($S$3)+1)) -> 45809
K4: =IF(MONTH($K$1)<>MONTH($K$1-(WEEKDAY($K$1,1)-(день_начала-1))-IF((WEEKDAY($K$1,1)-(день_начала-1))<=0,7,0)+(ROW(K4)-ROW($K$3))*7+(COLUMN(K4)-COLUMN($K$3)+1)),"",$K$1-(WEEKDAY($K$1,1)-(день_начала-1))-IF((WEEKDAY($K$1,1)-(день_начала-1))<=0,7,0)+(ROW(K4)-ROW($K$3))*7+(COLUMN(K4)-COLUMN($K$3)+1)) -> 45754 | L4: =IF(MONTH($K$1)<>MONTH($K$1-(WEEKDAY($K$1,1)-(день_начала-1))-IF((WEEKDAY($K$1,1)-(день_начала-1))<=0,7,0)+(ROW(L4)-ROW($K$3))*7+(COLUMN(L4)-COLUMN($K$3)+1)),"",$K$1-(WEEKDAY($K$1,1)-(день_начала-1))-IF((WEEKDAY($K$1,1)-(день_начала-1))<=0,7,0)+(ROW(L4)-ROW($K$3))*7+(COLUMN(L4)-COLUMN($K$3)+1)) -> 45755 | M4: =IF(MONTH($K$1)<>MONTH($K$1-(WEEKDAY($K$1,1)-(день_начала-1))-IF((WEEKDAY($K$1,1)-(день_начала-1))<=0,7,0)+(ROW(M4)-ROW($K$3))*7+(COLUMN(M4)-COLUMN($K$3)+1)),"",$K$1-(WEEKDAY($K$1,1)-(день_начала-1))-IF((WEEKDAY($K$1,1)-(день_начала-1))<=0,7,0)+(ROW(M4)-ROW($K$3))*7+(COLUMN(M4)-COLUMN($K$3)+1)) -> 45756 | N4: =IF(MONTH($K$1)<>MONTH($K$1-(WEEKDAY($K$1,1)-(день_начала-1))-IF((WEEKDAY($K$1,1)-(день_начала-1))<=0,7,0)+(ROW(N4)-ROW($K$3))*7+(COLUMN(N4)-COLUMN($K$3)+1)),"",$K$1-(WEEKDAY($K$1,1)-(день_начала-1))-IF((WEEKDAY($K$1,1)-(день_начала-1))<=0,7,0)+(ROW(N4)-ROW($K$3))*7+(COLUMN(N4)-COLUMN($K$3)+1)) -> 45757 | O4: =IF(MONTH($K$1)<>MONTH($K$1-(WEEKDAY($K$1,1)-(день_начала-1))-IF((WEEKDAY($K$1,1)-(день_начала-1))<=0,7,0)+(ROW(O4)-ROW($K$3))*7+(COLUMN(O4)-COLUMN($K$3)+1)),"",$K$1-(WEEKDAY($K$1,1)-(день_начала-1))-IF((WEEKDAY($K$1,1)-(день_начала-1))<=0,7,0)+(ROW(O4)-ROW($K$3))*7+(COLUMN(O4)-COLUMN($K$3)+1)) -> 45758 | P4: =IF(MONTH($K$1)<>MONTH($K$1-(WEEKDAY($K$1,1)-(день_начала-1))-IF((WEEKDAY($K$1,1)-(день_начала-1))<=0,7,0)+(ROW(P4)-ROW($K$3))*7+(COLUMN(P4)-COLUMN($K$3)+1)),"",$K$1-(WEEKDAY($K$1,1)-(день_начала-1))-IF((WEEKDAY($K$1,1)-(день_начала-1))<=0,7,0)+(ROW(P4)-ROW($K$3))*7+(COLUMN(P4)-COLUMN($K$3)+1)) -> 45759 | Q4: =IF(MONTH($K$1)<>MONTH($K$1-(WEEKDAY($K$1,1)-(день_начала-1))-IF((WEEKDAY($K$1,1)-(день_начала-1))<=0,7,0)+(ROW(Q4)-ROW($K$3))*7+(COLUMN(Q4)-COLUMN($K$3)+1)),"",$K$1-(WEEKDAY($K$1,1)-(день_начала-1))-IF((WEEKDAY($K$1,1)-(день_начала-1))<=0,7,0)+(ROW(Q4)-ROW($K$3))*7+(COLUMN(Q4)-COLUMN($K$3)+1)) -> 45760 | S4: =IF(MONTH($S$1)<>MONTH($S$1-(WEEKDAY($S$1,1)-(день_начала-1))-IF((WEEKDAY($S$1,1)-(день_начала-1))<=0,7,0)+(ROW(S4)-ROW($S$3))*7+(COLUMN(S4)-COLUMN($S$3)+1)),"",$S$1-(WEEKDAY($S$1,1)-(день_начала-1))-IF((WEEKDAY($S$1,1)-(день_начала-1))<=0,7,0)+(ROW(S4)-ROW($S$3))*7+(COLUMN(S4)-COLUMN($S$3)+1)) -> 45810 | T4: =IF(MONTH($S$1)<>MONTH($S$1-(WEEKDAY($S$1,1)-(день_начала-1))-IF((WEEKDAY($S$1,1)-(день_начала-1))<=0,7,0)+(ROW(T4)-ROW($S$3))*7+(COLUMN(T4)-COLUMN($S$3)+1)),"",$S$1-(WEEKDAY($S$1,1)-(день_начала-1))-IF((WEEKDAY($S$1,1)-(день_начала-1))<=0,7,0)+(ROW(T4)-ROW($S$3))*7+(COLUMN(T4)-COLUMN($S$3)+1)) -> 45811 | U4: =IF(MONTH($S$1)<>MONTH($S$1-(WEEKDAY($S$1,1)-(день_начала-1))-IF((WEEKDAY($S$1,1)-(день_начала-1))<=0,7,0)+(ROW(U4)-ROW($S$3))*7+(COLUMN(U4)-COLUMN($S$3)+1)),"",$S$1-(WEEKDAY($S$1,1)-(день_начала-1))-IF((WEEKDAY($S$1,1)-(день_начала-1))<=0,7,0)+(ROW(U4)-ROW($S$3))*7+(COLUMN(U4)-COLUMN($S$3)+1)) -> 45812 | V4: =IF(MONTH($S$1)<>MONTH($S$1-(WEEKDAY($S$1,1)-(день_начала-1))-IF((WEEKDAY($S$1,1)-(день_начала-1))<=0,7,0)+(ROW(V4)-ROW($S$3))*7+(COLUMN(V4)-COLUMN($S$3)+1)),"",$S$1-(WEEKDAY($S$1,1)-(день_начала-1))-IF((WEEKDAY($S$1,1)-(день_начала-1))<=0,7,0)+(ROW(V4)-ROW($S$3))*7+(COLUMN(V4)-COLUMN($S$3)+1)) -> 45813 | W4: =IF(MONTH($S$1)<>MONTH($S$1-(WEEKDAY($S$1,1)-(день_начала-1))-IF((WEEKDAY($S$1,1)-(день_начала-1))<=0,7,0)+(ROW(W4)-ROW($S$3))*7+(COLUMN(W4)-COLUMN($S$3)+1)),"",$S$1-(WEEKDAY($S$1,1)-(день_начала-1))-IF((WEEKDAY($S$1,1)-(день_начала-1))<=0,7,0)+(ROW(W4)-ROW($S$3))*7+(COLUMN(W4)-COLUMN($S$3)+1)) -> 45814 | X4: =IF(MONTH($S$1)<>MONTH($S$1-(WEEKDAY($S$1,1)-(день_начала-1))-IF((WEEKDAY($S$1,1)-(день_начала-1))<=0,7,0)+(ROW(X4)-ROW($S$3))*7+(COLUMN(X4)-COLUMN($S$3)+1)),"",$S$1-(WEEKDAY($S$1,1)-(день_начала-1))-IF((WEEKDAY($S$1,1)-(день_начала-1))<=0,7,0)+(ROW(X4)-ROW($S$3))*7+(COLUMN(X4)-COLUMN($S$3)+1)) -> 45815 | Y4: =IF(MONTH($S$1)<>MONTH($S$1-(WEEKDAY($S$1,1)-(день_начала-1))-IF((WEEKDAY($S$1,1)-(день_начала-1))<=0,7,0)+(ROW(Y4)-ROW($S$3))*7+(COLUMN(Y4)-COLUMN($S$3)+1)),"",$S$1-(WEEKDAY($S$1,1)-(день_начала-1))-IF((WEEKDAY($S$1,1)-(день_начала-1))<=0,7,0)+(ROW(Y4)-ROW($S$3))*7+(COLUMN(Y4)-COLUMN($S$3)+1)) -> 45816
K5: =IF(MONTH($K$1)<>MONTH($K$1-(WEEKDAY($K$1,1)-(день_начала-1))-IF((WEEKDAY($K$1,1)-(день_начала-1))<=0,7,0)+(ROW(K5)-ROW($K$3))*7+(COLUMN(K5)-COLUMN($K$3)+1)),"",$K$1-(WEEKDAY($K$1,1)-(день_начала-1))-IF((WEEKDAY($K$1,1)-(день_начала-1))<=0,7,0)+(ROW(K5)-ROW($K$3))*7+(COLUMN(K5)-COLUMN($K$3)+1)) -> 45761 | L5: =IF(MONTH($K$1)<>MONTH($K$1-(WEEKDAY($K$1,1)-(день_начала-1))-IF((WEEKDAY($K$1,1)-(день_начала-1))<=0,7,0)+(ROW(L5)-ROW($K$3))*7+(COLUMN(L5)-COLUMN($K$3)+1)),"",$K$1-(WEEKDAY($K$1,1)-(день_начала-1))-IF((WEEKDAY($K$1,1)-(день_начала-1))<=0,7,0)+(ROW(L5)-ROW($K$3))*7+(COLUMN(L5)-COLUMN($K$3)+1)) -> 45762 | M5: =IF(MONTH($K$1)<>MONTH($K$1-(WEEKDAY($K$1,1)-(день_начала-1))-IF((WEEKDAY($K$1,1)-(день_начала-1))<=0,7,0)+(ROW(M5)-ROW($K$3))*7+(COLUMN(M5)-COLUMN($K$3)+1)),"",$K$1-(WEEKDAY($K$1,1)-(день_начала-1))-IF((WEEKDAY($K$1,1)-(день_начала-1))<=0,7,0)+(ROW(M5)-ROW($K$3))*7+(COLUMN(M5)-COLUMN($K$3)+1)) -> 45763 | N5: =IF(MONTH($K$1)<>MONTH($K$1-(WEEKDAY($K$1,1)-(день_начала-1))-IF((WEEKDAY($K$1,1)-(день_начала-1))<=0,7,0)+(ROW(N5)-ROW($K$3))*7+(COLUMN(N5)-COLUMN($K$3)+1)),"",$K$1-(WEEKDAY($K$1,1)-(день_начала-1))-IF((WEEKDAY($K$1,1)-(день_начала-1))<=0,7,0)+(ROW(N5)-ROW($K$3))*7+(COLUMN(N5)-COLUMN($K$3)+1)) -> 45764 | O5: =IF(MONTH($K$1)<>MONTH($K$1-(WEEKDAY($K$1,1)-(день_начала-1))-IF((WEEKDAY($K$1,1)-(день_начала-1))<=0,7,0)+(ROW(O5)-ROW($K$3))*7+(COLUMN(O5)-COLUMN($K$3)+1)),"",$K$1-(WEEKDAY($K$1,1)-(день_начала-1))-IF((WEEKDAY($K$1,1)-(день_начала-1))<=0,7,0)+(ROW(O5)-ROW($K$3))*7+(COLUMN(O5)-COLUMN($K$3)+1)) -> 45765 | P5: =IF(MONTH($K$1)<>MONTH($K$1-(WEEKDAY($K$1,1)-(день_начала-1))-IF((WEEKDAY($K$1,1)-(день_начала-1))<=0,7,0)+(ROW(P5)-ROW($K$3))*7+(COLUMN(P5)-COLUMN($K$3)+1)),"",$K$1-(WEEKDAY($K$1,1)-(день_начала-1))-IF((WEEKDAY($K$1,1)-(день_начала-1))<=0,7,0)+(ROW(P5)-ROW($K$3))*7+(COLUMN(P5)-COLUMN($K$3)+1)) -> 45766 | Q5: =IF(MONTH($K$1)<>MONTH($K$1-(WEEKDAY($K$1,1)-(день_начала-1))-IF((WEEKDAY($K$1,1)-(день_начала-1))<=0,7,0)+(ROW(Q5)-ROW($K$3))*7+(COLUMN(Q5)-COLUMN($K$3)+1)),"",$K$1-(WEEKDAY($K$1,1)-(день_начала-1))-IF((WEEKDAY($K$1,1)-(день_начала-1))<=0,7,0)+(ROW(Q5)-ROW($K$3))*7+(COLUMN(Q5)-COLUMN($K$3)+1)) -> 45767 | S5: =IF(MONTH($S$1)<>MONTH($S$1-(WEEKDAY($S$1,1)-(день_начала-1))-IF((WEEKDAY($S$1,1)-(день_начала-1))<=0,7,0)+(ROW(S5)-ROW($S$3))*7+(COLUMN(S5)-COLUMN($S$3)+1)),"",$S$1-(WEEKDAY($S$1,1)-(день_начала-1))-IF((WEEKDAY($S$1,1)-(день_начала-1))<=0,7,0)+(ROW(S5)-ROW($S$3))*7+(COLUMN(S5)-COLUMN($S$3)+1)) -> 45817 | T5: =IF(MONTH($S$1)<>MONTH($S$1-(WEEKDAY($S$1,1)-(день_начала-1))-IF((WEEKDAY($S$1,1)-(день_начала-1))<=0,7,0)+(ROW(T5)-ROW($S$3))*7+(COLUMN(T5)-COLUMN($S$3)+1)),"",$S$1-(WEEKDAY($S$1,1)-(день_начала-1))-IF((WEEKDAY($S$1,1)-(день_начала-1))<=0,7,0)+(ROW(T5)-ROW($S$3))*7+(COLUMN(T5)-COLUMN($S$3)+1)) -> 45818 | U5: =IF(MONTH($S$1)<>MONTH($S$1-(WEEKDAY($S$1,1)-(день_начала-1))-IF((WEEKDAY($S$1,1)-(день_начала-1))<=0,7,0)+(ROW(U5)-ROW($S$3))*7+(COLUMN(U5)-COLUMN($S$3)+1)),"",$S$1-(WEEKDAY($S$1,1)-(день_начала-1))-IF((WEEKDAY($S$1,1)-(день_начала-1))<=0,7,0)+(ROW(U5)-ROW($S$3))*7+(COLUMN(U5)-COLUMN($S$3)+1)) -> 45819 | V5: =IF(MONTH($S$1)<>MONTH($S$1-(WEEKDAY($S$1,1)-(день_начала-1))-IF((WEEKDAY($S$1,1)-(день_начала-1))<=0,7,0)+(ROW(V5)-ROW($S$3))*7+(COLUMN(V5)-COLUMN($S$3)+1)),"",$S$1-(WEEKDAY($S$1,1)-(день_начала-1))-IF((WEEKDAY($S$1,1)-(день_начала-1))<=0,7,0)+(ROW(V5)-ROW($S$3))*7+(COLUMN(V5)-COLUMN($S$3)+1)) -> 45820 | W5: =IF(MONTH($S$1)<>MONTH($S$1-(WEEKDAY($S$1,1)-(день_начала-1))-IF((WEEKDAY($S$1,1)-(день_начала-1))<=0,7,0)+(ROW(W5)-ROW($S$3))*7+(COLUMN(W5)-COLUMN($S$3)+1)),"",$S$1-(WEEKDAY($S$1,1)-(день_начала-1))-IF((WEEKDAY($S$1,1)-(день_начала-1))<=0,7,0)+(ROW(W5)-ROW($S$3))*7+(COLUMN(W5)-COLUMN($S$3)+1)) -> 45821 | X5: =IF(MONTH($S$1)<>MONTH($S$1-(WEEKDAY($S$1,1)-(день_начала-1))-IF((WEEKDAY($S$1,1)-(день_начала-1))<=0,7,0)+(ROW(X5)-ROW($S$3))*7+(COLUMN(X5)-COLUMN($S$3)+1)),"",$S$1-(WEEKDAY($S$1,1)-(день_начала-1))-IF((WEEKDAY($S$1,1)-(день_начала-1))<=0,7,0)+(ROW(X5)-ROW($S$3))*7+(COLUMN(X5)-COLUMN($S$3)+1)) -> 45822 | Y5: =IF(MONTH($S$1)<>MONTH($S$1-(WEEKDAY($S$1,1)-(день_начала-1))-IF((WEEKDAY($S$1,1)-(день_начала-1))<=0,7,0)+(ROW(Y5)-ROW($S$3))*7+(COLUMN(Y5)-COLUMN($S$3)+1)),"",$S$1-(WEEKDAY($S$1,1)-(день_начала-1))-IF((WEEKDAY($S$1,1)-(день_начала-1))<=0,7,0)+(ROW(Y5)-ROW($S$3))*7+(COLUMN(Y5)-COLUMN($S$3)+1)) -> 45823
K6: =IF(MONTH($K$1)<>MONTH($K$1-(WEEKDAY($K$1,1)-(день_начала-1))-IF((WEEKDAY($K$1,1)-(день_начала-1))<=0,7,0)+(ROW(K6)-ROW($K$3))*7+(COLUMN(K6)-COLUMN($K$3)+1)),"",$K$1-(WEEKDAY($K$1,1)-(день_начала-1))-IF((WEEKDAY($K$1,1)-(день_начала-1))<=0,7,0)+(ROW(K6)-ROW($K$3))*7+(COLUMN(K6)-COLUMN($K$3)+1)) -> 45768 | L6: =IF(MONTH($K$1)<>MONTH($K$1-(WEEKDAY($K$1,1)-(день_начала-1))-IF((WEEKDAY($K$1,1)-(день_начала-1))<=0,7,0)+(ROW(L6)-ROW($K$3))*7+(COLUMN(L6)-COLUMN($K$3)+1)),"",$K$1-(WEEKDAY($K$1,1)-(день_начала-1))-IF((WEEKDAY($K$1,1)-(день_начала-1))<=0,7,0)+(ROW(L6)-ROW($K$3))*7+(COLUMN(L6)-COLUMN($K$3)+1)) -> 45769 | M6: =IF(MONTH($K$1)<>MONTH($K$1-(WEEKDAY($K$1,1)-(день_начала-1))-IF((WEEKDAY($K$1,1)-(день_начала-1))<=0,7,0)+(ROW(M6)-ROW($K$3))*7+(COLUMN(M6)-COLUMN($K$3)+1)),"",$K$1-(WEEKDAY($K$1,1)-(день_начала-1))-IF((WEEKDAY($K$1,1)-(день_начала-1))<=0,7,0)+(ROW(M6)-ROW($K$3))*7+(COLUMN(M6)-COLUMN($K$3)+1)) -> 45770 | N6: =IF(MONTH($K$1)<>MONTH($K$1-(WEEKDAY($K$1,1)-(день_начала-1))-IF((WEEKDAY($K$1,1)-(день_начала-1))<=0,7,0)+(ROW(N6)-ROW($K$3))*7+(COLUMN(N6)-COLUMN($K$3)+1)),"",$K$1-(WEEKDAY($K$1,1)-(день_начала-1))-IF((WEEKDAY($K$1,1)-(день_начала-1))<=0,7,0)+(ROW(N6)-ROW($K$3))*7+(COLUMN(N6)-COLUMN($K$3)+1)) -> 45771 | O6: =IF(MONTH($K$1)<>MONTH($K$1-(WEEKDAY($K$1,1)-(день_начала-1))-IF((WEEKDAY($K$1,1)-(день_начала-1))<=0,7,0)+(ROW(O6)-ROW($K$3))*7+(COLUMN(O6)-COLUMN($K$3)+1)),"",$K$1-(WEEKDAY($K$1,1)-(день_начала-1))-IF((WEEKDAY($K$1,1)-(день_начала-1))<=0,7,0)+(ROW(O6)-ROW($K$3))*7+(COLUMN(O6)-COLUMN($K$3)+1)) -> 45772 | P6: =IF(MONTH($K$1)<>MONTH($K$1-(WEEKDAY($K$1,1)-(день_начала-1))-IF((WEEKDAY($K$1,1)-(день_начала-1))<=0,7,0)+(ROW(P6)-ROW($K$3))*7+(COLUMN(P6)-COLUMN($K$3)+1)),"",$K$1-(WEEKDAY($K$1,1)-(день_начала-1))-IF((WEEKDAY($K$1,1)-(день_начала-1))<=0,7,0)+(ROW(P6)-ROW($K$3))*7+(COLUMN(P6)-COLUMN($K$3)+1)) -> 45773 | Q6: =IF(MONTH($K$1)<>MONTH($K$1-(WEEKDAY($K$1,1)-(день_начала-1))-IF((WEEKDAY($K$1,1)-(день_начала-1))<=0,7,0)+(ROW(Q6)-ROW($K$3))*7+(COLUMN(Q6)-COLUMN($K$3)+1)),"",$K$1-(WEEKDAY($K$1,1)-(день_начала-1))-IF((WEEKDAY($K$1,1)-(день_начала-1))<=0,7,0)+(ROW(Q6)-ROW($K$3))*7+(COLUMN(Q6)-COLUMN($K$3)+1)) -> 45774 | S6: =IF(MONTH($S$1)<>MONTH($S$1-(WEEKDAY($S$1,1)-(день_начала-1))-IF((WEEKDAY($S$1,1)-(день_начала-1))<=0,7,0)+(ROW(S6)-ROW($S$3))*7+(COLUMN(S6)-COLUMN($S$3)+1)),"",$S$1-(WEEKDAY($S$1,1)-(день_начала-1))-IF((WEEKDAY($S$1,1)-(день_начала-1))<=0,7,0)+(ROW(S6)-ROW($S$3))*7+(COLUMN(S6)-COLUMN($S$3)+1)) -> 45824 | T6: =IF(MONTH($S$1)<>MONTH($S$1-(WEEKDAY($S$1,1)-(день_начала-1))-IF((WEEKDAY($S$1,1)-(день_начала-1))<=0,7,0)+(ROW(T6)-ROW($S$3))*7+(COLUMN(T6)-COLUMN($S$3)+1)),"",$S$1-(WEEKDAY($S$1,1)-(день_начала-1))-IF((WEEKDAY($S$1,1)-(день_начала-1))<=0,7,0)+(ROW(T6)-ROW($S$3))*7+(COLUMN(T6)-COLUMN($S$3)+1)) -> 45825 | U6: =IF(MONTH($S$1)<>MONTH($S$1-(WEEKDAY($S$1,1)-(день_начала-1))-IF((WEEKDAY($S$1,1)-(день_начала-1))<=0,7,0)+(ROW(U6)-ROW($S$3))*7+(COLUMN(U6)-COLUMN($S$3)+1)),"",$S$1-(WEEKDAY($S$1,1)-(день_начала-1))-IF((WEEKDAY($S$1,1)-(день_начала-1))<=0,7,0)+(ROW(U6)-ROW($S$3))*7+(COLUMN(U6)-COLUMN($S$3)+1)) -> 45826 | V6: =IF(MONTH($S$1)<>MONTH($S$1-(WEEKDAY($S$1,1)-(день_начала-1))-IF((WEEKDAY($S$1,1)-(день_начала-1))<=0,7,0)+(ROW(V6)-ROW($S$3))*7+(COLUMN(V6)-COLUMN($S$3)+1)),"",$S$1-(WEEKDAY($S$1,1)-(день_начала-1))-IF((WEEKDAY($S$1,1)-(день_начала-1))<=0,7,0)+(ROW(V6)-ROW($S$3))*7+(COLUMN(V6)-COLUMN($S$3)+1)) -> 45827 | W6: =IF(MONTH($S$1)<>MONTH($S$1-(WEEKDAY($S$1,1)-(день_начала-1))-IF((WEEKDAY($S$1,1)-(день_начала-1))<=0,7,0)+(ROW(W6)-ROW($S$3))*7+(COLUMN(W6)-COLUMN($S$3)+1)),"",$S$1-(WEEKDAY($S$1,1)-(день_начала-1))-IF((WEEKDAY($S$1,1)-(день_начала-1))<=0,7,0)+(ROW(W6)-ROW($S$3))*7+(COLUMN(W6)-COLUMN($S$3)+1)) -> 45828 | X6: =IF(MONTH($S$1)<>MONTH($S$1-(WEEKDAY($S$1,1)-(день_начала-1))-IF((WEEKDAY($S$1,1)-(день_начала-1))<=0,7,0)+(ROW(X6)-ROW($S$3))*7+(COLUMN(X6)-COLUMN($S$3)+1)),"",$S$1-(WEEKDAY($S$1,1)-(день_начала-1))-IF((WEEKDAY($S$1,1)-(день_начала-1))<=0,7,0)+(ROW(X6)-ROW($S$3))*7+(COLUMN(X6)-COLUMN($S$3)+1)) -> 45829 | Y6: =IF(MONTH($S$1)<>MONTH($S$1-(WEEKDAY($S$1,1)-(день_начала-1))-IF((WEEKDAY($S$1,1)-(день_начала-1))<=0,7,0)+(ROW(Y6)-ROW($S$3))*7+(COLUMN(Y6)-COLUMN($S$3)+1)),"",$S$1-(WEEKDAY($S$1,1)-(день_начала-1))-IF((WEEKDAY($S$1,1)-(день_начала-1))<=0,7,0)+(ROW(Y6)-ROW($S$3))*7+(COLUMN(Y6)-COLUMN($S$3)+1)) -> 45830
K7: =IF(MONTH($K$1)<>MONTH($K$1-(WEEKDAY($K$1,1)-(день_начала-1))-IF((WEEKDAY($K$1,1)-(день_начала-1))<=0,7,0)+(ROW(K7)-ROW($K$3))*7+(COLUMN(K7)-COLUMN($K$3)+1)),"",$K$1-(WEEKDAY($K$1,1)-(день_начала-1))-IF((WEEKDAY($K$1,1)-(день_начала-1))<=0,7,0)+(ROW(K7)-ROW($K$3))*7+(COLUMN(K7)-COLUMN($K$3)+1)) -> 45775 | L7: =IF(MONTH($K$1)<>MONTH($K$1-(WEEKDAY($K$1,1)-(день_начала-1))-IF((WEEKDAY($K$1,1)-(день_начала-1))<=0,7,0)+(ROW(L7)-ROW($K$3))*7+(COLUMN(L7)-COLUMN($K$3)+1)),"",$K$1-(WEEKDAY($K$1,1)-(день_начала-1))-IF((WEEKDAY($K$1,1)-(день_начала-1))<=0,7,0)+(ROW(L7)-ROW($K$3))*7+(COLUMN(L7)-COLUMN($K$3)+1)) -> 45776 | M7: =IF(MONTH($K$1)<>MONTH($K$1-(WEEKDAY($K$1,1)-(день_начала-1))-IF((WEEKDAY($K$1,1)-(день_начала-1))<=0,7,0)+(ROW(M7)-ROW($K$3))*7+(COLUMN(M7)-COLUMN($K$3)+1)),"",$K$1-(WEEKDAY($K$1,1)-(день_начала-1))-IF((WEEKDAY($K$1,1)-(день_начала-1))<=0,7,0)+(ROW(M7)-ROW($K$3))*7+(COLUMN(M7)-COLUMN($K$3)+1)) -> 45777 | N7: =IF(MONTH($K$1)<>MONTH($K$1-(WEEKDAY($K$1,1)-(день_начала-1))-IF((WEEKDAY($K$1,1)-(день_начала-1))<=0,7,0)+(ROW(N7)-ROW($K$3))*7+(COLUMN(N7)-COLUMN($K$3)+1)),"",$K$1-(WEEKDAY($K$1,1)-(день_начала-1))-IF((WEEKDAY($K$1,1)-(день_начала-1))<=0,7,0)+(ROW(N7)-ROW($K$3))*7+(COLUMN(N7)-COLUMN($K$3)+1)) | O7: =IF(MONTH($K$1)<>MONTH($K$1-(WEEKDAY($K$1,1)-(день_начала-1))-IF((WEEKDAY($K$1,1)-(день_начала-1))<=0,7,0)+(ROW(O7)-ROW($K$3))*7+(COLUMN(O7)-COLUMN($K$3)+1)),"",$K$1-(WEEKDAY($K$1,1)-(день_начала-1))-IF((WEEKDAY($K$1,1)-(день_начала-1))<=0,7,0)+(ROW(O7)-ROW($K$3))*7+(COLUMN(O7)-COLUMN($K$3)+1)) | P7: =IF(MONTH($K$1)<>MONTH($K$1-(WEEKDAY($K$1,1)-(день_начала-1))-IF((WEEKDAY($K$1,1)-(день_начала-1))<=0,7,0)+(ROW(P7)-ROW($K$3))*7+(COLUMN(P7)-COLUMN($K$3)+1)),"",$K$1-(WEEKDAY($K$1,1)-(день_начала-1))-IF((WEEKDAY($K$1,1)-(день_начала-1))<=0,7,0)+(ROW(P7)-ROW($K$3))*7+(COLUMN(P7)-COLUMN($K$3)+1)) | Q7: =IF(MONTH($K$1)<>MONTH($K$1-(WEEKDAY($K$1,1)-(день_начала-1))-IF((WEEKDAY($K$1,1)-(день_начала-1))<=0,7,0)+(ROW(Q7)-ROW($K$3))*7+(COLUMN(Q7)-COLUMN($K$3)+1)),"",$K$1-(WEEKDAY($K$1,1)-(день_начала-1))-IF((WEEKDAY($K$1,1)-(день_начала-1))<=0,7,0)+(ROW(Q7)-ROW($K$3))*7+(COLUMN(Q7)-COLUMN($K$3)+1)) | S7: =IF(MONTH($S$1)<>MONTH($S$1-(WEEKDAY($S$1,1)-(день_начала-1))-IF((WEEKDAY($S$1,1)-(день_начала-1))<=0,7,0)+(ROW(S7)-ROW($S$3))*7+(COLUMN(S7)-COLUMN($S$3)+1)),"",$S$1-(WEEKDAY($S$1,1)-(день_начала-1))-IF((WEEKDAY($S$1,1)-(день_начала-1))<=0,7,0)+(ROW(S7)-ROW($S$3))*7+(COLUMN(S7)-COLUMN($S$3)+1)) -> 45831 | T7: =IF(MONTH($S$1)<>MONTH($S$1-(WEEKDAY($S$1,1)-(день_начала-1))-IF((WEEKDAY($S$1,1)-(день_начала-1))<=0,7,0)+(ROW(T7)-ROW($S$3))*7+(COLUMN(T7)-COLUMN($S$3)+1)),"",$S$1-(WEEKDAY($S$1,1)-(день_начала-1))-IF((WEEKDAY($S$1,1)-(день_начала-1))<=0,7,0)+(ROW(T7)-ROW($S$3))*7+(COLUMN(T7)-COLUMN($S$3)+1)) -> 45832 | U7: =IF(MONTH($S$1)<>MONTH($S$1-(WEEKDAY($S$1,1)-(день_начала-1))-IF((WEEKDAY($S$1,1)-(день_начала-1))<=0,7,0)+(ROW(U7)-ROW($S$3))*7+(COLUMN(U7)-COLUMN($S$3)+1)),"",$S$1-(WEEKDAY($S$1,1)-(день_начала-1))-IF((WEEKDAY($S$1,1)-(день_начала-1))<=0,7,0)+(ROW(U7)-ROW($S$3))*7+(COLUMN(U7)-COLUMN($S$3)+1)) -> 45833 | V7: =IF(MONTH($S$1)<>MONTH($S$1-(WEEKDAY($S$1,1)-(день_начала-1))-IF((WEEKDAY($S$1,1)-(день_начала-1))<=0,7,0)+(ROW(V7)-ROW($S$3))*7+(COLUMN(V7)-COLUMN($S$3)+1)),"",$S$1-(WEEKDAY($S$1,1)-(день_начала-1))-IF((WEEKDAY($S$1,1)-(день_начала-1))<=0,7,0)+(ROW(V7)-ROW($S$3))*7+(COLUMN(V7)-COLUMN($S$3)+1)) -> 45834 | W7: =IF(MONTH($S$1)<>MONTH($S$1-(WEEKDAY($S$1,1)-(день_начала-1))-IF((WEEKDAY($S$1,1)-(день_начала-1))<=0,7,0)+(ROW(W7)-ROW($S$3))*7+(COLUMN(W7)-COLUMN($S$3)+1)),"",$S$1-(WEEKDAY($S$1,1)-(день_начала-1))-IF((WEEKDAY($S$1,1)-(день_начала-1))<=0,7,0)+(ROW(W7)-ROW($S$3))*7+(COLUMN(W7)-COLUMN($S$3)+1)) -> 45835 | X7: =IF(MONTH($S$1)<>MONTH($S$1-(WEEKDAY($S$1,1)-(день_начала-1))-IF((WEEKDAY($S$1,1)-(день_начала-1))<=0,7,0)+(ROW(X7)-ROW($S$3))*7+(COLUMN(X7)-COLUMN($S$3)+1)),"",$S$1-(WEEKDAY($S$1,1)-(день_начала-1))-IF((WEEKDAY($S$1,1)-(день_начала-1))<=0,7,0)+(ROW(X7)-ROW($S$3))*7+(COLUMN(X7)-COLUMN($S$3)+1)) -> 45836 | Y7: =IF(MONTH($S$1)<>MONTH($S$1-(WEEKDAY($S$1,1)-(день_начала-1))-IF((WEEKDAY($S$1,1)-(день_начала-1))<=0,7,0)+(ROW(Y7)-ROW($S$3))*7+(COLUMN(Y7)-COLUMN($S$3)+1)),"",$S$1-(WEEKDAY($S$1,1)-(день_начала-1))-IF((WEEKDAY($S$1,1)-(день_начала-1))<=0,7,0)+(ROW(Y7)-ROW($S$3))*7+(COLUMN(Y7)-COLUMN($S$3)+1)) -> 45837
K8: =IF(MONTH($K$1)<>MONTH($K$1-(WEEKDAY($K$1,1)-(день_начала-1))-IF((WEEKDAY($K$1,1)-(день_начала-1))<=0,7,0)+(ROW(K8)-ROW($K$3))*7+(COLUMN(K8)-COLUMN($K$3)+1)),"",$K$1-(WEEKDAY($K$1,1)-(день_начала-1))-IF((WEEKDAY($K$1,1)-(день_начала-1))<=0,7,0)+(ROW(K8)-ROW($K$3))*7+(COLUMN(K8)-COLUMN($K$3)+1)) | L8: =IF(MONTH($K$1)<>MONTH($K$1-(WEEKDAY($K$1,1)-(день_начала-1))-IF((WEEKDAY($K$1,1)-(день_начала-1))<=0,7,0)+(ROW(L8)-ROW($K$3))*7+(COLUMN(L8)-COLUMN($K$3)+1)),"",$K$1-(WEEKDAY($K$1,1)-(день_начала-1))-IF((WEEKDAY($K$1,1)-(день_начала-1))<=0,7,0)+(ROW(L8)-ROW($K$3))*7+(COLUMN(L8)-COLUMN($K$3)+1)) | M8: =IF(MONTH($K$1)<>MONTH($K$1-(WEEKDAY($K$1,1)-(день_начала-1))-IF((WEEKDAY($K$1,1)-(день_начала-1))<=0,7,0)+(ROW(M8)-ROW($K$3))*7+(COLUMN(M8)-COLUMN($K$3)+1)),"",$K$1-(WEEKDAY($K$1,1)-(день_начала-1))-IF((WEEKDAY($K$1,1)-(день_начала-1))<=0,7,0)+(ROW(M8)-ROW($K$3))*7+(COLUMN(M8)-COLUMN($K$3)+1)) | N8: =IF(MONTH($K$1)<>MONTH($K$1-(WEEKDAY($K$1,1)-(день_начала-1))-IF((WEEKDAY($K$1,1)-(день_начала-1))<=0,7,0)+(ROW(N8)-ROW($K$3))*7+(COLUMN(N8)-COLUMN($K$3)+1)),"",$K$1-(WEEKDAY($K$1,1)-(день_начала-1))-IF((WEEKDAY($K$1,1)-(день_начала-1))<=0,7,0)+(ROW(N8)-ROW($K$3))*7+(COLUMN(N8)-COLUMN($K$3)+1)) | O8: =IF(MONTH($K$1)<>MONTH($K$1-(WEEKDAY($K$1,1)-(день_начала-1))-IF((WEEKDAY($K$1,1)-(день_начала-1))<=0,7,0)+(ROW(O8)-ROW($K$3))*7+(COLUMN(O8)-COLUMN($K$3)+1)),"",$K$1-(WEEKDAY($K$1,1)-(день_начала-1))-IF((WEEKDAY($K$1,1)-(день_начала-1))<=0,7,0)+(ROW(O8)-ROW($K$3))*7+(COLUMN(O8)-COLUMN($K$3)+1)) | P8: =IF(MONTH($K$1)<>MONTH($K$1-(WEEKDAY($K$1,1)-(день_начала-1))-IF((WEEKDAY($K$1,1)-(день_начала-1))<=0,7,0)+(ROW(P8)-ROW($K$3))*7+(COLUMN(P8)-COLUMN($K$3)+1)),"",$K$1-(WEEKDAY($K$1,1)-(день_начала-1))-IF((WEEKDAY($K$1,1)-(день_начала-1))<=0,7,0)+(ROW(P8)-ROW($K$3))*7+(COLUMN(P8)-COLUMN($K$3)+1)) | Q8: =IF(MONTH($K$1)<>MONTH($K$1-(WEEKDAY($K$1,1)-(день_начала-1))-IF((WEEKDAY($K$1,1)-(день_начала-1))<=0,7,0)+(ROW(Q8)-ROW($K$3))*7+(COLUMN(Q8)-COLUMN($K$3)+1)),"",$K$1-(WEEKDAY($K$1,1)-(день_начала-1))-IF((WEEKDAY($K$1,1)-(день_начала-1))<=0,7,0)+(ROW(Q8)-ROW($K$3))*7+(COLUMN(Q8)-COLUMN($K$3)+1)) | S8: =IF(MONTH($S$1)<>MONTH($S$1-(WEEKDAY($S$1,1)-(день_начала-1))-IF((WEEKDAY($S$1,1)-(день_начала-1))<=0,7,0)+(ROW(S8)-ROW($S$3))*7+(COLUMN(S8)-COLUMN($S$3)+1)),"",$S$1-(WEEKDAY($S$1,1)-(день_начала-1))-IF((WEEKDAY($S$1,1)-(день_начала-1))<=0,7,0)+(ROW(S8)-ROW($S$3))*7+(COLUMN(S8)-COLUMN($S$3)+1)) -> 45838 | T8: =IF(MONTH($S$1)<>MONTH($S$1-(WEEKDAY($S$1,1)-(день_начала-1))-IF((WEEKDAY($S$1,1)-(день_начала-1))<=0,7,0)+(ROW(T8)-ROW($S$3))*7+(COLUMN(T8)-COLUMN($S$3)+1)),"",$S$1-(WEEKDAY($S$1,1)-(день_начала-1))-IF((WEEKDAY($S$1,1)-(день_начала-1))<=0,7,0)+(ROW(T8)-ROW($S$3))*7+(COLUMN(T8)-COLUMN($S$3)+1)) | U8: =IF(MONTH($S$1)<>MONTH($S$1-(WEEKDAY($S$1,1)-(день_начала-1))-IF((WEEKDAY($S$1,1)-(день_начала-1))<=0,7,0)+(ROW(U8)-ROW($S$3))*7+(COLUMN(U8)-COLUMN($S$3)+1)),"",$S$1-(WEEKDAY($S$1,1)-(день_начала-1))-IF((WEEKDAY($S$1,1)-(день_начала-1))<=0,7,0)+(ROW(U8)-ROW($S$3))*7+(COLUMN(U8)-COLUMN($S$3)+1)) | V8: =IF(MONTH($S$1)<>MONTH($S$1-(WEEKDAY($S$1,1)-(день_начала-1))-IF((WEEKDAY($S$1,1)-(день_начала-1))<=0,7,0)+(ROW(V8)-ROW($S$3))*7+(COLUMN(V8)-COLUMN($S$3)+1)),"",$S$1-(WEEKDAY($S$1,1)-(день_начала-1))-IF((WEEKDAY($S$1,1)-(день_начала-1))<=0,7,0)+(ROW(V8)-ROW($S$3))*7+(COLUMN(V8)-COLUMN($S$3)+1)) | W8: =IF(MONTH($S$1)<>MONTH($S$1-(WEEKDAY($S$1,1)-(день_начала-1))-IF((WEEKDAY($S$1,1)-(день_начала-1))<=0,7,0)+(ROW(W8)-ROW($S$3))*7+(COLUMN(W8)-COLUMN($S$3)+1)),"",$S$1-(WEEKDAY($S$1,1)-(день_начала-1))-IF((WEEKDAY($S$1,1)-(день_начала-1))<=0,7,0)+(ROW(W8)-ROW($S$3))*7+(COLUMN(W8)-COLUMN($S$3)+1)) | X8: =IF(MONTH($S$1)<>MONTH($S$1-(WEEKDAY($S$1,1)-(день_начала-1))-IF((WEEKDAY($S$1,1)-(день_начала-1))<=0,7,0)+(ROW(X8)-ROW($S$3))*7+(COLUMN(X8)-COLUMN($S$3)+1)),"",$S$1-(WEEKDAY($S$1,1)-(день_начала-1))-IF((WEEKDAY($S$1,1)-(день_начала-1))<=0,7,0)+(ROW(X8)-ROW($S$3))*7+(COLUMN(X8)-COLUMN($S$3)+1)) | Y8: =IF(MONTH($S$1)<>MONTH($S$1-(WEEKDAY($S$1,1)-(день_начала-1))-IF((WEEKDAY($S$1,1)-(день_начала-1))<=0,7,0)+(ROW(Y8)-ROW($S$3))*7+(COLUMN(Y8)-COLUMN($S$3)+1)),"",$S$1-(WEEKDAY($S$1,1)-(день_начала-1))-IF((WEEKDAY($S$1,1)-(день_начала-1))<=0,7,0)+(ROW(Y8)-ROW($S$3))*7+(COLUMN(Y8)-COLUMN($S$3)+1))
A9: =A10 -> 45775 | C9: =C10 -> 45776 | E9: =E10 -> 45777 | G9: =G10 -> 45778 | I9: =I10 -> 45779 | K9: =K10 -> 45780 | S9: =S10 -> 45781
A10: =$A$1-(WEEKDAY($A$1,1)-(день_начала-1))-IF((WEEKDAY($A$1,1)-(день_начала-1))<=0,7,0)+1 -> 45775 | C10: =A10+1 -> 45776 | E10: =C10+1 -> 45777 | G10: =E10+1 -> 45778 | I10: =G10+1 -> 45779 | K10: =I10+1 -> 45780 | S10: =K10+1 -> 45781
A16: =S10+1 -> 45782 | C16: =A16+1 -> 45783 | E16: =C16+1 -> 45784 | G16: =E16+1 -> 45785 | I16: =G16+1 -> 45786 | K16: =I16+1 -> 45787 | S16: =K16+1 -> 45788
A22: =S16+1 -> 45789 | C22: =A22+1 -> 45790 | E22: =C22+1 -> 45791 | G22: =E22+1 -> 45792 | I22: =G22+1 -> 45793 | K22: =I22+1 -> 45794 | S22: =K22+1 -> 45795
A28: =S22+1 -> 45796 | C28: =A28+1 -> 45797 | E28: =C28+1 -> 45798 | G28: =E28+1 -> 45799 | I28: =G28+1 -> 45800 | K28: =I28+1 -> 45801 | S28: =K28+1 -> 45802
A34: =S28+1 -> 45803 | C34: =A34+1 -> 45804 | E34: =C34+1 -> 45805 | G34: =E34+1 -> 45806 | I34: =G34+1 -> 45807 | K34: =I34+1 -> 45808 | S34: =K34+1 -> 45809
A40: =S34+1 -> 45810 | C40: =A40+1 -> 45811 | E40: Примечания

Sheet 6
A1: =DATE(Настройка!D5,Настройка!D7+5,1) -> 45809 | K1: =DATE(YEAR(A1),MONTH(A1)-1,1) -> 45778 | S1: =DATE(YEAR(A1),MONTH(A1)+1,1) -> 45839
K2: =INDEX({"Вс";"Пн";"Вт";"Ср";"Чт";"Пт";"Сб"},1+MOD(день_начала+1-2,7)) -> Пн | L2: =INDEX({"Вс";"Пн";"Вт";"Ср";"Чт";"Пт";"Сб"},1+MOD(день_начала+2-2,7)) -> Вт | M2: =INDEX({"Вс";"Пн";"Вт";"Ср";"Чт";"Пт";"Сб"},1+MOD(день_начала+3-2,7)) -> Ср | N2: =INDEX({"Вс";"Пн";"Вт";"Ср";"Чт";"Пт";"Сб"},1+MOD(день_начала+4-2,7)) -> Чт | O2: =INDEX({"Вс";"Пн";"Вт";"Ср";"Чт";"Пт";"Сб"},1+MOD(день_начала+5-2,7)) -> Пт | P2: =INDEX({"Вс";"Пн";"Вт";"Ср";"Чт";"Пт";"Сб"},1+MOD(день_начала+6-2,7)) -> Сб | Q2: =INDEX({"Вс";"Пн";"Вт";"Ср";"Чт";"Пт";"Сб"},1+MOD(день_начала+7-2,7)) -> Вс | S2: =INDEX({"Вс";"Пн";"Вт";"Ср";"Чт";"Пт";"Сб"},1+MOD(день_начала+1-2,7)) -> Пн | T2: =INDEX({"Вс";"Пн";"Вт";"Ср";"Чт";"Пт";"Сб"},1+MOD(день_начала+2-2,7)) -> Вт | U2: =INDEX({"Вс";"Пн";"Вт";"Ср";"Чт";"Пт";"Сб"},1+MOD(день_начала+3-2,7)) -> Ср | V2: =INDEX({"Вс";"Пн";"Вт";"Ср";"Чт";"Пт";"Сб"},1+MOD(день_начала+4-2,7)) -> Чт | W2: =INDEX({"Вс";"Пн";"Вт";"Ср";"Чт";"Пт";"Сб"},1+MOD(день_начала+5-2,7)) -> Пт | X2: =INDEX({"Вс";"Пн";"Вт";"Ср";"Чт";"Пт";"Сб"},1+MOD(день_начала+6-2,7)) -> Сб | Y2: =INDEX({"Вс";"Пн";"Вт";"Ср";"Чт";"Пт";"Сб"},1+MOD(день_начала+7-2,7)) -> Вс
K3: =IF(MONTH($K$1)<>MONTH($K$1-(WEEKDAY($K$1,1)-(день_начала-1))-IF((WEEKDAY($K$1,1)-(день_начала-1))<=0,7,0)+(ROW(K3)-ROW($K$3))*7+(COLUMN(K3)-COLUMN($K$3)+1)),"",$K$1-(WEEKDAY($K$1,1)-(день_начала-1))-IF((WEEKDAY($K$1,1)-(день_начала-1))<=0,7,0)+(ROW(K3)-ROW($K$3))*7+(COLUMN(K3)-COLUMN($K$3)+1)) | L3: =IF(MONTH($K$1)<>MONTH($K$1-(WEEKDAY($K$1,1)-(день_начала-1))-IF((WEEKDAY($K$1,1)-(день_начала-1))<=0,7,0)+(ROW(L3)-ROW($K$3))*7+(COLUMN(L3)-COLUMN($K$3)+1)),"",$K$1-(WEEKDAY($K$1,1)-(день_начала-1))-IF((WEEKDAY($K$1,1)-(день_начала-1))<=0,7,0)+(ROW(L3)-ROW($K$3))*7+(COLUMN(L3)-COLUMN($K$3)+1)) | M3: =IF(MONTH($K$1)<>MONTH($K$1-(WEEKDAY($K$1,1)-(день_начала-1))-IF((WEEKDAY($K$1,1)-(день_начала-1))<=0,7,0)+(ROW(M3)-ROW($K$3))*7+(COLUMN(M3)-COLUMN($K$3)+1)),"",$K$1-(WEEKDAY($K$1,1)-(день_начала-1))-IF((WEEKDAY($K$1,1)-(день_начала-1))<=0,7,0)+(ROW(M3)-ROW($K$3))*7+(COLUMN(M3)-COLUMN($K$3)+1)) | N3: =IF(MONTH($K$1)<>MONTH($K$1-(WEEKDAY($K$1,1)-(день_начала-1))-IF((WEEKDAY($K$1,1)-(день_начала-1))<=0,7,0)+(ROW(N3)-ROW($K$3))*7+(COLUMN(N3)-COLUMN($K$3)+1)),"",$K$1-(WEEKDAY($K$1,1)-(день_начала-1))-IF((WEEKDAY($K$1,1)-(день_начала-1))<=0,7,0)+(ROW(N3)-ROW($K$3))*7+(COLUMN(N3)-COLUMN($K$3)+1)) -> 45778 | O3: =IF(MONTH($K$1)<>MONTH($K$1-(WEEKDAY($K$1,1)-(день_начала-1))-IF((WEEKDAY($K$1,1)-(день_начала-1))<=0,7,0)+(ROW(O3)-ROW($K$3))*7+(COLUMN(O3)-COLUMN($K$3)+1)),"",$K$1-(WEEKDAY($K$1,1)-(день_начала-1))-IF((WEEKDAY($K$1,1)-(день_начала-1))<=0,7,0)+(ROW(O3)-ROW($K$3))*7+(COLUMN(O3)-COLUMN($K$3)+1)) -> 45779 | P3: =IF(MONTH($K$1)<>MONTH($K$1-(WEEKDAY($K$1,1)-(день_начала-1))-IF((WEEKDAY($K$1,1)-(день_начала-1))<=0,7,0)+(ROW(P3)-ROW($K$3))*7+(COLUMN(P3)-COLUMN($K$3)+1)),"",$K$1-(WEEKDAY($K$1,1)-(день_начала-1))-IF((WEEKDAY($K$1,1)-(день_начала-1))<=0,7,0)+(ROW(P3)-ROW($K$3))*7+(COLUMN(P3)-COLUMN($K$3)+1)) -> 45780 | Q3: =IF(MONTH($K$1)<>MONTH($K$1-(WEEKDAY($K$1,1)-(день_начала-1))-IF((WEEKDAY($K$1,1)-(день_начала-1))<=0,7,0)+(ROW(Q3)-ROW($K$3))*7+(COLUMN(Q3)-COLUMN($K$3)+1)),"",$K$1-(WEEKDAY($K$1,1)-(день_начала-1))-IF((WEEKDAY($K$1,1)-(день_начала-1))<=0,7,0)+(ROW(Q3)-ROW($K$3))*7+(COLUMN(Q3)-COLUMN($K$3)+1)) -> 45781 | S3: =IF(MONTH($S$1)<>MONTH($S$1-(WEEKDAY($S$1,1)-(день_начала-1))-IF((WEEKDAY($S$1,1)-(день_начала-1))<=0,7,0)+(ROW(S3)-ROW($S$3))*7+(COLUMN(S3)-COLUMN($S$3)+1)),"",$S$1-(WEEKDAY($S$1,1)-(день_начала-1))-IF((WEEKDAY($S$1,1)-(день_начала-1))<=0,7,0)+(ROW(S3)-ROW($S$3))*7+(COLUMN(S3)-COLUMN($S$3)+1)) | T3: =IF(MONTH($S$1)<>MONTH($S$1-(WEEKDAY($S$1,1)-(день_начала-1))-IF((WEEKDAY($S$1,1)-(день_начала-1))<=0,7,0)+(ROW(T3)-ROW($S$3))*7+(COLUMN(T3)-COLUMN($S$3)+1)),"",$S$1-(WEEKDAY($S$1,1)-(день_начала-1))-IF((WEEKDAY($S$1,1)-(день_начала-1))<=0,7,0)+(ROW(T3)-ROW($S$3))*7+(COLUMN(T3)-COLUMN($S$3)+1)) -> 45839 | U3: =IF(MONTH($S$1)<>MONTH($S$1-(WEEKDAY($S$1,1)-(день_начала-1))-IF((WEEKDAY($S$1,1)-(день_начала-1))<=0,7,0)+(ROW(U3)-ROW($S$3))*7+(COLUMN(U3)-COLUMN($S$3)+1)),"",$S$1-(WEEKDAY($S$1,1)-(день_начала-1))-IF((WEEKDAY($S$1,1)-(день_начала-1))<=0,7,0)+(ROW(U3)-ROW($S$3))*7+(COLUMN(U3)-COLUMN($S$3)+1)) -> 45840 | V3: =IF(MONTH($S$1)<>MONTH($S$1-(WEEKDAY($S$1,1)-(день_начала-1))-IF((WEEKDAY($S$1,1)-(день_начала-1))<=0,7,0)+(ROW(V3)-ROW($S$3))*7+(COLUMN(V3)-COLUMN($S$3)+1)),"",$S$1-(WEEKDAY($S$1,1)-(день_начала-1))-IF((WEEKDAY($S$1,1)-(день_начала-1))<=0,7,0)+(ROW(V3)-ROW($S$3))*7+(COLUMN(V3)-COLUMN($S$3)+1)) -> 45841 | W3: =IF(MONTH($S$1)<>MONTH($S$1-(WEEKDAY($S$1,1)-(день_начала-1))-IF((WEEKDAY($S$1,1)-(день_начала-1))<=0,7,0)+(ROW(W3)-ROW($S$3))*7+(COLUMN(W3)-COLUMN($S$3)+1)),"",$S$1-(WEEKDAY($S$1,1)-(день_начала-1))-IF((WEEKDAY($S$1,1)-(день_начала-1))<=0,7,0)+(ROW(W3)-ROW($S$3))*7+(COLUMN(W3)-COLUMN($S$3)+1)) -> 45842 | X3: =IF(MONTH($S$1)<>MONTH($S$1-(WEEKDAY($S$1,1)-(день_начала-1))-IF((WEEKDAY($S$1,1)-(день_начала-1))<=0,7,0)+(ROW(X3)-ROW($S$3))*7+(COLUMN(X3)-COLUMN($S$3)+1)),"",$S$1-(WEEKDAY($S$1,1)-(день_начала-1))-IF((WEEKDAY($S$1,1)-(день_начала-1))<=0,7,0)+(ROW(X3)-ROW($S$3))*7+(COLUMN(X3)-COLUMN($S$3)+1)) -> 45843 | Y3: =IF(MONTH($S$1)<>MONTH($S$1-(WEEKDAY($S$1,1)-(день_начала-1))-IF((WEEKDAY($S$1,1)-(день_начала-1))<=0,7,0)+(ROW(Y3)-ROW($S$3))*7+(COLUMN(Y3)-COLUMN($S$3)+1)),"",$S$1-(WEEKDAY($S$1,1)-(день_начала-1))-IF((WEEKDAY($S$1,1)-(день_начала-1))<=0,7,0)+(ROW(Y3)-ROW($S$3))*7+(COLUMN(Y3)-COLUMN($S$3)+1)) -> 45844
K4: =IF(MONTH($K$1)<>MONTH($K$1-(WEEKDAY($K$1,1)-(день_начала-1))-IF((WEEKDAY($K$1,1)-(день_начала-1))<=0,7,0)+(ROW(K4)-ROW($K$3))*7+(COLUMN(K4)-COLUMN($K$3)+1)),"",$K$1-(WEEKDAY($K$1,1)-(день_начала-1))-IF((WEEKDAY($K$1,1)-(день_начала-1))<=0,7,0)+(ROW(K4)-ROW($K$3))*7+(COLUMN(K4)-COLUMN($K$3)+1)) -> 45782 | L4: =IF(MONTH($K$1)<>MONTH($K$1-(WEEKDAY($K$1,1)-(день_начала-1))-IF((WEEKDAY($K$1,1)-(день_начала-1))<=0,7,0)+(ROW(L4)-ROW($K$3))*7+(COLUMN(L4)-COLUMN($K$3)+1)),"",$K$1-(WEEKDAY($K$1,1)-(день_начала-1))-IF((WEEKDAY($K$1,1)-(день_начала-1))<=0,7,0)+(ROW(L4)-ROW($K$3))*7+(COLUMN(L4)-COLUMN($K$3)+1)) -> 45783 | M4: =IF(MONTH($K$1)<>MONTH($K$1-(WEEKDAY($K$1,1)-(день_начала-1))-IF((WEEKDAY($K$1,1)-(день_начала-1))<=0,7,0)+(ROW(M4)-ROW($K$3))*7+(COLUMN(M4)-COLUMN($K$3)+1)),"",$K$1-(WEEKDAY($K$1,1)-(день_начала-1))-IF((WEEKDAY($K$1,1)-(день_начала-1))<=0,7,0)+(ROW(M4)-ROW($K$3))*7+(COLUMN(M4)-COLUMN($K$3)+1)) -> 45784 | N4: =IF(MONTH($K$1)<>MONTH($K$1-(WEEKDAY($K$1,1)-(день_начала-1))-IF((WEEKDAY($K$1,1)-(день_начала-1))<=0,7,0)+(ROW(N4)-ROW($K$3))*7+(COLUMN(N4)-COLUMN($K$3)+1)),"",$K$1-(WEEKDAY($K$1,1)-(день_начала-1))-IF((WEEKDAY($K$1,1)-(день_начала-1))<=0,7,0)+(ROW(N4)-ROW($K$3))*7+(COLUMN(N4)-COLUMN($K$3)+1)) -> 45785 | O4: =IF(MONTH($K$1)<>MONTH($K$1-(WEEKDAY($K$1,1)-(день_начала-1))-IF((WEEKDAY($K$1,1)-(день_начала-1))<=0,7,0)+(ROW(O4)-ROW($K$3))*7+(COLUMN(O4)-COLUMN($K$3)+1)),"",$K$1-(WEEKDAY($K$1,1)-(день_начала-1))-IF((WEEKDAY($K$1,1)-(день_начала-1))<=0,7,0)+(ROW(O4)-ROW($K$3))*7+(COLUMN(O4)-COLUMN($K$3)+1)) -> 45786 | P4: =IF(MONTH($K$1)<>MONTH($K$1-(WEEKDAY($K$1,1)-(день_начала-1))-IF((WEEKDAY($K$1,1)-(день_начала-1))<=0,7,0)+(ROW(P4)-ROW($K$3))*7+(COLUMN(P4)-COLUMN($K$3)+1)),"",$K$1-(WEEKDAY($K$1,1)-(день_начала-1))-IF((WEEKDAY($K$1,1)-(день_начала-1))<=0,7,0)+(ROW(P4)-ROW($K$3))*7+(COLUMN(P4)-COLUMN($K$3)+1)) -> 45787 | Q4: =IF(MONTH($K$1)<>MONTH($K$1-(WEEKDAY($K$1,1)-(день_начала-1))-IF((WEEKDAY($K$1,1)-(день_начала-1))<=0,7,0)+(ROW(Q4)-ROW($K$3))*7+(COLUMN(Q4)-COLUMN($K$3)+1)),"",$K$1-(WEEKDAY($K$1,1)-(день_начала-1))-IF((WEEKDAY($K$1,1)-(день_начала-1))<=0,7,0)+(ROW(Q4)-ROW($K$3))*7+(COLUMN(Q4)-COLUMN($K$3)+1)) -> 45788 | S4: =IF(MONTH($S$1)<>MONTH($S$1-(WEEKDAY($S$1,1)-(день_начала-1))-IF((WEEKDAY($S$1,1)-(день_начала-1))<=0,7,0)+(ROW(S4)-ROW($S$3))*7+(COLUMN(S4)-COLUMN($S$3)+1)),"",$S$1-(WEEKDAY($S$1,1)-(день_начала-1))-IF((WEEKDAY($S$1,1)-(день_начала-1))<=0,7,0)+(ROW(S4)-ROW($S$3))*7+(COLUMN(S4)-COLUMN($S$3)+1)) -> 45845 | T4: =IF(MONTH($S$1)<>MONTH($S$1-(WEEKDAY($S$1,1)-(день_начала-1))-IF((WEEKDAY($S$1,1)-(день_начала-1))<=0,7,0)+(ROW(T4)-ROW($S$3))*7+(COLUMN(T4)-COLUMN($S$3)+1)),"",$S$1-(WEEKDAY($S$1,1)-(день_начала-1))-IF((WEEKDAY($S$1,1)-(день_начала-1))<=0,7,0)+(ROW(T4)-ROW($S$3))*7+(COLUMN(T4)-COLUMN($S$3)+1)) -> 45846 | U4: =IF(MONTH($S$1)<>MONTH($S$1-(WEEKDAY($S$1,1)-(день_начала-1))-IF((WEEKDAY($S$1,1)-(день_начала-1))<=0,7,0)+(ROW(U4)-ROW($S$3))*7+(COLUMN(U4)-COLUMN($S$3)+1)),"",$S$1-(WEEKDAY($S$1,1)-(день_начала-1))-IF((WEEKDAY($S$1,1)-(день_начала-1))<=0,7,0)+(ROW(U4)-ROW($S$3))*7+(COLUMN(U4)-COLUMN($S$3)+1)) -> 45847 | V4: =IF(MONTH($S$1)<>MONTH($S$1-(WEEKDAY($S$1,1)-(день_начала-1))-IF((WEEKDAY($S$1,1)-(день_начала-1))<=0,7,0)+(ROW(V4)-ROW($S$3))*7+(COLUMN(V4)-COLUMN($S$3)+1)),"",$S$1-(WEEKDAY($S$1,1)-(день_начала-1))-IF((WEEKDAY($S$1,1)-(день_начала-1))<=0,7,0)+(ROW(V4)-ROW($S$3))*7+(COLUMN(V4)-COLUMN($S$3)+1)) -> 45848 | W4: =IF(MONTH($S$1)<>MONTH($S$1-(WEEKDAY($S$1,1)-(день_начала-1))-IF((WEEKDAY($S$1,1)-(день_начала-1))<=0,7,0)+(ROW(W4)-ROW($S$3))*7+(COLUMN(W4)-COLUMN($S$3)+1)),"",$S$1-(WEEKDAY($S$1,1)-(день_начала-1))-IF((WEEKDAY($S$1,1)-(день_начала-1))<=0,7,0)+(ROW(W4)-ROW($S$3))*7+(COLUMN(W4)-COLUMN($S$3)+1)) -> 45849 | X4: =IF(MONTH($S$1)<>MONTH($S$1-(WEEKDAY($S$1,1)-(день_начала-1))-IF((WEEKDAY($S$1,1)-(день_начала-1))<=0,7,0)+(ROW(X4)-ROW($S$3))*7+(COLUMN(X4)-COLUMN($S$3)+1)),"",$S$1-(WEEKDAY($S$1,1)-(день_начала-1))-IF((WEEKDAY($S$1,1)-(день_начала-1))<=0,7,0)+(ROW(X4)-ROW($S$3))*7+(COLUMN(X4)-COLUMN($S$3)+1)) -> 45850 | Y4: =IF(MONTH($S$1)<>MONTH($S$1-(WEEKDAY($S$1,1)-(день_начала-1))-IF((WEEKDAY($S$1,1)-(день_начала-1))<=0,7,0)+(ROW(Y4)-ROW($S$3))*7+(COLUMN(Y4)-COLUMN($S$3)+1)),"",$S$1-(WEEKDAY($S$1,1)-(день_начала-1))-IF((WEEKDAY($S$1,1)-(день_начала-1))<=0,7,0)+(ROW(Y4)-ROW($S$3))*7+(COLUMN(Y4)-COLUMN($S$3)+1)) -> 45851
K5: =IF(MONTH($K$1)<>MONTH($K$1-(WEEKDAY($K$1,1)-(день_начала-1))-IF((WEEKDAY($K$1,1)-(день_начала-1))<=0,7,0)+(ROW(K5)-ROW($K$3))*7+(COLUMN(K5)-COLUMN($K$3)+1)),"",$K$1-(WEEKDAY($K$1,1)-(день_начала-1))-IF((WEEKDAY($K$1,1)-(день_начала-1))<=0,7,0)+(ROW(K5)-ROW($K$3))*7+(COLUMN(K5)-COLUMN($K$3)+1)) -> 45789 | L5: =IF(MONTH($K$1)<>MONTH($K$1-(WEEKDAY($K$1,1)-(день_начала-1))-IF((WEEKDAY($K$1,1)-(день_начала-1))<=0,7,0)+(ROW(L5)-ROW($K$3))*7+(COLUMN(L5)-COLUMN($K$3)+1)),"",$K$1-(WEEKDAY($K$1,1)-(день_начала-1))-IF((WEEKDAY($K$1,1)-(день_начала-1))<=0,7,0)+(ROW(L5)-ROW($K$3))*7+(COLUMN(L5)-COLUMN($K$3)+1)) -> 45790 | M5: =IF(MONTH($K$1)<>MONTH($K$1-(WEEKDAY($K$1,1)-(день_начала-1))-IF((WEEKDAY($K$1,1)-(день_начала-1))<=0,7,0)+(ROW(M5)-ROW($K$3))*7+(COLUMN(M5)-COLUMN($K$3)+1)),"",$K$1-(WEEKDAY($K$1,1)-(день_начала-1))-IF((WEEKDAY($K$1,1)-(день_начала-1))<=0,7,0)+(ROW(M5)-ROW($K$3))*7+(COLUMN(M5)-COLUMN($K$3)+1)) -> 45791 | N5: =IF(MONTH($K$1)<>MONTH($K$1-(WEEKDAY($K$1,1)-(день_начала-1))-IF((WEEKDAY($K$1,1)-(день_начала-1))<=0,7,0)+(ROW(N5)-ROW($K$3))*7+(COLUMN(N5)-COLUMN($K$3)+1)),"",$K$1-(WEEKDAY($K$1,1)-(день_начала-1))-IF((WEEKDAY($K$1,1)-(день_начала-1))<=0,7,0)+(ROW(N5)-ROW($K$3))*7+(COLUMN(N5)-COLUMN($K$3)+1)) -> 45792 | O5: =IF(MONTH($K$1)<>MONTH($K$1-(WEEKDAY($K$1,1)-(день_начала-1))-IF((WEEKDAY($K$1,1)-(день_начала-1))<=0,7,0)+(ROW(O5)-ROW($K$3))*7+(COLUMN(O5)-COLUMN($K$3)+1)),"",$K$1-(WEEKDAY($K$1,1)-(день_начала-1))-IF((WEEKDAY($K$1,1)-(день_начала-1))<=0,7,0)+(ROW(O5)-ROW($K$3))*7+(COLUMN(O5)-COLUMN($K$3)+1)) -> 45793 | P5: =IF(MONTH($K$1)<>MONTH($K$1-(WEEKDAY($K$1,1)-(день_начала-1))-IF((WEEKDAY($K$1,1)-(день_начала-1))<=0,7,0)+(ROW(P5)-ROW($K$3))*7+(COLUMN(P5)-COLUMN($K$3)+1)),"",$K$1-(WEEKDAY($K$1,1)-(день_начала-1))-IF((WEEKDAY($K$1,1)-(день_начала-1))<=0,7,0)+(ROW(P5)-ROW($K$3))*7+(COLUMN(P5)-COLUMN($K$3)+1)) -> 45794 | Q5: =IF(MONTH($K$1)<>MONTH($K$1-(WEEKDAY($K$1,1)-(день_начала-1))-IF((WEEKDAY($K$1,1)-(день_начала-1))<=0,7,0)+(ROW(Q5)-ROW($K$3))*7+(COLUMN(Q5)-COLUMN($K$3)+1)),"",$K$1-(WEEKDAY($K$1,1)-(день_начала-1))-IF((WEEKDAY($K$1,1)-(день_начала-1))<=0,7,0)+(ROW(Q5)-ROW($K$3))*7+(COLUMN(Q5)-COLUMN($K$3)+1)) -> 45795 | S5: =IF(MONTH($S$1)<>MONTH($S$1-(WEEKDAY($S$1,1)-(день_начала-1))-IF((WEEKDAY($S$1,1)-(день_начала-1))<=0,7,0)+(ROW(S5)-ROW($S$3))*7+(COLUMN(S5)-COLUMN($S$3)+1)),"",$S$1-(WEEKDAY($S$1,1)-(день_начала-1))-IF((WEEKDAY($S$1,1)-(день_начала-1))<=0,7,0)+(ROW(S5)-ROW($S$3))*7+(COLUMN(S5)-COLUMN($S$3)+1)) -> 45852 | T5: =IF(MONTH($S$1)<>MONTH($S$1-(WEEKDAY($S$1,1)-(день_начала-1))-IF((WEEKDAY($S$1,1)-(день_начала-1))<=0,7,0)+(ROW(T5)-ROW($S$3))*7+(COLUMN(T5)-COLUMN($S$3)+1)),"",$S$1-(WEEKDAY($S$1,1)-(день_начала-1))-IF((WEEKDAY($S$1,1)-(день_начала-1))<=0,7,0)+(ROW(T5)-ROW($S$3))*7+(COLUMN(T5)-COLUMN($S$3)+1)) -> 45853 | U5: =IF(MONTH($S$1)<>MONTH($S$1-(WEEKDAY($S$1,1)-(день_начала-1))-IF((WEEKDAY($S$1,1)-(день_начала-1))<=0,7,0)+(ROW(U5)-ROW($S$3))*7+(COLUMN(U5)-COLUMN($S$3)+1)),"",$S$1-(WEEKDAY($S$1,1)-(день_начала-1))-IF((WEEKDAY($S$1,1)-(день_начала-1))<=0,7,0)+(ROW(U5)-ROW($S$3))*7+(COLUMN(U5)-COLUMN($S$3)+1)) -> 45854 | V5: =IF(MONTH($S$1)<>MONTH($S$1-(WEEKDAY($S$1,1)-(день_начала-1))-IF((WEEKDAY($S$1,1)-(день_начала-1))<=0,7,0)+(ROW(V5)-ROW($S$3))*7+(COLUMN(V5)-COLUMN($S$3)+1)),"",$S$1-(WEEKDAY($S$1,1)-(день_начала-1))-IF((WEEKDAY($S$1,1)-(день_начала-1))<=0,7,0)+(ROW(V5)-ROW($S$3))*7+(COLUMN(V5)-COLUMN($S$3)+1)) -> 45855 | W5: =IF(MONTH($S$1)<>MONTH($S$1-(WEEKDAY($S$1,1)-(день_начала-1))-IF((WEEKDAY($S$1,1)-(день_начала-1))<=0,7,0)+(ROW(W5)-ROW($S$3))*7+(COLUMN(W5)-COLUMN($S$3)+1)),"",$S$1-(WEEKDAY($S$1,1)-(день_начала-1))-IF((WEEKDAY($S$1,1)-(день_начала-1))<=0,7,0)+(ROW(W5)-ROW($S$3))*7+(COLUMN(W5)-COLUMN($S$3)+1)) -> 45856 | X5: =IF(MONTH($S$1)<>MONTH($S$1-(WEEKDAY($S$1,1)-(день_начала-1))-IF((WEEKDAY($S$1,1)-(день_начала-1))<=0,7,0)+(ROW(X5)-ROW($S$3))*7+(COLUMN(X5)-COLUMN($S$3)+1)),"",$S$1-(WEEKDAY($S$1,1)-(день_начала-1))-IF((WEEKDAY($S$1,1)-(день_начала-1))<=0,7,0)+(ROW(X5)-ROW($S$3))*7+(COLUMN(X5)-COLUMN($S$3)+1)) -> 45857 | Y5: =IF(MONTH($S$1)<>MONTH($S$1-(WEEKDAY($S$1,1)-(день_начала-1))-IF((WEEKDAY($S$1,1)-(день_начала-1))<=0,7,0)+(ROW(Y5)-ROW($S$3))*7+(COLUMN(Y5)-COLUMN($S$3)+1)),"",$S$1-(WEEKDAY($S$1,1)-(день_начала-1))-IF((WEEKDAY($S$1,1)-(день_начала-1))<=0,7,0)+(ROW(Y5)-ROW($S$3))*7+(COLUMN(Y5)-COLUMN($S$3)+1)) -> 45858
K6: =IF(MONTH($K$1)<>MONTH($K$1-(WEEKDAY($K$1,1)-(день_начала-1))-IF((WEEKDAY($K$1,1)-(день_начала-1))<=0,7,0)+(ROW(K6)-ROW($K$3))*7+(COLUMN(K6)-COLUMN($K$3)+1)),"",$K$1-(WEEKDAY($K$1,1)-(день_начала-1))-IF((WEEKDAY($K$1,1)-(день_начала-1))<=0,7,0)+(ROW(K6)-ROW($K$3))*7+(COLUMN(K6)-COLUMN($K$3)+1)) -> 45796 | L6: =IF(MONTH($K$1)<>MONTH($K$1-(WEEKDAY($K$1,1)-(день_начала-1))-IF((WEEKDAY($K$1,1)-(день_начала-1))<=0,7,0)+(ROW(L6)-ROW($K$3))*7+(COLUMN(L6)-COLUMN($K$3)+1)),"",$K$1-(WEEKDAY($K$1,1)-(день_начала-1))-IF((WEEKDAY($K$1,1)-(день_начала-1))<=0,7,0)+(ROW(L6)-ROW($K$3))*7+(COLUMN(L6)-COLUMN($K$3)+1)) -> 45797 | M6: =IF(MONTH($K$1)<>MONTH($K$1-(WEEKDAY($K$1,1)-(день_начала-1))-IF((WEEKDAY($K$1,1)-(день_начала-1))<=0,7,0)+(ROW(M6)-ROW($K$3))*7+(COLUMN(M6)-COLUMN($K$3)+1)),"",$K$1-(WEEKDAY($K$1,1)-(день_начала-1))-IF((WEEKDAY($K$1,1)-(день_начала-1))<=0,7,0)+(ROW(M6)-ROW($K$3))*7+(COLUMN(M6)-COLUMN($K$3)+1)) -> 45798 | N6: =IF(MONTH($K$1)<>MONTH($K$1-(WEEKDAY($K$1,1)-(день_начала-1))-IF((WEEKDAY($K$1,1)-(день_начала-1))<=0,7,0)+(ROW(N6)-ROW($K$3))*7+(COLUMN(N6)-COLUMN($K$3)+1)),"",$K$1-(WEEKDAY($K$1,1)-(день_начала-1))-IF((WEEKDAY($K$1,1)-(день_начала-1))<=0,7,0)+(ROW(N6)-ROW($K$3))*7+(COLUMN(N6)-COLUMN($K$3)+1)) -> 45799 | O6: =IF(MONTH($K$1)<>MONTH($K$1-(WEEKDAY($K$1,1)-(день_начала-1))-IF((WEEKDAY($K$1,1)-(день_начала-1))<=0,7,0)+(ROW(O6)-ROW($K$3))*7+(COLUMN(O6)-COLUMN($K$3)+1)),"",$K$1-(WEEKDAY($K$1,1)-(день_начала-1))-IF((WEEKDAY($K$1,1)-(день_начала-1))<=0,7,0)+(ROW(O6)-ROW($K$3))*7+(COLUMN(O6)-COLUMN($K$3)+1)) -> 45800 | P6: =IF(MONTH($K$1)<>MONTH($K$1-(WEEKDAY($K$1,1)-(день_начала-1))-IF((WEEKDAY($K$1,1)-(день_начала-1))<=0,7,0)+(ROW(P6)-ROW($K$3))*7+(COLUMN(P6)-COLUMN($K$3)+1)),"",$K$1-(WEEKDAY($K$1,1)-(день_начала-1))-IF((WEEKDAY($K$1,1)-(день_начала-1))<=0,7,0)+(ROW(P6)-ROW($K$3))*7+(COLUMN(P6)-COLUMN($K$3)+1)) -> 45801 | Q6: =IF(MONTH($K$1)<>MONTH($K$1-(WEEKDAY($K$1,1)-(день_начала-1))-IF((WEEKDAY($K$1,1)-(день_начала-1))<=0,7,0)+(ROW(Q6)-ROW($K$3))*7+(COLUMN(Q6)-COLUMN($K$3)+1)),"",$K$1-(WEEKDAY($K$1,1)-(день_начала-1))-IF((WEEKDAY($K$1,1)-(день_начала-1))<=0,7,0)+(ROW(Q6)-ROW($K$3))*7+(COLUMN(Q6)-COLUMN($K$3)+1)) -> 45802 | S6: =IF(MONTH($S$1)<>MONTH($S$1-(WEEKDAY($S$1,1)-(день_начала-1))-IF((WEEKDAY($S$1,1)-(день_начала-1))<=0,7,0)+(ROW(S6)-ROW($S$3))*7+(COLUMN(S6)-COLUMN($S$3)+1)),"",$S$1-(WEEKDAY($S$1,1)-(день_начала-1))-IF((WEEKDAY($S$1,1)-(день_начала-1))<=0,7,0)+(ROW(S6)-ROW($S$3))*7+(COLUMN(S6)-COLUMN($S$3)+1)) -> 45859 | T6: =IF(MONTH($S$1)<>MONTH($S$1-(WEEKDAY($S$1,1)-(день_начала-1))-IF((WEEKDAY($S$1,1)-(день_начала-1))<=0,7,0)+(ROW(T6)-ROW($S$3))*7+(COLUMN(T6)-COLUMN($S$3)+1)),"",$S$1-(WEEKDAY($S$1,1)-(день_начала-1))-IF((WEEKDAY($S$1,1)-(день_начала-1))<=0,7,0)+(ROW(T6)-ROW($S$3))*7+(COLUMN(T6)-COLUMN($S$3)+1)) -> 45860 | U6: =IF(MONTH($S$1)<>MONTH($S$1-(WEEKDAY($S$1,1)-(день_начала-1))-IF((WEEKDAY($S$1,1)-(день_начала-1))<=0,7,0)+(ROW(U6)-ROW($S$3))*7+(COLUMN(U6)-COLUMN($S$3)+1)),"",$S$1-(WEEKDAY($S$1,1)-(день_начала-1))-IF((WEEKDAY($S$1,1)-(день_начала-1))<=0,7,0)+(ROW(U6)-ROW($S$3))*7+(COLUMN(U6)-COLUMN($S$3)+1)) -> 45861 | V6: =IF(MONTH($S$1)<>MONTH($S$1-(WEEKDAY($S$1,1)-(день_начала-1))-IF((WEEKDAY($S$1,1)-(день_начала-1))<=0,7,0)+(ROW(V6)-ROW($S$3))*7+(COLUMN(V6)-COLUMN($S$3)+1)),"",$S$1-(WEEKDAY($S$1,1)-(день_начала-1))-IF((WEEKDAY($S$1,1)-(день_начала-1))<=0,7,0)+(ROW(V6)-ROW($S$3))*7+(COLUMN(V6)-COLUMN($S$3)+1)) -> 45862 | W6: =IF(MONTH($S$1)<>MONTH($S$1-(WEEKDAY($S$1,1)-(день_начала-1))-IF((WEEKDAY($S$1,1)-(день_начала-1))<=0,7,0)+(ROW(W6)-ROW($S$3))*7+(COLUMN(W6)-COLUMN($S$3)+1)),"",$S$1-(WEEKDAY($S$1,1)-(день_начала-1))-IF((WEEKDAY($S$1,1)-(день_начала-1))<=0,7,0)+(ROW(W6)-ROW($S$3))*7+(COLUMN(W6)-COLUMN($S$3)+1)) -> 45863 | X6: =IF(MONTH($S$1)<>MONTH($S$1-(WEEKDAY($S$1,1)-(день_начала-1))-IF((WEEKDAY($S$1,1)-(день_начала-1))<=0,7,0)+(ROW(X6)-ROW($S$3))*7+(COLUMN(X6)-COLUMN($S$3)+1)),"",$S$1-(WEEKDAY($S$1,1)-(день_начала-1))-IF((WEEKDAY($S$1,1)-(день_начала-1))<=0,7,0)+(ROW(X6)-ROW($S$3))*7+(COLUMN(X6)-COLUMN($S$3)+1)) -> 45864 | Y6: =IF(MONTH($S$1)<>MONTH($S$1-(WEEKDAY($S$1,1)-(день_начала-1))-IF((WEEKDAY($S$1,1)-(день_начала-1))<=0,7,0)+(ROW(Y6)-ROW($S$3))*7+(COLUMN(Y6)-COLUMN($S$3)+1)),"",$S$1-(WEEKDAY($S$1,1)-(день_начала-1))-IF((WEEKDAY($S$1,1)-(день_начала-1))<=0,7,0)+(ROW(Y6)-ROW($S$3))*7+(COLUMN(Y6)-COLUMN($S$3)+1)) -> 45865
K7: =IF(MONTH($K$1)<>MONTH($K$1-(WEEKDAY($K$1,1)-(день_начала-1))-IF((WEEKDAY($K$1,1)-(день_начала-1))<=0,7,0)+(ROW(K7)-ROW($K$3))*7+(COLUMN(K7)-COLUMN($K$3)+1)),"",$K$1-(WEEKDAY($K$1,1)-(день_начала-1))-IF((WEEKDAY($K$1,1)-(день_начала-1))<=0,7,0)+(ROW(K7)-ROW($K$3))*7+(COLUMN(K7)-COLUMN($K$3)+1)) -> 45803 | L7: =IF(MONTH($K$1)<>MONTH($K$1-(WEEKDAY($K$1,1)-(день_начала-1))-IF((WEEKDAY($K$1,1)-(день_начала-1))<=0,7,0)+(ROW(L7)-ROW($K$3))*7+(COLUMN(L7)-COLUMN($K$3)+1)),"",$K$1-(WEEKDAY($K$1,1)-(день_начала-1))-IF((WEEKDAY($K$1,1)-(день_начала-1))<=0,7,0)+(ROW(L7)-ROW($K$3))*7+(COLUMN(L7)-COLUMN($K$3)+1)) -> 45804 | M7: =IF(MONTH($K$1)<>MONTH($K$1-(WEEKDAY($K$1,1)-(день_начала-1))-IF((WEEKDAY($K$1,1)-(день_начала-1))<=0,7,0)+(ROW(M7)-ROW($K$3))*7+(COLUMN(M7)-COLUMN($K$3)+1)),"",$K$1-(WEEKDAY($K$1,1)-(день_начала-1))-IF((WEEKDAY($K$1,1)-(день_начала-1))<=0,7,0)+(ROW(M7)-ROW($K$3))*7+(COLUMN(M7)-COLUMN($K$3)+1)) -> 45805 | N7: =IF(MONTH($K$1)<>MONTH($K$1-(WEEKDAY($K$1,1)-(день_начала-1))-IF((WEEKDAY($K$1,1)-(день_начала-1))<=0,7,0)+(ROW(N7)-ROW($K$3))*7+(COLUMN(N7)-COLUMN($K$3)+1)),"",$K$1-(WEEKDAY($K$1,1)-(день_начала-1))-IF((WEEKDAY($K$1,1)-(день_начала-1))<=0,7,0)+(ROW(N7)-ROW($K$3))*7+(COLUMN(N7)-COLUMN($K$3)+1)) -> 45806 | O7: =IF(MONTH($K$1)<>MONTH($K$1-(WEEKDAY($K$1,1)-(день_начала-1))-IF((WEEKDAY($K$1,1)-(день_начала-1))<=0,7,0)+(ROW(O7)-ROW($K$3))*7+(COLUMN(O7)-COLUMN($K$3)+1)),"",$K$1-(WEEKDAY($K$1,1)-(день_начала-1))-IF((WEEKDAY($K$1,1)-(день_начала-1))<=0,7,0)+(ROW(O7)-ROW($K$3))*7+(COLUMN(O7)-COLUMN($K$3)+1)) -> 45807 | P7: =IF(MONTH($K$1)<>MONTH($K$1-(WEEKDAY($K$1,1)-(день_начала-1))-IF((WEEKDAY($K$1,1)-(день_начала-1))<=0,7,0)+(ROW(P7)-ROW($K$3))*7+(COLUMN(P7)-COLUMN($K$3)+1)),"",$K$1-(WEEKDAY($K$1,1)-(день_начала-1))-IF((WEEKDAY($K$1,1)-(день_начала-1))<=0,7,0)+(ROW(P7)-ROW($K$3))*7+(COLUMN(P7)-COLUMN($K$3)+1)) -> 45808 | Q7: =IF(MONTH($K$1)<>MONTH($K$1-(WEEKDAY($K$1,1)-(день_начала-1))-IF((WEEKDAY($K$1,1)-(день_начала-1))<=0,7,0)+(ROW(Q7)-ROW($K$3))*7+(COLUMN(Q7)-COLUMN($K$3)+1)),"",$K$1-(WEEKDAY($K$1,1)-(день_начала-1))-IF((WEEKDAY($K$1,1)-(день_начала-1))<=0,7,0)+(ROW(Q7)-ROW($K$3))*7+(COLUMN(Q7)-COLUMN($K$3)+1)) | S7: =IF(MONTH($S$1)<>MONTH($S$1-(WEEKDAY($S$1,1)-(день_начала-1))-IF((WEEKDAY($S$1,1)-(день_начала-1))<=0,7,0)+(ROW(S7)-ROW($S$3))*7+(COLUMN(S7)-COLUMN($S$3)+1)),"",$S$1-(WEEKDAY($S$1,1)-(день_начала-1))-IF((WEEKDAY($S$1,1)-(день_начала-1))<=0,7,0)+(ROW(S7)-ROW($S$3))*7+(COLUMN(S7)-COLUMN($S$3)+1)) -> 45866 | T7: =IF(MONTH($S$1)<>MONTH($S$1-(WEEKDAY($S$1,1)-(день_начала-1))-IF((WEEKDAY($S$1,1)-(день_начала-1))<=0,7,0)+(ROW(T7)-ROW($S$3))*7+(COLUMN(T7)-COLUMN($S$3)+1)),"",$S$1-(WEEKDAY($S$1,1)-(день_начала-1))-IF((WEEKDAY($S$1,1)-(день_начала-1))<=0,7,0)+(ROW(T7)-ROW($S$3))*7+(COLUMN(T7)-COLUMN($S$3)+1)) -> 45867 | U7: =IF(MONTH($S$1)<>MONTH($S$1-(WEEKDAY($S$1,1)-(день_начала-1))-IF((WEEKDAY($S$1,1)-(день_начала-1))<=0,7,0)+(ROW(U7)-ROW($S$3))*7+(COLUMN(U7)-COLUMN($S$3)+1)),"",$S$1-(WEEKDAY($S$1,1)-(день_начала-1))-IF((WEEKDAY($S$1,1)-(день_начала-1))<=0,7,0)+(ROW(U7)-ROW($S$3))*7+(COLUMN(U7)-COLUMN($S$3)+1)) -> 45868 | V7: =IF(MONTH($S$1)<>MONTH($S$1-(WEEKDAY($S$1,1)-(день_начала-1))-IF((WEEKDAY($S$1,1)-(день_начала-1))<=0,7,0)+(ROW(V7)-ROW($S$3))*7+(COLUMN(V7)-COLUMN($S$3)+1)),"",$S$1-(WEEKDAY($S$1,1)-(день_начала-1))-IF((WEEKDAY($S$1,1)-(день_начала-1))<=0,7,0)+(ROW(V7)-ROW($S$3))*7+(COLUMN(V7)-COLUMN($S$3)+1)) -> 45869 | W7: =IF(MONTH($S$1)<>MONTH($S$1-(WEEKDAY($S$1,1)-(день_начала-1))-IF((WEEKDAY($S$1,1)-(день_начала-1))<=0,7,0)+(ROW(W7)-ROW($S$3))*7+(COLUMN(W7)-COLUMN($S$3)+1)),"",$S$1-(WEEKDAY($S$1,1)-(день_начала-1))-IF((WEEKDAY($S$1,1)-(день_начала-1))<=0,7,0)+(ROW(W7)-ROW($S$3))*7+(COLUMN(W7)-COLUMN($S$3)+1)) | X7: =IF(MONTH($S$1)<>MONTH($S$1-(WEEKDAY($S$1,1)-(день_начала-1))-IF((WEEKDAY($S$1,1)-(день_начала-1))<=0,7,0)+(ROW(X7)-ROW($S$3))*7+(COLUMN(X7)-COLUMN($S$3)+1)),"",$S$1-(WEEKDAY($S$1,1)-(день_начала-1))-IF((WEEKDAY($S$1,1)-(день_начала-1))<=0,7,0)+(ROW(X7)-ROW($S$3))*7+(COLUMN(X7)-COLUMN($S$3)+1)) | Y7: =IF(MONTH($S$1)<>MONTH($S$1-(WEEKDAY($S$1,1)-(день_начала-1))-IF((WEEKDAY($S$1,1)-(день_начала-1))<=0,7,0)+(ROW(Y7)-ROW($S$3))*7+(COLUMN(Y7)-COLUMN($S$3)+1)),"",$S$1-(WEEKDAY($S$1,1)-(день_начала-1))-IF((WEEKDAY($S$1,1)-(день_начала-1))<=0,7,0)+(ROW(Y7)-ROW($S$3))*7+(COLUMN(Y7)-COLUMN($S$3)+1))
K8: =IF(MONTH($K$1)<>MONTH($K$1-(WEEKDAY($K$1,1)-(день_начала-1))-IF((WEEKDAY($K$1,1)-(день_начала-1))<=0,7,0)+(ROW(K8)-ROW($K$3))*7+(COLUMN(K8)-COLUMN($K$3)+1)),"",$K$1-(WEEKDAY($K$1,1)-(день_начала-1))-IF((WEEKDAY($K$1,1)-(день_начала-1))<=0,7,0)+(ROW(K8)-ROW($K$3))*7+(COLUMN(K8)-COLUMN($K$3)+1)) | L8: =IF(MONTH($K$1)<>MONTH($K$1-(WEEKDAY($K$1,1)-(день_начала-1))-IF((WEEKDAY($K$1,1)-(день_начала-1))<=0,7,0)+(ROW(L8)-ROW($K$3))*7+(COLUMN(L8)-COLUMN($K$3)+1)),"",$K$1-(WEEKDAY($K$1,1)-(день_начала-1))-IF((WEEKDAY($K$1,1)-(день_начала-1))<=0,7,0)+(ROW(L8)-ROW($K$3))*7+(COLUMN(L8)-COLUMN($K$3)+1)) | M8: =IF(MONTH($K$1)<>MONTH($K$1-(WEEKDAY($K$1,1)-(день_начала-1))-IF((WEEKDAY($K$1,1)-(день_начала-1))<=0,7,0)+(ROW(M8)-ROW($K$3))*7+(COLUMN(M8)-COLUMN($K$3)+1)),"",$K$1-(WEEKDAY($K$1,1)-(день_начала-1))-IF((WEEKDAY($K$1,1)-(день_начала-1))<=0,7,0)+(ROW(M8)-ROW($K$3))*7+(COLUMN(M8)-COLUMN($K$3)+1)) | N8: =IF(MONTH($K$1)<>MONTH($K$1-(WEEKDAY($K$1,1)-(день_начала-1))-IF((WEEKDAY($K$1,1)-(день_начала-1))<=0,7,0)+(ROW(N8)-ROW($K$3))*7+(COLUMN(N8)-COLUMN($K$3)+1)),"",$K$1-(WEEKDAY($K$1,1)-(день_начала-1))-IF((WEEKDAY($K$1,1)-(день_начала-1))<=0,7,0)+(ROW(N8)-ROW($K$3))*7+(COLUMN(N8)-COLUMN($K$3)+1)) | O8: =IF(MONTH($K$1)<>MONTH($K$1-(WEEKDAY($K$1,1)-(день_начала-1))-IF((WEEKDAY($K$1,1)-(день_начала-1))<=0,7,0)+(ROW(O8)-ROW($K$3))*7+(COLUMN(O8)-COLUMN($K$3)+1)),"",$K$1-(WEEKDAY($K$1,1)-(день_начала-1))-IF((WEEKDAY($K$1,1)-(день_начала-1))<=0,7,0)+(ROW(O8)-ROW($K$3))*7+(COLUMN(O8)-COLUMN($K$3)+1)) | P8: =IF(MONTH($K$1)<>MONTH($K$1-(WEEKDAY($K$1,1)-(день_начала-1))-IF((WEEKDAY($K$1,1)-(день_начала-1))<=0,7,0)+(ROW(P8)-ROW($K$3))*7+(COLUMN(P8)-COLUMN($K$3)+1)),"",$K$1-(WEEKDAY($K$1,1)-(день_начала-1))-IF((WEEKDAY($K$1,1)-(день_начала-1))<=0,7,0)+(ROW(P8)-ROW($K$3))*7+(COLUMN(P8)-COLUMN($K$3)+1)) | Q8: =IF(MONTH($K$1)<>MONTH($K$1-(WEEKDAY($K$1,1)-(день_начала-1))-IF((WEEKDAY($K$1,1)-(день_начала-1))<=0,7,0)+(ROW(Q8)-ROW($K$3))*7+(COLUMN(Q8)-COLUMN($K$3)+1)),"",$K$1-(WEEKDAY($K$1,1)-(день_начала-1))-IF((WEEKDAY($K$1,1)-(день_начала-1))<=0,7,0)+(ROW(Q8)-ROW($K$3))*7+(COLUMN(Q8)-COLUMN($K$3)+1)) | S8: =IF(MONTH($S$1)<>MONTH($S$1-(WEEKDAY($S$1,1)-(день_начала-1))-IF((WEEKDAY($S$1,1)-(день_начала-1))<=0,7,0)+(ROW(S8)-ROW($S$3))*7+(COLUMN(S8)-COLUMN($S$3)+1)),"",$S$1-(WEEKDAY($S$1,1)-(день_начала-1))-IF((WEEKDAY($S$1,1)-(день_начала-1))<=0,7,0)+(ROW(S8)-ROW($S$3))*7+(COLUMN(S8)-COLUMN($S$3)+1)) | T8: =IF(MONTH($S$1)<>MONTH($S$1-(WEEKDAY($S$1,1)-(день_начала-1))-IF((WEEKDAY($S$1,1)-(день_начала-1))<=0,7,0)+(ROW(T8)-ROW($S$3))*7+(COLUMN(T8)-COLUMN($S$3)+1)),"",$S$1-(WEEKDAY($S$1,1)-(день_начала-1))-IF((WEEKDAY($S$1,1)-(день_начала-1))<=0,7,0)+(ROW(T8)-ROW($S$3))*7+(COLUMN(T8)-COLUMN($S$3)+1)) | U8: =IF(MONTH($S$1)<>MONTH($S$1-(WEEKDAY($S$1,1)-(день_начала-1))-IF((WEEKDAY($S$1,1)-(день_начала-1))<=0,7,0)+(ROW(U8)-ROW($S$3))*7+(COLUMN(U8)-COLUMN($S$3)+1)),"",$S$1-(WEEKDAY($S$1,1)-(день_начала-1))-IF((WEEKDAY($S$1,1)-(день_начала-1))<=0,7,0)+(ROW(U8)-ROW($S$3))*7+(COLUMN(U8)-COLUMN($S$3)+1)) | V8: =IF(MONTH($S$1)<>MONTH($S$1-(WEEKDAY($S$1,1)-(день_начала-1))-IF((WEEKDAY($S$1,1)-(день_начала-1))<=0,7,0)+(ROW(V8)-ROW($S$3))*7+(COLUMN(V8)-COLUMN($S$3)+1)),"",$S$1-(WEEKDAY($S$1,1)-(день_начала-1))-IF((WEEKDAY($S$1,1)-(день_начала-1))<=0,7,0)+(ROW(V8)-ROW($S$3))*7+(COLUMN(V8)-COLUMN($S$3)+1)) | W8: =IF(MONTH($S$1)<>MONTH($S$1-(WEEKDAY($S$1,1)-(день_начала-1))-IF((WEEKDAY($S$1,1)-(день_начала-1))<=0,7,0)+(ROW(W8)-ROW($S$3))*7+(COLUMN(W8)-COLUMN($S$3)+1)),"",$S$1-(WEEKDAY($S$1,1)-(день_начала-1))-IF((WEEKDAY($S$1,1)-(день_начала-1))<=0,7,0)+(ROW(W8)-ROW($S$3))*7+(COLUMN(W8)-COLUMN($S$3)+1)) | X8: =IF(MONTH($S$1)<>MONTH($S$1-(WEEKDAY($S$1,1)-(день_начала-1))-IF((WEEKDAY($S$1,1)-(день_начала-1))<=0,7,0)+(ROW(X8)-ROW($S$3))*7+(COLUMN(X8)-COLUMN($S$3)+1)),"",$S$1-(WEEKDAY($S$1,1)-(день_начала-1))-IF((WEEKDAY($S$1,1)-(день_начала-1))<=0,7,0)+(ROW(X8)-ROW($S$3))*7+(COLUMN(X8)-COLUMN($S$3)+1)) | Y8: =IF(MONTH($S$1)<>MONTH($S$1-(WEEKDAY($S$1,1)-(день_начала-1))-IF((WEEKDAY($S$1,1)-(день_начала-1))<=0,7,0)+(ROW(Y8)-ROW($S$3))*7+(COLUMN(Y8)-COLUMN($S$3)+1)),"",$S$1-(WEEKDAY($S$1,1)-(день_начала-1))-IF((WEEKDAY($S$1,1)-(день_начала-1))<=0,7,0)+(ROW(Y8)-ROW($S$3))*7+(COLUMN(Y8)-COLUMN($S$3)+1))
A9: =A10 -> 45803 | C9: =C10 -> 45804 | E9: =E10 -> 45805 | G9: =G10 -> 45806 | I9: =I10 -> 45807 | K9: =K10 -> 45808 | S9: =S10 -> 45809
A10: =$A$1-(WEEKDAY($A$1,1)-(день_начала-1))-IF((WEEKDAY($A$1,1)-(день_начала-1))<=0,7,0)+1 -> 45803 | C10: =A10+1 -> 45804 | E10: =C10+1 -> 45805 | G10: =E10+1 -> 45806 | I10: =G10+1 -> 45807 | K10: =I10+1 -> 45808 | S10: =K10+1 -> 45809
A16: =S10+1 -> 45810 | C16: =A16+1 -> 45811 | E16: =C16+1 -> 45812 | G16: =E16+1 -> 45813 | I16: =G16+1 -> 45814 | K16: =I16+1 -> 45815 | S16: =K16+1 -> 45816
A22: =S16+1 -> 45817 | C22: =A22+1 -> 45818 | E22: =C22+1 -> 45819 | G22: =E22+1 -> 45820 | I22: =G22+1 -> 45821 | K22: =I22+1 -> 45822 | S22: =K22+1 -> 45823
A28: =S22+1 -> 45824 | C28: =A28+1 -> 45825 | E28: =C28+1 -> 45826 | G28: =E28+1 -> 45827 | I28: =G28+1 -> 45828 | K28: =I28+1 -> 45829 | S28: =K28+1 -> 45830
A34: =S28+1 -> 45831 | C34: =A34+1 -> 45832 | E34: =C34+1 -> 45833 | G34: =E34+1 -> 45834 | I34: =G34+1 -> 45835 | K34: =I34+1 -> 45836 | S34: =K34+1 -> 45837
A40: =S34+1 -> 45838 | C40: =A40+1 -> 45839 | E40: Примечания

Sheet 7
A1: =DATE(Настройка!D5,Настройка!D7+6,1) -> 45839 | K1: =DATE(YEAR(A1),MONTH(A1)-1,1) -> 45809 | S1: =DATE(YEAR(A1),MONTH(A1)+1,1) -> 45870
K2: =INDEX({"Вс";"Пн";"Вт";"Ср";"Чт";"Пт";"Сб"},1+MOD(день_начала+1-2,7)) -> Пн | L2: =INDEX({"Вс";"Пн";"Вт";"Ср";"Чт";"Пт";"Сб"},1+MOD(день_начала+2-2,7)) -> Вт | M2: =INDEX({"Вс";"Пн";"Вт";"Ср";"Чт";"Пт";"Сб"},1+MOD(день_начала+3-2,7)) -> Ср | N2: =INDEX({"Вс";"Пн";"Вт";"Ср";"Чт";"Пт";"Сб"},1+MOD(день_начала+4-2,7)) -> Чт | O2: =INDEX({"Вс";"Пн";"Вт";"Ср";"Чт";"Пт";"Сб"},1+MOD(день_начала+5-2,7)) -> Пт | P2: =INDEX({"Вс";"Пн";"Вт";"Ср";"Чт";"Пт";"Сб"},1+MOD(день_начала+6-2,7)) -> Сб | Q2: =INDEX({"Вс";"Пн";"Вт";"Ср";"Чт";"Пт";"Сб"},1+MOD(день_начала+7-2,7)) -> Вс | S2: =INDEX({"Вс";"Пн";"Вт";"Ср";"Чт";"Пт";"Сб"},1+MOD(день_начала+1-2,7)) -> Пн | T2: =INDEX({"Вс";"Пн";"Вт";"Ср";"Чт";"Пт";"Сб"},1+MOD(день_начала+2-2,7)) -> Вт | U2: =INDEX({"Вс";"Пн";"Вт";"Ср";"Чт";"Пт";"Сб"},1+MOD(день_начала+3-2,7)) -> Ср | V2: =INDEX({"Вс";"Пн";"Вт";"Ср";"Чт";"Пт";"Сб"},1+MOD(день_начала+4-2,7)) -> Чт | W2: =INDEX({"Вс";"Пн";"Вт";"Ср";"Чт";"Пт";"Сб"},1+MOD(день_начала+5-2,7)) -> Пт | X2: =INDEX({"Вс";"Пн";"Вт";"Ср";"Чт";"Пт";"Сб"},1+MOD(день_начала+6-2,7)) -> Сб | Y2: =INDEX({"Вс";"Пн";"Вт";"Ср";"Чт";"Пт";"Сб"},1+MOD(день_начала+7-2,7)) -> Вс
K3: =IF(MONTH($K$1)<>MONTH($K$1-(WEEKDAY($K$1,1)-(день_начала-1))-IF((WEEKDAY($K$1,1)-(день_начала-1))<=0,7,0)+(ROW(K3)-ROW($K$3))*7+(COLUMN(K3)-COLUMN($K$3)+1)),"",$K$1-(WEEKDAY($K$1,1)-(день_начала-1))-IF((WEEKDAY($K$1,1)-(день_начала-1))<=0,7,0)+(ROW(K3)-ROW($K$3))*7+(COLUMN(K3)-COLUMN($K$3)+1)) | L3: =IF(MONTH($K$1)<>MONTH($K$1-(WEEKDAY($K$1,1)-(день_начала-1))-IF((WEEKDAY($K$1,1)-(день_начала-1))<=0,7,0)+(ROW(L3)-ROW($K$3))*7+(COLUMN(L3)-COLUMN($K$3)+1)),"",$K$1-(WEEKDAY($K$1,1)-(день_начала-1))-IF((WEEKDAY($K$1,1)-(день_начала-1))<=0,7,0)+(ROW(L3)-ROW($K$3))*7+(COLUMN(L3)-COLUMN($K$3)+1)) | M3: =IF(MONTH($K$1)<>MONTH($K$1-(WEEKDAY($K$1,1)-(день_начала-1))-IF((WEEKDAY($K$1,1)-(день_начала-1))<=0,7,0)+(ROW(M3)-ROW($K$3))*7+(COLUMN(M3)-COLUMN($K$3)+1)),"",$K$1-(WEEKDAY($K$1,1)-(день_начала-1))-IF((WEEKDAY($K$1,1)-(день_начала-1))<=0,7,0)+(ROW(M3)-ROW($K$3))*7+(COLUMN(M3)-COLUMN($K$3)+1)) | N3: =IF(MONTH($K$1)<>MONTH($K$1-(WEEKDAY($K$1,1)-(день_начала-1))-IF((WEEKDAY($K$1,1)-(день_начала-1))<=0,7,0)+(ROW(N3)-ROW($K$3))*7+(COLUMN(N3)-COLUMN($K$3)+1)),"",$K$1-(WEEKDAY($K$1,1)-(день_начала-1))-IF((WEEKDAY($K$1,1)-(день_начала-1))<=0,7,0)+(ROW(N3)-ROW($K$3))*7+(COLUMN(N3)-COLUMN($K$3)+1)) | O3: =IF(MONTH($K$1)<>MONTH($K$1-(WEEKDAY($K$1,1)-(день_начала-1))-IF((WEEKDAY($K$1,1)-(день_начала-1))<=0,7,0)+(ROW(O3)-ROW($K$3))*7+(COLUMN(O3)-COLUMN($K$3)+1)),"",$K$1-(WEEKDAY($K$1,1)-(день_начала-1))-IF((WEEKDAY($K$1,1)-(день_начала-1))<=0,7,0)+(ROW(O3)-ROW($K$3))*7+(COLUMN(O3)-COLUMN($K$3)+1)) | P3: =IF(MONTH($K$1)<>MONTH($K$1-(WEEKDAY($K$1,1)-(день_начала-1))-IF((WEEKDAY($K$1,1)-(день_начала-1))<=0,7,0)+(ROW(P3)-ROW($K$3))*7+(COLUMN(P3)-COLUMN($K$3)+1)),"",$K$1-(WEEKDAY($K$1,1)-(день_начала-1))-IF((WEEKDAY($K$1,1)-(день_начала-1))<=0,7,0)+(ROW(P3)-ROW($K$3))*7+(COLUMN(P3)-COLUMN($K$3)+1)) | Q3: =IF(MONTH($K$1)<>MONTH($K$1-(WEEKDAY($K$1,1)-(день_начала-1))-IF((WEEKDAY($K$1,1)-(день_начала-1))<=0,7,0)+(ROW(Q3)-ROW($K$3))*7+(COLUMN(Q3)-COLUMN($K$3)+1)),"",$K$1-(WEEKDAY($K$1,1)-(день_начала-1))-IF((WEEKDAY($K$1,1)-(день_начала-1))<=0,7,0)+(ROW(Q3)-ROW($K$3))*7+(COLUMN(Q3)-COLUMN($K$3)+1)) -> 45809 | S3: =IF(MONTH($S$1)<>MONTH($S$1-(WEEKDAY($S$1,1)-(день_начала-1))-IF((WEEKDAY($S$1,1)-(день_начала-1))<=0,7,0)+(ROW(S3)-ROW($S$3))*7+(COLUMN(S3)-COLUMN($S$3)+1)),"",$S$1-(WEEKDAY($S$1,1)-(день_начала-1))-IF((WEEKDAY($S$1,1)-(день_начала-1))<=0,7,0)+(ROW(S3)-ROW($S$3))*7+(COLUMN(S3)-COLUMN($S$3)+1)) | T3: =IF(MONTH($S$1)<>MONTH($S$1-(WEEKDAY($S$1,1)-(день_начала-1))-IF((WEEKDAY($S$1,1)-(день_начала-1))<=0,7,0)+(ROW(T3)-ROW($S$3))*7+(COLUMN(T3)-COLUMN($S$3)+1)),"",$S$1-(WEEKDAY($S$1,1)-(день_начала-1))-IF((WEEKDAY($S$1,1)-(день_начала-1))<=0,7,0)+(ROW(T3)-ROW($S$3))*7+(COLUMN(T3)-COLUMN($S$3)+1)) | U3: =IF(MONTH($S$1)<>MONTH($S$1-(WEEKDAY($S$1,1)-(день_начала-1))-IF((WEEKDAY($S$1,1)-(день_начала-1))<=0,7,0)+(ROW(U3)-ROW($S$3))*7+(COLUMN(U3)-COLUMN($S$3)+1)),"",$S$1-(WEEKDAY($S$1,1)-(день_начала-1))-IF((WEEKDAY($S$1,1)-(день_начала-1))<=0,7,0)+(ROW(U3)-ROW($S$3))*7+(COLUMN(U3)-COLUMN($S$3)+1)) | V3: =IF(MONTH($S$1)<>MONTH($S$1-(WEEKDAY($S$1,1)-(день_начала-1))-IF((WEEKDAY($S$1,1)-(день_начала-1))<=0,7,0)+(ROW(V3)-ROW($S$3))*7+(COLUMN(V3)-COLUMN($S$3)+1)),"",$S$1-(WEEKDAY($S$1,1)-(день_начала-1))-IF((WEEKDAY($S$1,1)-(день_начала-1))<=0,7,0)+(ROW(V3)-ROW($S$3))*7+(COLUMN(V3)-COLUMN($S$3)+1)) | W3: =IF(MONTH($S$1)<>MONTH($S$1-(WEEKDAY($S$1,1)-(день_начала-1))-IF((WEEKDAY($S$1,1)-(день_начала-1))<=0,7,0)+(ROW(W3)-ROW($S$3))*7+(COLUMN(W3)-COLUMN($S$3)+1)),"",$S$1-(WEEKDAY($S$1,1)-(день_начала-1))-IF((WEEKDAY($S$1,1)-(день_начала-1))<=0,7,0)+(ROW(W3)-ROW($S$3))*7+(COLUMN(W3)-COLUMN($S$3)+1)) -> 45870 | X3: =IF(MONTH($S$1)<>MONTH($S$1-(WEEKDAY($S$1,1)-(день_начала-1))-IF((WEEKDAY($S$1,1)-(день_начала-1))<=0,7,0)+(ROW(X3)-ROW($S$3))*7+(COLUMN(X3)-COLUMN($S$3)+1)),"",$S$1-(WEEKDAY($S$1,1)-(день_начала-1))-IF((WEEKDAY($S$1,1)-(день_начала-1))<=0,7,0)+(ROW(X3)-ROW($S$3))*7+(COLUMN(X3)-COLUMN($S$3)+1)) -> 45871 | Y3: =IF(MONTH($S$1)<>MONTH($S$1-(WEEKDAY($S$1,1)-(день_начала-1))-IF((WEEKDAY($S$1,1)-(день_начала-1))<=0,7,0)+(ROW(Y3)-ROW($S$3))*7+(COLUMN(Y3)-COLUMN($S$3)+1)),"",$S$1-(WEEKDAY($S$1,1)-(день_начала-1))-IF((WEEKDAY($S$1,1)-(день_начала-1))<=0,7,0)+(ROW(Y3)-ROW($S$3))*7+(COLUMN(Y3)-COLUMN($S$3)+1)) -> 45872
K4: =IF(MONTH($K$1)<>MONTH($K$1-(WEEKDAY($K$1,1)-(день_начала-1))-IF((WEEKDAY($K$1,1)-(день_начала-1))<=0,7,0)+(ROW(K4)-ROW($K$3))*7+(COLUMN(K4)-COLUMN($K$3)+1)),"",$K$1-(WEEKDAY($K$1,1)-(день_начала-1))-IF((WEEKDAY($K$1,1)-(день_начала-1))<=0,7,0)+(ROW(K4)-ROW($K$3))*7+(COLUMN(K4)-COLUMN($K$3)+1)) -> 45810 | L4: =IF(MONTH($K$1)<>MONTH($K$1-(WEEKDAY($K$1,1)-(день_начала-1))-IF((WEEKDAY($K$1,1)-(день_начала-1))<=0,7,0)+(ROW(L4)-ROW($K$3))*7+(COLUMN(L4)-COLUMN($K$3)+1)),"",$K$1-(WEEKDAY($K$1,1)-(день_начала-1))-IF((WEEKDAY($K$1,1)-(день_начала-1))<=0,7,0)+(ROW(L4)-ROW($K$3))*7+(COLUMN(L4)-COLUMN($K$3)+1)) -> 45811 | M4: =IF(MONTH($K$1)<>MONTH($K$1-(WEEKDAY($K$1,1)-(день_начала-1))-IF((WEEKDAY($K$1,1)-(день_начала-1))<=0,7,0)+(ROW(M4)-ROW($K$3))*7+(COLUMN(M4)-COLUMN($K$3)+1)),"",$K$1-(WEEKDAY($K$1,1)-(день_начала-1))-IF((WEEKDAY($K$1,1)-(день_начала-1))<=0,7,0)+(ROW(M4)-ROW($K$3))*7+(COLUMN(M4)-COLUMN($K$3)+1)) -> 45812 | N4: =IF(MONTH($K$1)<>MONTH($K$1-(WEEKDAY($K$1,1)-(день_начала-1))-IF((WEEKDAY($K$1,1)-(день_начала-1))<=0,7,0)+(ROW(N4)-ROW($K$3))*7+(COLUMN(N4)-COLUMN($K$3)+1)),"",$K$1-(WEEKDAY($K$1,1)-(день_начала-1))-IF((WEEKDAY($K$1,1)-(день_начала-1))<=0,7,0)+(ROW(N4)-ROW($K$3))*7+(COLUMN(N4)-COLUMN($K$3)+1)) -> 45813 | O4: =IF(MONTH($K$1)<>MONTH($K$1-(WEEKDAY($K$1,1)-(день_начала-1))-IF((WEEKDAY($K$1,1)-(день_начала-1))<=0,7,0)+(ROW(O4)-ROW($K$3))*7+(COLUMN(O4)-COLUMN($K$3)+1)),"",$K$1-(WEEKDAY($K$1,1)-(день_начала-1))-IF((WEEKDAY($K$1,1)-(день_начала-1))<=0,7,0)+(ROW(O4)-ROW($K$3))*7+(COLUMN(O4)-COLUMN($K$3)+1)) -> 45814 | P4: =IF(MONTH($K$1)<>MONTH($K$1-(WEEKDAY($K$1,1)-(день_начала-1))-IF((WEEKDAY($K$1,1)-(день_начала-1))<=0,7,0)+(ROW(P4)-ROW($K$3))*7+(COLUMN(P4)-COLUMN($K$3)+1)),"",$K$1-(WEEKDAY($K$1,1)-(день_начала-1))-IF((WEEKDAY($K$1,1)-(день_начала-1))<=0,7,0)+(ROW(P4)-ROW($K$3))*7+(COLUMN(P4)-COLUMN($K$3)+1)) -> 45815 | Q4: =IF(MONTH($K$1)<>MONTH($K$1-(WEEKDAY($K$1,1)-(день_начала-1))-IF((WEEKDAY($K$1,1)-(день_начала-1))<=0,7,0)+(ROW(Q4)-ROW($K$3))*7+(COLUMN(Q4)-COLUMN($K$3)+1)),"",$K$1-(WEEKDAY($K$1,1)-(день_начала-1))-IF((WEEKDAY($K$1,1)-(день_начала-1))<=0,7,0)+(ROW(Q4)-ROW($K$3))*7+(COLUMN(Q4)-COLUMN($K$3)+1)) -> 45816 | S4: =IF(MONTH($S$1)<>MONTH($S$1-(WEEKDAY($S$1,1)-(день_начала-1))-IF((WEEKDAY($S$1,1)-(день_начала-1))<=0,7,0)+(ROW(S4)-ROW($S$3))*7+(COLUMN(S4)-COLUMN($S$3)+1)),"",$S$1-(WEEKDAY($S$1,1)-(день_начала-1))-IF((WEEKDAY($S$1,1)-(день_начала-1))<=0,7,0)+(ROW(S4)-ROW($S$3))*7+(COLUMN(S4)-COLUMN($S$3)+1)) -> 45873 | T4: =IF(MONTH($S$1)<>MONTH($S$1-(WEEKDAY($S$1,1)-(день_начала-1))-IF((WEEKDAY($S$1,1)-(день_начала-1))<=0,7,0)+(ROW(T4)-ROW($S$3))*7+(COLUMN(T4)-COLUMN($S$3)+1)),"",$S$1-(WEEKDAY($S$1,1)-(день_начала-1))-IF((WEEKDAY($S$1,1)-(день_начала-1))<=0,7,0)+(ROW(T4)-ROW($S$3))*7+(COLUMN(T4)-COLUMN($S$3)+1)) -> 45874 | U4: =IF(MONTH($S$1)<>MONTH($S$1-(WEEKDAY($S$1,1)-(день_начала-1))-IF((WEEKDAY($S$1,1)-(день_начала-1))<=0,7,0)+(ROW(U4)-ROW($S$3))*7+(COLUMN(U4)-COLUMN($S$3)+1)),"",$S$1-(WEEKDAY($S$1,1)-(день_начала-1))-IF((WEEKDAY($S$1,1)-(день_начала-1))<=0,7,0)+(ROW(U4)-ROW($S$3))*7+(COLUMN(U4)-COLUMN($S$3)+1)) -> 45875 | V4: =IF(MONTH($S$1)<>MONTH($S$1-(WEEKDAY($S$1,1)-(день_начала-1))-IF((WEEKDAY($S$1,1)-(день_начала-1))<=0,7,0)+(ROW(V4)-ROW($S$3))*7+(COLUMN(V4)-COLUMN($S$3)+1)),"",$S$1-(WEEKDAY($S$1,1)-(день_начала-1))-IF((WEEKDAY($S$1,1)-(день_начала-1))<=0,7,0)+(ROW(V4)-ROW($S$3))*7+(COLUMN(V4)-COLUMN($S$3)+1)) -> 45876 | W4: =IF(MONTH($S$1)<>MONTH($S$1-(WEEKDAY($S$1,1)-(день_начала-1))-IF((WEEKDAY($S$1,1)-(день_начала-1))<=0,7,0)+(ROW(W4)-ROW($S$3))*7+(COLUMN(W4)-COLUMN($S$3)+1)),"",$S$1-(WEEKDAY($S$1,1)-(день_начала-1))-IF((WEEKDAY($S$1,1)-(день_начала-1))<=0,7,0)+(ROW(W4)-ROW($S$3))*7+(COLUMN(W4)-COLUMN($S$3)+1)) -> 45877 | X4: =IF(MONTH($S$1)<>MONTH($S$1-(WEEKDAY($S$1,1)-(день_начала-1))-IF((WEEKDAY($S$1,1)-(день_начала-1))<=0,7,0)+(ROW(X4)-ROW($S$3))*7+(COLUMN(X4)-COLUMN($S$3)+1)),"",$S$1-(WEEKDAY($S$1,1)-(день_начала-1))-IF((WEEKDAY($S$1,1)-(день_начала-1))<=0,7,0)+(ROW(X4)-ROW($S$3))*7+(COLUMN(X4)-COLUMN($S$3)+1)) -> 45878 | Y4: =IF(MONTH($S$1)<>MONTH($S$1-(WEEKDAY($S$1,1)-(день_начала-1))-IF((WEEKDAY($S$1,1)-(день_начала-1))<=0,7,0)+(ROW(Y4)-ROW($S$3))*7+(COLUMN(Y4)-COLUMN($S$3)+1)),"",$S$1-(WEEKDAY($S$1,1)-(день_начала-1))-IF((WEEKDAY($S$1,1)-(день_начала-1))<=0,7,0)+(ROW(Y4)-ROW($S$3))*7+(COLUMN(Y4)-COLUMN($S$3)+1)) -> 45879
K5: =IF(MONTH($K$1)<>MONTH($K$1-(WEEKDAY($K$1,1)-(день_начала-1))-IF((WEEKDAY($K$1,1)-(день_начала-1))<=0,7,0)+(ROW(K5)-ROW($K$3))*7+(COLUMN(K5)-COLUMN($K$3)+1)),"",$K$1-(WEEKDAY($K$1,1)-(день_начала-1))-IF((WEEKDAY($K$1,1)-(день_начала-1))<=0,7,0)+(ROW(K5)-ROW($K$3))*7+(COLUMN(K5)-COLUMN($K$3)+1)) -> 45817 | L5: =IF(MONTH($K$1)<>MONTH($K$1-(WEEKDAY($K$1,1)-(день_начала-1))-IF((WEEKDAY($K$1,1)-(день_начала-1))<=0,7,0)+(ROW(L5)-ROW($K$3))*7+(COLUMN(L5)-COLUMN($K$3)+1)),"",$K$1-(WEEKDAY($K$1,1)-(день_начала-1))-IF((WEEKDAY($K$1,1)-(день_начала-1))<=0,7,0)+(ROW(L5)-ROW($K$3))*7+(COLUMN(L5)-COLUMN($K$3)+1)) -> 45818 | M5: =IF(MONTH($K$1)<>MONTH($K$1-(WEEKDAY($K$1,1)-(день_начала-1))-IF((WEEKDAY($K$1,1)-(день_начала-1))<=0,7,0)+(ROW(M5)-ROW($K$3))*7+(COLUMN(M5)-COLUMN($K$3)+1)),"",$K$1-(WEEKDAY($K$1,1)-(день_начала-1))-IF((WEEKDAY($K$1,1)-(день_начала-1))<=0,7,0)+(ROW(M5)-ROW($K$3))*7+(COLUMN(M5)-COLUMN($K$3)+1)) -> 45819 | N5: =IF(MONTH($K$1)<>MONTH($K$1-(WEEKDAY($K$1,1)-(день_начала-1))-IF((WEEKDAY($K$1,1)-(день_начала-1))<=0,7,0)+(ROW(N5)-ROW($K$3))*7+(COLUMN(N5)-COLUMN($K$3)+1)),"",$K$1-(WEEKDAY($K$1,1)-(день_начала-1))-IF((WEEKDAY($K$1,1)-(день_начала-1))<=0,7,0)+(ROW(N5)-ROW($K$3))*7+(COLUMN(N5)-COLUMN($K$3)+1)) -> 45820 | O5: =IF(MONTH($K$1)<>MONTH($K$1-(WEEKDAY($K$1,1)-(день_начала-1))-IF((WEEKDAY($K$1,1)-(день_начала-1))<=0,7,0)+(ROW(O5)-ROW($K$3))*7+(COLUMN(O5)-COLUMN($K$3)+1)),"",$K$1-(WEEKDAY($K$1,1)-(день_начала-1))-IF((WEEKDAY($K$1,1)-(день_начала-1))<=0,7,0)+(ROW(O5)-ROW($K$3))*7+(COLUMN(O5)-COLUMN($K$3)+1)) -> 45821 | P5: =IF(MONTH($K$1)<>MONTH($K$1-(WEEKDAY($K$1,1)-(день_начала-1))-IF((WEEKDAY($K$1,1)-(день_начала-1))<=0,7,0)+(ROW(P5)-ROW($K$3))*7+(COLUMN(P5)-COLUMN($K$3)+1)),"",$K$1-(WEEKDAY($K$1,1)-(день_начала-1))-IF((WEEKDAY($K$1,1)-(день_начала-1))<=0,7,0)+(ROW(P5)-ROW($K$3))*7+(COLUMN(P5)-COLUMN($K$3)+1)) -> 45822 | Q5: =IF(MONTH($K$1)<>MONTH($K$1-(WEEKDAY($K$1,1)-(день_начала-1))-IF((WEEKDAY($K$1,1)-(день_начала-1))<=0,7,0)+(ROW(Q5)-ROW($K$3))*7+(COLUMN(Q5)-COLUMN($K$3)+1)),"",$K$1-(WEEKDAY($K$1,1)-(день_начала-1))-IF((WEEKDAY($K$1,1)-(день_начала-1))<=0,7,0)+(ROW(Q5)-ROW($K$3))*7+(COLUMN(Q5)-COLUMN($K$3)+1)) -> 45823 | S5: =IF(MONTH($S$1)<>MONTH($S$1-(WEEKDAY($S$1,1)-(день_начала-1))-IF((WEEKDAY($S$1,1)-(день_начала-1))<=0,7,0)+(ROW(S5)-ROW($S$3))*7+(COLUMN(S5)-COLUMN($S$3)+1)),"",$S$1-(WEEKDAY($S$1,1)-(день_начала-1))-IF((WEEKDAY($S$1,1)-(день_начала-1))<=0,7,0)+(ROW(S5)-ROW($S$3))*7+(COLUMN(S5)-COLUMN($S$3)+1)) -> 45880 | T5: =IF(MONTH($S$1)<>MONTH($S$1-(WEEKDAY($S$1,1)-(день_начала-1))-IF((WEEKDAY($S$1,1)-(день_начала-1))<=0,7,0)+(ROW(T5)-ROW($S$3))*7+(COLUMN(T5)-COLUMN($S$3)+1)),"",$S$1-(WEEKDAY($S$1,1)-(день_начала-1))-IF((WEEKDAY($S$1,1)-(день_начала-1))<=0,7,0)+(ROW(T5)-ROW($S$3))*7+(COLUMN(T5)-COLUMN($S$3)+1)) -> 45881 | U5: =IF(MONTH($S$1)<>MONTH($S$1-(WEEKDAY($S$1,1)-(день_начала-1))-IF((WEEKDAY($S$1,1)-(день_начала-1))<=0,7,0)+(ROW(U5)-ROW($S$3))*7+(COLUMN(U5)-COLUMN($S$3)+1)),"",$S$1-(WEEKDAY($S$1,1)-(день_начала-1))-IF((WEEKDAY($S$1,1)-(день_начала-1))<=0,7,0)+(ROW(U5)-ROW($S$3))*7+(COLUMN(U5)-COLUMN($S$3)+1)) -> 45882 | V5: =IF(MONTH($S$1)<>MONTH($S$1-(WEEKDAY($S$1,1)-(день_начала-1))-IF((WEEKDAY($S$1,1)-(день_начала-1))<=0,7,0)+(ROW(V5)-ROW($S$3))*7+(COLUMN(V5)-COLUMN($S$3)+1)),"",$S$1-(WEEKDAY($S$1,1)-(день_начала-1))-IF((WEEKDAY($S$1,1)-(день_начала-1))<=0,7,0)+(ROW(V5)-ROW($S$3))*7+(COLUMN(V5)-COLUMN($S$3)+1)) -> 45883 | W5: =IF(MONTH($S$1)<>MONTH($S$1-(WEEKDAY($S$1,1)-(день_начала-1))-IF((WEEKDAY($S$1,1)-(день_начала-1))<=0,7,0)+(ROW(W5)-ROW($S$3))*7+(COLUMN(W5)-COLUMN($S$3)+1)),"",$S$1-(WEEKDAY($S$1,1)-(день_начала-1))-IF((WEEKDAY($S$1,1)-(день_начала-1))<=0,7,0)+(ROW(W5)-ROW($S$3))*7+(COLUMN(W5)-COLUMN($S$3)+1)) -> 45884 | X5: =IF(MONTH($S$1)<>MONTH($S$1-(WEEKDAY($S$1,1)-(день_начала-1))-IF((WEEKDAY($S$1,1)-(день_начала-1))<=0,7,0)+(ROW(X5)-ROW($S$3))*7+(COLUMN(X5)-COLUMN($S$3)+1)),"",$S$1-(WEEKDAY($S$1,1)-(день_начала-1))-IF((WEEKDAY($S$1,1)-(день_начала-1))<=0,7,0)+(ROW(X5)-ROW($S$3))*7+(COLUMN(X5)-COLUMN($S$3)+1)) -> 45885 | Y5: =IF(MONTH($S$1)<>MONTH($S$1-(WEEKDAY($S$1,1)-(день_начала-1))-IF((WEEKDAY($S$1,1)-(день_начала-1))<=0,7,0)+(ROW(Y5)-ROW($S$3))*7+(COLUMN(Y5)-COLUMN($S$3)+1)),"",$S$1-(WEEKDAY($S$1,1)-(день_начала-1))-IF((WEEKDAY($S$1,1)-(день_начала-1))<=0,7,0)+(ROW(Y5)-ROW($S$3))*7+(COLUMN(Y5)-COLUMN($S$3)+1)) -> 45886
K6: =IF(MONTH($K$1)<>MONTH($K$1-(WEEKDAY($K$1,1)-(день_начала-1))-IF((WEEKDAY($K$1,1)-(день_начала-1))<=0,7,0)+(ROW(K6)-ROW($K$3))*7+(COLUMN(K6)-COLUMN($K$3)+1)),"",$K$1-(WEEKDAY($K$1,1)-(день_начала-1))-IF((WEEKDAY($K$1,1)-(день_начала-1))<=0,7,0)+(ROW(K6)-ROW($K$3))*7+(COLUMN(K6)-COLUMN($K$3)+1)) -> 45824 | L6: =IF(MONTH($K$1)<>MONTH($K$1-(WEEKDAY($K$1,1)-(день_начала-1))-IF((WEEKDAY($K$1,1)-(день_начала-1))<=0,7,0)+(ROW(L6)-ROW($K$3))*7+(COLUMN(L6)-COLUMN($K$3)+1)),"",$K$1-(WEEKDAY($K$1,1)-(день_начала-1))-IF((WEEKDAY($K$1,1)-(день_начала-1))<=0,7,0)+(ROW(L6)-ROW($K$3))*7+(COLUMN(L6)-COLUMN($K$3)+1)) -> 45825 | M6: =IF(MONTH($K$1)<>MONTH($K$1-(WEEKDAY($K$1,1)-(день_начала-1))-IF((WEEKDAY($K$1,1)-(день_начала-1))<=0,7,0)+(ROW(M6)-ROW($K$3))*7+(COLUMN(M6)-COLUMN($K$3)+1)),"",$K$1-(WEEKDAY($K$1,1)-(день_начала-1))-IF((WEEKDAY($K$1,1)-(день_начала-1))<=0,7,0)+(ROW(M6)-ROW($K$3))*7+(COLUMN(M6)-COLUMN($K$3)+1)) -> 45826 | N6: =IF(MONTH($K$1)<>MONTH($K$1-(WEEKDAY($K$1,1)-(день_начала-1))-IF((WEEKDAY($K$1,1)-(день_начала-1))<=0,7,0)+(ROW(N6)-ROW($K$3))*7+(COLUMN(N6)-COLUMN($K$3)+1)),"",$K$1-(WEEKDAY($K$1,1)-(день_начала-1))-IF((WEEKDAY($K$1,1)-(день_начала-1))<=0,7,0)+(ROW(N6)-ROW($K$3))*7+(COLUMN(N6)-COLUMN($K$3)+1)) -> 45827 | O6: =IF(MONTH($K$1)<>MONTH($K$1-(WEEKDAY($K$1,1)-(день_начала-1))-IF((WEEKDAY($K$1,1)-(день_начала-1))<=0,7,0)+(ROW(O6)-ROW($K$3))*7+(COLUMN(O6)-COLUMN($K$3)+1)),"",$K$1-(WEEKDAY($K$1,1)-(день_начала-1))-IF((WEEKDAY($K$1,1)-(день_начала-1))<=0,7,0)+(ROW(O6)-ROW($K$3))*7+(COLUMN(O6)-COLUMN($K$3)+1)) -> 45828 | P6: =IF(MONTH($K$1)<>MONTH($K$1-(WEEKDAY($K$1,1)-(день_начала-1))-IF((WEEKDAY($K$1,1)-(день_начала-1))<=0,7,0)+(ROW(P6)-ROW($K$3))*7+(COLUMN(P6)-COLUMN($K$3)+1)),"",$K$1-(WEEKDAY($K$1,1)-(день_начала-1))-IF((WEEKDAY($K$1,1)-(день_начала-1))<=0,7,0)+(ROW(P6)-ROW($K$3))*7+(COLUMN(P6)-COLUMN($K$3)+1)) -> 45829 | Q6: =IF(MONTH($K$1)<>MONTH($K$1-(WEEKDAY($K$1,1)-(день_начала-1))-IF((WEEKDAY($K$1,1)-(день_начала-1))<=0,7,0)+(ROW(Q6)-ROW($K$3))*7+(COLUMN(Q6)-COLUMN($K$3)+1)),"",$K$1-(WEEKDAY($K$1,1)-(день_начала-1))-IF((WEEKDAY($K$1,1)-(день_начала-1))<=0,7,0)+(ROW(Q6)-ROW($K$3))*7+(COLUMN(Q6)-COLUMN($K$3)+1)) -> 45830 | S6: =IF(MONTH($S$1)<>MONTH($S$1-(WEEKDAY($S$1,1)-(день_начала-1))-IF((WEEKDAY($S$1,1)-(день_начала-1))<=0,7,0)+(ROW(S6)-ROW($S$3))*7+(COLUMN(S6)-COLUMN($S$3)+1)),"",$S$1-(WEEKDAY($S$1,1)-(день_начала-1))-IF((WEEKDAY($S$1,1)-(день_начала-1))<=0,7,0)+(ROW(S6)-ROW($S$3))*7+(COLUMN(S6)-COLUMN($S$3)+1)) -> 45887 | T6: =IF(MONTH($S$1)<>MONTH($S$1-(WEEKDAY($S$1,1)-(день_начала-1))-IF((WEEKDAY($S$1,1)-(день_начала-1))<=0,7,0)+(ROW(T6)-ROW($S$3))*7+(COLUMN(T6)-COLUMN($S$3)+1)),"",$S$1-(WEEKDAY($S$1,1)-(день_начала-1))-IF((WEEKDAY($S$1,1)-(день_начала-1))<=0,7,0)+(ROW(T6)-ROW($S$3))*7+(COLUMN(T6)-COLUMN($S$3)+1)) -> 45888 | U6: =IF(MONTH($S$1)<>MONTH($S$1-(WEEKDAY($S$1,1)-(день_начала-1))-IF((WEEKDAY($S$1,1)-(день_начала-1))<=0,7,0)+(ROW(U6)-ROW($S$3))*7+(COLUMN(U6)-COLUMN($S$3)+1)),"",$S$1-(WEEKDAY($S$1,1)-(день_начала-1))-IF((WEEKDAY($S$1,1)-(день_начала-1))<=0,7,0)+(ROW(U6)-ROW($S$3))*7+(COLUMN(U6)-COLUMN($S$3)+1)) -> 45889 | V6: =IF(MONTH($S$1)<>MONTH($S$1-(WEEKDAY($S$1,1)-(день_начала-1))-IF((WEEKDAY($S$1,1)-(день_начала-1))<=0,7,0)+(ROW(V6)-ROW($S$3))*7+(COLUMN(V6)-COLUMN($S$3)+1)),"",$S$1-(WEEKDAY($S$1,1)-(день_начала-1))-IF((WEEKDAY($S$1,1)-(день_начала-1))<=0,7,0)+(ROW(V6)-ROW($S$3))*7+(COLUMN(V6)-COLUMN($S$3)+1)) -> 45890 | W6: =IF(MONTH($S$1)<>MONTH($S$1-(WEEKDAY($S$1,1)-(день_начала-1))-IF((WEEKDAY($S$1,1)-(день_начала-1))<=0,7,0)+(ROW(W6)-ROW($S$3))*7+(COLUMN(W6)-COLUMN($S$3)+1)),"",$S$1-(WEEKDAY($S$1,1)-(день_начала-1))-IF((WEEKDAY($S$1,1)-(день_начала-1))<=0,7,0)+(ROW(W6)-ROW($S$3))*7+(COLUMN(W6)-COLUMN($S$3)+1)) -> 45891 | X6: =IF(MONTH($S$1)<>MONTH($S$1-(WEEKDAY($S$1,1)-(день_начала-1))-IF((WEEKDAY($S$1,1)-(день_начала-1))<=0,7,0)+(ROW(X6)-ROW($S$3))*7+(COLUMN(X6)-COLUMN($S$3)+1)),"",$S$1-(WEEKDAY($S$1,1)-(день_начала-1))-IF((WEEKDAY($S$1,1)-(день_начала-1))<=0,7,0)+(ROW(X6)-ROW($S$3))*7+(COLUMN(X6)-COLUMN($S$3)+1)) -> 45892 | Y6: =IF(MONTH($S$1)<>MONTH($S$1-(WEEKDAY($S$1,1)-(день_начала-1))-IF((WEEKDAY($S$1,1)-(день_начала-1))<=0,7,0)+(ROW(Y6)-ROW($S$3))*7+(COLUMN(Y6)-COLUMN($S$3)+1)),"",$S$1-(WEEKDAY($S$1,1)-(день_начала-1))-IF((WEEKDAY($S$1,1)-(день_начала-1))<=0,7,0)+(ROW(Y6)-ROW($S$3))*7+(COLUMN(Y6)-COLUMN($S$3)+1)) -> 45893
K7: =IF(MONTH($K$1)<>MONTH($K$1-(WEEKDAY($K$1,1)-(день_начала-1))-IF((WEEKDAY($K$1,1)-(день_начала-1))<=0,7,0)+(ROW(K7)-ROW($K$3))*7+(COLUMN(K7)-COLUMN($K$3)+1)),"",$K$1-(WEEKDAY($K$1,1)-(день_начала-1))-IF((WEEKDAY($K$1,1)-(день_начала-1))<=0,7,0)+(ROW(K7)-ROW($K$3))*7+(COLUMN(K7)-COLUMN($K$3)+1)) -> 45831 | L7: =IF(MONTH($K$1)<>MONTH($K$1-(WEEKDAY($K$1,1)-(день_начала-1))-IF((WEEKDAY($K$1,1)-(день_начала-1))<=0,7,0)+(ROW(L7)-ROW($K$3))*7+(COLUMN(L7)-COLUMN($K$3)+1)),"",$K$1-(WEEKDAY($K$1,1)-(день_начала-1))-IF((WEEKDAY($K$1,1)-(день_начала-1))<=0,7,0)+(ROW(L7)-ROW($K$3))*7+(COLUMN(L7)-COLUMN($K$3)+1)) -> 45832 | M7: =IF(MONTH($K$1)<>MONTH($K$1-(WEEKDAY($K$1,1)-(день_начала-1))-IF((WEEKDAY($K$1,1)-(день_начала-1))<=0,7,0)+(ROW(M7)-ROW($K$3))*7+(COLUMN(M7)-COLUMN($K$3)+1)),"",$K$1-(WEEKDAY($K$1,1)-(день_начала-1))-IF((WEEKDAY($K$1,1)-(день_начала-1))<=0,7,0)+(ROW(M7)-ROW($K$3))*7+(COLUMN(M7)-COLUMN($K$3)+1)) -> 45833 | N7: =IF(MONTH($K$1)<>MONTH($K$1-(WEEKDAY($K$1,1)-(день_начала-1))-IF((WEEKDAY($K$1,1)-(день_начала-1))<=0,7,0)+(ROW(N7)-ROW($K$3))*7+(COLUMN(N7)-COLUMN($K$3)+1)),"",$K$1-(WEEKDAY($K$1,1)-(день_начала-1))-IF((WEEKDAY($K$1,1)-(день_начала-1))<=0,7,0)+(ROW(N7)-ROW($K$3))*7+(COLUMN(N7)-COLUMN($K$3)+1)) -> 45834 | O7: =IF(MONTH($K$1)<>MONTH($K$1-(WEEKDAY($K$1,1)-(день_начала-1))-IF((WEEKDAY($K$1,1)-(день_начала-1))<=0,7,0)+(ROW(O7)-ROW($K$3))*7+(COLUMN(O7)-COLUMN($K$3)+1)),"",$K$1-(WEEKDAY($K$1,1)-(день_начала-1))-IF((WEEKDAY($K$1,1)-(день_начала-1))<=0,7,0)+(ROW(O7)-ROW($K$3))*7+(COLUMN(O7)-COLUMN($K$3)+1)) -> 45835 | P7: =IF(MONTH($K$1)<>MONTH($K$1-(WEEKDAY($K$1,1)-(день_начала-1))-IF((WEEKDAY($K$1,1)-(день_начала-1))<=0,7,0)+(ROW(P7)-ROW($K$3))*7+(COLUMN(P7)-COLUMN($K$3)+1)),"",$K$1-(WEEKDAY($K$1,1)-(день_начала-1))-IF((WEEKDAY($K$1,1)-(день_начала-1))<=0,7,0)+(ROW(P7)-ROW($K$3))*7+(COLUMN(P7)-COLUMN($K$3)+1)) -> 45836 | Q7: =IF(MONTH($K$1)<>MONTH($K$1-(WEEKDAY($K$1,1)-(день_начала-1))-IF((WEEKDAY($K$1,1)-(день_начала-1))<=0,7,0)+(ROW(Q7)-ROW($K$3))*7+(COLUMN(Q7)-COLUMN($K$3)+1)),"",$K$1-(WEEKDAY($K$1,1)-(день_начала-1))-IF((WEEKDAY($K$1,1)-(день_начала-1))<=0,7,0)+(ROW(Q7)-ROW($K$3))*7+(COLUMN(Q7)-COLUMN($K$3)+1)) -> 45837 | S7: =IF(MONTH($S$1)<>MONTH($S$1-(WEEKDAY($S$1,1)-(день_начала-1))-IF((WEEKDAY($S$1,1)-(день_начала-1))<=0,7,0)+(ROW(S7)-ROW($S$3))*7+(COLUMN(S7)-COLUMN($S$3)+1)),"",$S$1-(WEEKDAY($S$1,1)-(день_начала-1))-IF((WEEKDAY($S$1,1)-(день_начала-1))<=0,7,0)+(ROW(S7)-ROW($S$3))*7+(COLUMN(S7)-COLUMN($S$3)+1)) -> 45894 | T7: =IF(MONTH($S$1)<>MONTH($S$1-(WEEKDAY($S$1,1)-(день_начала-1))-IF((WEEKDAY($S$1,1)-(день_начала-1))<=0,7,0)+(ROW(T7)-ROW($S$3))*7+(COLUMN(T7)-COLUMN($S$3)+1)),"",$S$1-(WEEKDAY($S$1,1)-(день_начала-1))-IF((WEEKDAY($S$1,1)-(день_начала-1))<=0,7,0)+(ROW(T7)-ROW($S$3))*7+(COLUMN(T7)-COLUMN($S$3)+1)) -> 45895 | U7: =IF(MONTH($S$1)<>MONTH($S$1-(WEEKDAY($S$1,1)-(день_начала-1))-IF((WEEKDAY($S$1,1)-(день_начала-1))<=0,7,0)+(ROW(U7)-ROW($S$3))*7+(COLUMN(U7)-COLUMN($S$3)+1)),"",$S$1-(WEEKDAY($S$1,1)-(день_начала-1))-IF((WEEKDAY($S$1,1)-(день_начала-1))<=0,7,0)+(ROW(U7)-ROW($S$3))*7+(COLUMN(U7)-COLUMN($S$3)+1)) -> 45896 | V7: =IF(MONTH($S$1)<>MONTH($S$1-(WEEKDAY($S$1,1)-(день_начала-1))-IF((WEEKDAY($S$1,1)-(день_начала-1))<=0,7,0)+(ROW(V7)-ROW($S$3))*7+(COLUMN(V7)-COLUMN($S$3)+1)),"",$S$1-(WEEKDAY($S$1,1)-(день_начала-1))-IF((WEEKDAY($S$1,1)-(день_начала-1))<=0,7,0)+(ROW(V7)-ROW($S$3))*7+(COLUMN(V7)-COLUMN($S$3)+1)) -> 45897 | W7: =IF(MONTH($S$1)<>MONTH($S$1-(WEEKDAY($S$1,1)-(день_начала-1))-IF((WEEKDAY($S$1,1)-(день_начала-1))<=0,7,0)+(ROW(W7)-ROW($S$3))*7+(COLUMN(W7)-COLUMN($S$3)+1)),"",$S$1-(WEEKDAY($S$1,1)-(день_начала-1))-IF((WEEKDAY($S$1,1)-(день_начала-1))<=0,7,0)+(ROW(W7)-ROW($S$3))*7+(COLUMN(W7)-COLUMN($S$3)+1)) -> 45898 | X7: =IF(MONTH($S$1)<>MONTH($S$1-(WEEKDAY($S$1,1)-(день_начала-1))-IF((WEEKDAY($S$1,1)-(день_начала-1))<=0,7,0)+(ROW(X7)-ROW($S$3))*7+(COLUMN(X7)-COLUMN($S$3)+1)),"",$S$1-(WEEKDAY($S$1,1)-(день_начала-1))-IF((WEEKDAY($S$1,1)-(день_начала-1))<=0,7,0)+(ROW(X7)-ROW($S$3))*7+(COLUMN(X7)-COLUMN($S$3)+1)) -> 45899 | Y7: =IF(MONTH($S$1)<>MONTH($S$1-(WEEKDAY($S$1,1)-(день_начала-1))-IF((WEEKDAY($S$1,1)-(день_начала-1))<=0,7,0)+(ROW(Y7)-ROW($S$3))*7+(COLUMN(Y7)-COLUMN($S$3)+1)),"",$S$1-(WEEKDAY($S$1,1)-(день_начала-1))-IF((WEEKDAY($S$1,1)-(день_начала-1))<=0,7,0)+(ROW(Y7)-ROW($S$3))*7+(COLUMN(Y7)-COLUMN($S$3)+1)) -> 45900
K8: =IF(MONTH($K$1)<>MONTH($K$1-(WEEKDAY($K$1,1)-(день_начала-1))-IF((WEEKDAY($K$1,1)-(день_начала-1))<=0,7,0)+(ROW(K8)-ROW($K$3))*7+(COLUMN(K8)-COLUMN($K$3)+1)),"",$K$1-(WEEKDAY($K$1,1)-(день_начала-1))-IF((WEEKDAY($K$1,1)-(день_начала-1))<=0,7,0)+(ROW(K8)-ROW($K$3))*7+(COLUMN(K8)-COLUMN($K$3)+1)) -> 45838 | L8: =IF(MONTH($K$1)<>MONTH($K$1-(WEEKDAY($K$1,1)-(день_начала-1))-IF((WEEKDAY($K$1,1)-(день_начала-1))<=0,7,0)+(ROW(L8)-ROW($K$3))*7+(COLUMN(L8)-COLUMN($K$3)+1)),"",$K$1-(WEEKDAY($K$1,1)-(день_начала-1))-IF((WEEKDAY($K$1,1)-(день_начала-1))<=0,7,0)+(ROW(L8)-ROW($K$3))*7+(COLUMN(L8)-COLUMN($K$3)+1)) | M8: =IF(MONTH($K$1)<>MONTH($K$1-(WEEKDAY($K$1,1)-(день_начала-1))-IF((WEEKDAY($K$1,1)-(день_начала-1))<=0,7,0)+(ROW(M8)-ROW($K$3))*7+(COLUMN(M8)-COLUMN($K$3)+1)),"",$K$1-(WEEKDAY($K$1,1)-(день_начала-1))-IF((WEEKDAY($K$1,1)-(день_начала-1))<=0,7,0)+(ROW(M8)-ROW($K$3))*7+(COLUMN(M8)-COLUMN($K$3)+1)) | N8: =IF(MONTH($K$1)<>MONTH($K$1-(WEEKDAY($K$1,1)-(день_начала-1))-IF((WEEKDAY($K$1,1)-(день_начала-1))<=0,7,0)+(ROW(N8)-ROW($K$3))*7+(COLUMN(N8)-COLUMN($K$3)+1)),"",$K$1-(WEEKDAY($K$1,1)-(день_начала-1))-IF((WEEKDAY($K$1,1)-(день_начала-1))<=0,7,0)+(ROW(N8)-ROW($K$3))*7+(COLUMN(N8)-COLUMN($K$3)+1)) | O8: =IF(MONTH($K$1)<>MONTH($K$1-(WEEKDAY($K$1,1)-(день_начала-1))-IF((WEEKDAY($K$1,1)-(день_начала-1))<=0,7,0)+(ROW(O8)-ROW($K$3))*7+(COLUMN(O8)-COLUMN($K$3)+1)),"",$K$1-(WEEKDAY($K$1,1)-(день_начала-1))-IF((WEEKDAY($K$1,1)-(день_начала-1))<=0,7,0)+(ROW(O8)-ROW($K$3))*7+(COLUMN(O8)-COLUMN($K$3)+1)) | P8: =IF(MONTH($K$1)<>MONTH($K$1-(WEEKDAY($K$1,1)-(день_начала-1))-IF((WEEKDAY($K$1,1)-(день_начала-1))<=0,7,0)+(ROW(P8)-ROW($K$3))*7+(COLUMN(P8)-COLUMN($K$3)+1)),"",$K$1-(WEEKDAY($K$1,1)-(день_начала-1))-IF((WEEKDAY($K$1,1)-(день_начала-1))<=0,7,0)+(ROW(P8)-ROW($K$3))*7+(COLUMN(P8)-COLUMN($K$3)+1)) | Q8: =IF(MONTH($K$1)<>MONTH($K$1-(WEEKDAY($K$1,1)-(день_начала-1))-IF((WEEKDAY($K$1,1)-(день_начала-1))<=0,7,0)+(ROW(Q8)-ROW($K$3))*7+(COLUMN(Q8)-COLUMN($K$3)+1)),"",$K$1-(WEEKDAY($K$1,1)-(день_начала-1))-IF((WEEKDAY($K$1,1)-(день_начала-1))<=0,7,0)+(ROW(Q8)-ROW($K$3))*7+(COLUMN(Q8)-COLUMN($K$3)+1)) | S8: =IF(MONTH($S$1)<>MONTH($S$1-(WEEKDAY($S$1,1)-(день_начала-1))-IF((WEEKDAY($S$1,1)-(день_начала-1))<=0,7,0)+(ROW(S8)-ROW($S$3))*7+(COLUMN(S8)-COLUMN($S$3)+1)),"",$S$1-(WEEKDAY($S$1,1)-(день_начала-1))-IF((WEEKDAY($S$1,1)-(день_начала-1))<=0,7,0)+(ROW(S8)-ROW($S$3))*7+(COLUMN(S8)-COLUMN($S$3)+1)) | T8: =IF(MONTH($S$1)<>MONTH($S$1-(WEEKDAY($S$1,1)-(день_начала-1))-IF((WEEKDAY($S$1,1)-(день_начала-1))<=0,7,0)+(ROW(T8)-ROW($S$3))*7+(COLUMN(T8)-COLUMN($S$3)+1)),"",$S$1-(WEEKDAY($S$1,1)-(день_начала-1))-IF((WEEKDAY($S$1,1)-(день_начала-1))<=0,7,0)+(ROW(T8)-ROW($S$3))*7+(COLUMN(T8)-COLUMN($S$3)+1)) | U8: =IF(MONTH($S$1)<>MONTH($S$1-(WEEKDAY($S$1,1)-(день_начала-1))-IF((WEEKDAY($S$1,1)-(день_начала-1))<=0,7,0)+(ROW(U8)-ROW($S$3))*7+(COLUMN(U8)-COLUMN($S$3)+1)),"",$S$1-(WEEKDAY($S$1,1)-(день_начала-1))-IF((WEEKDAY($S$1,1)-(день_начала-1))<=0,7,0)+(ROW(U8)-ROW($S$3))*7+(COLUMN(U8)-COLUMN($S$3)+1)) | V8: =IF(MONTH($S$1)<>MONTH($S$1-(WEEKDAY($S$1,1)-(день_начала-1))-IF((WEEKDAY($S$1,1)-(день_начала-1))<=0,7,0)+(ROW(V8)-ROW($S$3))*7+(COLUMN(V8)-COLUMN($S$3)+1)),"",$S$1-(WEEKDAY($S$1,1)-(день_начала-1))-IF((WEEKDAY($S$1,1)-(день_начала-1))<=0,7,0)+(ROW(V8)-ROW($S$3))*7+(COLUMN(V8)-COLUMN($S$3)+1)) | W8: =IF(MONTH($S$1)<>MONTH($S$1-(WEEKDAY($S$1,1)-(день_начала-1))-IF((WEEKDAY($S$1,1)-(день_начала-1))<=0,7,0)+(ROW(W8)-ROW($S$3))*7+(COLUMN(W8)-COLUMN($S$3)+1)),"",$S$1-(WEEKDAY($S$1,1)-(день_начала-1))-IF((WEEKDAY($S$1,1)-(день_начала-1))<=0,7,0)+(ROW(W8)-ROW($S$3))*7+(COLUMN(W8)-COLUMN($S$3)+1)) | X8: =IF(MONTH($S$1)<>MONTH($S$1-(WEEKDAY($S$1,1)-(день_начала-1))-IF((WEEKDAY($S$1,1)-(день_начала-1))<=0,7,0)+(ROW(X8)-ROW($S$3))*7+(COLUMN(X8)-COLUMN($S$3)+1)),"",$S$1-(WEEKDAY($S$1,1)-(день_начала-1))-IF((WEEKDAY($S$1,1)-(день_начала-1))<=0,7,0)+(ROW(X8)-ROW($S$3))*7+(COLUMN(X8)-COLUMN($S$3)+1)) | Y8: =IF(MONTH($S$1)<>MONTH($S$1-(WEEKDAY($S$1,1)-(день_начала-1))-IF((WEEKDAY($S$1,1)-(день_начала-1))<=0,7,0)+(ROW(Y8)-ROW($S$3))*7+(COLUMN(Y8)-COLUMN($S$3)+1)),"",$S$1-(WEEKDAY($S$1,1)-(день_начала-1))-IF((WEEKDAY($S$1,1)-(день_начала-1))<=0,7,0)+(ROW(Y8)-ROW($S$3))*7+(COLUMN(Y8)-COLUMN($S$3)+1))
A9: =A10 -> 45838 | C9: =C10 -> 45839 | E9: =E10 -> 45840 | G9: =G10 -> 45841 | I9: =I10 -> 45842 | K9: =K10 -> 45843 | S9: =S10 -> 45844
A10: =$A$1-(WEEKDAY($A$1,1)-(день_начала-1))-IF((WEEKDAY($A$1,1)-(день_начала-1))<=0,7,0)+1 -> 45838 | C10: =A10+1 -> 45839 | E10: =C10+1 -> 45840 | G10: =E10+1 -> 45841 | I10: =G10+1 -> 45842 | K10: =I10+1 -> 45843 | S10: =K10+1 -> 45844
A16: =S10+1 -> 45845 | C16: =A16+1 -> 45846 | E16: =C16+1 -> 45847 | G16: =E16+1 -> 45848 | I16: =G16+1 -> 45849 | K16: =I16+1 -> 45850 | S16: =K16+1 -> 45851
A22: =S16+1 -> 45852 | C22: =A22+1 -> 45853 | E22: =C22+1 -> 45854 | G22: =E22+1 -> 45855 | I22: =G22+1 -> 45856 | K22: =I22+1 -> 45857 | S22: =K22+1 -> 45858
A28: =S22+1 -> 45859 | C28: =A28+1 -> 45860 | E28: =C28+1 -> 45861 | G28: =E28+1 -> 45862 | I28: =G28+1 -> 45863 | K28: =I28+1 -> 45864 | S28: =K28+1 -> 45865
A34: =S28+1 -> 45866 | C34: =A34+1 -> 45867 | E34: =C34+1 -> 45868 | G34: =E34+1 -> 45869 | I34: =G34+1 -> 45870 | K34: =I34+1 -> 45871 | S34: =K34+1 -> 45872
A40: =S34+1 -> 45873 | C40: =A40+1 -> 45874 | E40: Примечания

Sheet 8
A1: =DATE(Настройка!D5,Настройка!D7+7,1) -> 45870 | K1: =DATE(YEAR(A1),MONTH(A1)-1,1) -> 45839 | S1: =DATE(YEAR(A1),MONTH(A1)+1,1) -> 45901
K2: =INDEX({"Вс";"Пн";"Вт";"Ср";"Чт";"Пт";"Сб"},1+MOD(день_начала+1-2,7)) -> Пн | L2: =INDEX({"Вс";"Пн";"Вт";"Ср";"Чт";"Пт";"Сб"},1+MOD(день_начала+2-2,7)) -> Вт | M2: =INDEX({"Вс";"Пн";"Вт";"Ср";"Чт";"Пт";"Сб"},1+MOD(день_начала+3-2,7)) -> Ср | N2: =INDEX({"Вс";"Пн";"Вт";"Ср";"Чт";"Пт";"Сб"},1+MOD(день_начала+4-2,7)) -> Чт | O2: =INDEX({"Вс";"Пн";"Вт";"Ср";"Чт";"Пт";"Сб"},1+MOD(день_начала+5-2,7)) -> Пт | P2: =INDEX({"Вс";"Пн";"Вт";"Ср";"Чт";"Пт";"Сб"},1+MOD(день_начала+6-2,7)) -> Сб | Q2: =INDEX({"Вс";"Пн";"Вт";"Ср";"Чт";"Пт";"Сб"},1+MOD(день_начала+7-2,7)) -> Вс | S2: =INDEX({"Вс";"Пн";"Вт";"Ср";"Чт";"Пт";"Сб"},1+MOD(день_начала+1-2,7)) -> Пн | T2: =INDEX({"Вс";"Пн";"Вт";"Ср";"Чт";"Пт";"Сб"},1+MOD(день_начала+2-2,7)) -> Вт | U2: =INDEX({"Вс";"Пн";"Вт";"Ср";"Чт";"Пт";"Сб"},1+MOD(день_начала+3-2,7)) -> Ср | V2: =INDEX({"Вс";"Пн";"Вт";"Ср";"Чт";"Пт";"Сб"},1+MOD(день_начала+4-2,7)) -> Чт | W2: =INDEX({"Вс";"Пн";"Вт";"Ср";"Чт";"Пт";"Сб"},1+MOD(день_начала+5-2,7)) -> Пт | X2: =INDEX({"Вс";"Пн";"Вт";"Ср";"Чт";"Пт";"Сб"},1+MOD(день_начала+6-2,7)) -> Сб | Y2: =INDEX({"Вс";"Пн";"Вт";"Ср";"Чт";"Пт";"Сб"},1+MOD(день_начала+7-2,7)) -> Вс
