Workbook
Name день_начала: Настройка!$D$10

Sheet 1
A1: =DATE(Настройка!D5,Настройка!D7,1) -> 45658 | K1: =DATE(YEAR(A1),MONTH(A1)-1,1) -> 45627 | S1: =DATE(YEAR(A1),MONTH(A1)+1,1) -> 45689
K2: =INDEX({"Вс";"Пн";"Вт";"Ср";"Чт";"Пт";"Сб"},1+MOD(день_начала+1-2,7)) -> Пн | L2: =INDEX({"Вс";"Пн";"Вт";"Ср";"Чт";"Пт";"Сб"},1+MOD(день_начала+2-2,7)) -> Вт | M2: =INDEX({"Вс";"Пн";"Вт";"Ср";"Чт";"Пт";"Сб"},1+MOD(день_начала+3-2,7)) -> Ср | N2: =INDEX({"Вс";"Пн";"Вт";"Ср";"Чт";"Пт";"Сб"},1+MOD(день_начала+4-2,7)) -> Чт | O2: =INDEX({"Вс";"Пн";"Вт";"Ср";"Чт";"Пт";"Сб"},1+MOD(день_начала+5-2,7)) -> Пт | P2: =INDEX({"Вс";"Пн";"Вт";"Ср";"Чт";"Пт";"Сб"},1+MOD(день_начала+6-2,7)) -> Сб | Q2: =INDEX({"Вс";"Пн";"Вт";"Ср";"Чт";"Пт";"Сб"},1+MOD(день_начала+7-2,7)) -> Вс | S2: =INDEX({"Вс";"Пн";"Вт";"Ср";"Чт";"Пт";"Сб"},1+MOD(день_начала+1-2,7)) -> Пн | T2: =INDEX({"Вс";"Пн";"Вт";"Ср";"Чт";"Пт";"Сб"},1+MOD(день_начала+2-2,7)) -> Вт | U2: =INDEX({"Вс";"Пн";"Вт";"Ср";"Чт";"Пт";"Сб"},1+MOD(день_начала+3-2,7)) -> Ср | V2: =INDEX({"Вс";"Пн";"Вт";"Ср";"Чт";"Пт";"Сб"},1+MOD(день_начала+4-2,7)) -> Чт | W2: =INDEX({"Вс";"Пн";"Вт";"Ср";"Чт";"Пт";"Сб"},1+MOD(день_начала+5-2,7)) -> Пт | X2: =INDEX({"Вс";"Пн";"Вт";"Ср";"Чт";"Пт";"Сб"},1+MOD(день_начала+6-2,7)) -> Сб | Y2: =INDEX({"Вс";"Пн";"Вт";"Ср";"Чт";"Пт";"Сб"},1+MOD(день_начала+7-2,7)) -> Вс
K3: =IF(MONTH($K$1)<>MONTH($K$1-(WEEKDAY($K$1,1)-(день_начала-1))-IF((WEEKDAY($K$1,1)-(день_начала-1))<=0,7,0)+(ROW(K3)-ROW($K$3))*7+(COLUMN(K3)-COLUMN($K$3)+1)),"",$K$1-(WEEKDAY($K$1,1)-(день_начала-1))-IF((WEEKDAY($K$1,1)-(день_начала-1))<=0,7,0)+(ROW(K3)-ROW($K$3))*7+(COLUMN(K3)-COLUMN($K$3)+1)) | L3: =IF(MONTH($K$1)<>MONTH($K$1-(WEEKDAY($K$1,1)-(день_начала-1))-IF((WEEKDAY($K$1,1)-(день_начала-1))<=0,7,0)+(ROW(L3)-ROW($K$3))*7+(COLUMN(L3)-COLUMN($K$3)+1)),"",$K$1-(WEEKDAY($K$1,1)-(день_начала-1))-IF((WEEKDAY($K$1,1)-(день_начала-1))<=0,7,0)+(ROW(L3)-ROW($K$3))*7+(COLUMN(L3)-COLUMN($K$3)+1)) | M3: =IF(MONTH($K$1)<>MONTH($K$1-(WEEKDAY($K$1,1)-(день_начала-1))-IF((WEEKDAY($K$1,1)-(день_начала-1))<=0,7,0)+(ROW(M3)-ROW($K$3))*7+(COLUMN(M3)-COLUMN($K$3)+1)),"",$K$1-(WEEKDAY($K$1,1)-(день_начала-1))-IF((WEEKDAY($K$1,1)-(день_начала-1))<=0,7,0)+(ROW(M3)-ROW($K$3))*7+(COLUMN(M3)-COLUMN($K$3)+1)) | N3: =IF(MONTH($K$1)<>MONTH($K$1-(WEEKDAY($K$1,1)-(день_начала-1))-IF((WEEKDAY($K$1,1)-(день_начала-1))<=0,7,0)+(ROW(N3)-ROW($K$3))*7+(COLUMN(N3)-COLUMN($K$3)+1)),"",$K$1-(WEEKDAY($K$1,1)-(день_начала-1))-IF((WEEKDAY($K$1,1)-(день_начала-1))<=0,7,0)+(ROW(N3)-ROW($K$3))*7+(COLUMN(N3)-COLUMN($K$3)+1)) | O3: =IF(MONTH($K$1)<>MONTH($K$1-(WEEKDAY($K$1,1)-(день_начала-1))-IF((WEEKDAY($K$1,1)-(день_начала-1))<=0,7,0)+(ROW(O3)-ROW($K$3))*7+(COLUMN(O3)-COLUMN($K$3)+1)),"",$K$1-(WEEKDAY($K$1,1)-(день_начала-1))-IF((WEEKDAY($K$1,1)-(день_начала-1))<=0,7,0)+(ROW(O3)-ROW($K$3))*7+(COLUMN(O3)-COLUMN($K$3)+1)) | P3: =IF(MONTH($K$1)<>MONTH($K$1-(WEEKDAY($K$1,1)-(день_начала-1))-IF((WEEKDAY($K$1,1)-(день_начала-1))<=0,7,0)+(ROW(P3)-ROW($K$3))*7+(COLUMN(P3)-COLUMN($K$3)+1)),"",$K$1-(WEEKDAY($K$1,1)-(день_начала-1))-IF((WEEKDAY($K$1,1)-(день_начала-1))<=0,7,0)+(ROW(P3)-ROW($K$3))*7+(COLUMN(P3)-COLUMN($K$3)+1)) | Q3: =IF(MONTH($K$1)<>MONTH($K$1-(WEEKDAY($K$1,1)-(день_начала-1))-IF((WEEKDAY($K$1,1)-(день_начала-1))<=0,7,0)+(ROW(Q3)-ROW($K$3))*7+(COLUMN(Q3)-COLUMN($K$3)+1)),"",$K$1-(WEEKDAY($K$1,1)-(день_начала-1))-IF((WEEKDAY($K$1,1)-(день_начала-1))<=0,7,0)+(ROW(Q3)-ROW($K$3))*7+(COLUMN(Q3)-COLUMN($K$3)+1)) -> 45627 | S3: =IF(MONTH($S$1)<>MONTH($S$1-(WEEKDAY($S$1,1)-(день_начала-1))-IF((WEEKDAY($S$1,1)-(день_начала-1))<=0,7,0)+(ROW(S3)-ROW($S$3))*7+(COLUMN(S3)-COLUMN($S$3)+1)),"",$S$1-(WEEKDAY($S$1,1)-(день_начала-1))-IF((WEEKDAY($S$1,1)-(день_начала-1))<=0,7,0)+(ROW(S3)-ROW($S$3))*7+(COLUMN(S3)-COLUMN($S$3)+1)) | T3: =IF(MONTH($S$1)<>MONTH($S$1-(WEEKDAY($S$1,1)-(день_начала-1))-IF((WEEKDAY($S$1,1)-(день_начала-1))<=0,7,0)+(ROW(T3)-ROW($S$3))*7+(COLUMN(T3)-COLUMN($S$3)+1)),"",$S$1-(WEEKDAY($S$1,1)-(день_начала-1))-IF((WEEKDAY($S$1,1)-(день_начала-1))<=0,7,0)+(ROW(T3)-ROW($S$3))*7+(COLUMN(T3)-COLUMN($S$3)+1)) | U3: =IF(MONTH($S$1)<>MONTH($S$1-(WEEKDAY($S$1,1)-(день_начала-1))-IF((WEEKDAY($S$1,1)-(день_начала-1))<=0,7,0)+(ROW(U3)-ROW($S$3))*7+(COLUMN(U3)-COLUMN($S$3)+1)),"",$S$1-(WEEKDAY($S$1,1)-(день_начала-1))-IF((WEEKDAY($S$1,1)-(день_начала-1))<=0,7,0)+(ROW(U3)-ROW($S$3))*7+(COLUMN(U3)-COLUMN($S$3)+1)) | V3: =IF(MONTH($S$1)<>MONTH($S$1-(WEEKDAY($S$1,1)-(день_начала-1))-IF((WEEKDAY($S$1,1)-(день_начала-1))<=0,7,0)+(ROW(V3)-ROW($S$3))*7+(COLUMN(V3)-COLUMN($S$3)+1)),"",$S$1-(WEEKDAY($S$1,1)-(день_начала-1))-IF((WEEKDAY($S$1,1)-(день_начала-1))<=0,7,0)+(ROW(V3)-ROW($S$3))*7+(COLUMN(V3)-COLUMN($S$3)+1)) | W3: =IF(MONTH($S$1)<>MONTH($S$1-(WEEKDAY($S$1,1)-(день_начала-1))-IF((WEEKDAY($S$1,1)-(день_начала-1))<=0,7,0)+(ROW(W3)-ROW($S$3))*7+(COLUMN(W3)-COLUMN($S$3)+1)),"",$S$1-(WEEKDAY($S$1,1)-(день_начала-1))-IF((WEEKDAY($S$1,1)-(день_начала-1))<=0,7,0)+(ROW(W3)-ROW($S$3))*7+(COLUMN(W3)-COLUMN($S$3)+1)) | X3: =IF(MONTH($S$1)<>MONTH($S$1-(WEEKDAY($S$1,1)-(день_начала-1))-IF((WEEKDAY($S$1,1)-(день_начала-1))<=0,7,0)+(ROW(X3)-ROW($S$3))*7+(COLUMN(X3)-COLUMN($S$3)+1)),"",$S$1-(WEEKDAY($S$1,1)-(день_начала-1))-IF((WEEKDAY($S$1,1)-(день_начала-1))<=0,7,0)+(ROW(X3)-ROW($S$3))*7+(COLUMN(X3)-COLUMN($S$3)+1)) -> 45689 | Y3: =IF(MONTH($S$1)<>MONTH($S$1-(WEEKDAY($S$1,1)-(день_начала-1))-IF((WEEKDAY($S$1,1)-(день_начала-1))<=0,7,0)+(ROW(Y3)-ROW($S$3))*7+(COLUMN(Y3)-COLUMN($S$3)+1)),"",$S$1-(WEEKDAY($S$1,1)-(день_начала-1))-IF((WEEKDAY($S$1,1)-(день_начала-1))<=0,7,0)+(ROW(Y3)-ROW($S$3))*7+(COLUMN(Y3)-COLUMN($S$3)+1)) -> 45690
K4: =IF(MONTH($K$1)<>MONTH($K$1-(WEEKDAY($K$1,1)-(день_начала-1))-IF((WEEKDAY($K$1,1)-(день_начала-1))<=0,7,0)+(ROW(K4)-ROW($K$3))*7+(COLUMN(K4)-COLUMN($K$3)+1)),"",$K$1-(WEEKDAY($K$1,1)-(день_начала-1))-IF((WEEKDAY($K$1,1)-(день_начала-1))<=0,7,0)+(ROW(K4)-ROW($K$3))*7+(COLUMN(K4)-COLUMN($K$3)+1)) -> 45628 | L4: =IF(MONTH($K$1)<>MONTH($K$1-(WEEKDAY($K$1,1)-(день_начала-1))-IF((WEEKDAY($K$1,1)-(день_начала-1))<=0,7,0)+(ROW(L4)-ROW($K$3))*7+(COLUMN(L4)-COLUMN($K$3)+1)),"",$K$1-(WEEKDAY($K$1,1)-(день_начала-1))-IF((WEEKDAY($K$1,1)-(день_начала-1))<=0,7,0)+(ROW(L4)-ROW($K$3))*7+(COLUMN(L4)-COLUMN($K$3)+1)) -> 45629 | M4: =IF(MONTH($K$1)<>MONTH($K$1-(WEEKDAY($K$1,1)-(день_начала-1))-IF((WEEKDAY($K$1,1)-(день_начала-1))<=0,7,0)+(ROW(M4)-ROW($K$3))*7+(COLUMN(M4)-COLUMN($K$3)+1)),"",$K$1-(WEEKDAY($K$1,1)-(день_начала-1))-IF((WEEKDAY($K$1,1)-(день_начала-1))<=0,7,0)+(ROW(M4)-ROW($K$3))*7+(COLUMN(M4)-COLUMN($K$3)+1)) -> 45630 | N4: =IF(MONTH($K$1)<>MONTH($K$1-(WEEKDAY($K$1,1)-(день_начала-1))-IF((WEEKDAY($K$1,1)-(день_начала-1))<=0,7,0)+(ROW(N4)-ROW($K$3))*7+(COLUMN(N4)-COLUMN($K$3)+1)),"",$K$1-(WEEKDAY($K$1,1)-(день_начала-1))-IF((WEEKDAY($K$1,1)-(день_начала-1))<=0,7,0)+(ROW(N4)-ROW($K$3))*7+(COLUMN(N4)-COLUMN($K$3)+1)) -> 45631 | O4: =IF(MONTH($K$1)<>MONTH($K$1-(WEEKDAY($K$1,1)-(день_начала-1))-IF((WEEKDAY($K$1,1)-(день_начала-1))<=0,7,0)+(ROW(O4)-ROW($K$3))*7+(COLUMN(O4)-COLUMN($K$3)+1)),"",$K$1-(WEEKDAY($K$1,1)-(день_начала-1))-IF((WEEKDAY($K$1,1)-(день_начала-1))<=0,7,0)+(ROW(O4)-ROW($K$3))*7+(COLUMN(O4)-COLUMN($K$3)+1)) -> 45632 | P4: =IF(MONTH($K$1)<>MONTH($K$1-(WEEKDAY($K$1,1)-(день_начала-1))-IF((WEEKDAY($K$1,1)-(день_начала-1))<=0,7,0)+(ROW(P4)-ROW($K$3))*7+(COLUMN(P4)-COLUMN($K$3)+1)),"",$K$1-(WEEKDAY($K$1,1)-(день_начала-1))-IF((WEEKDAY($K$1,1)-(день_начала-1))<=0,7,0)+(ROW(P4)-ROW($K$3))*7+(COLUMN(P4)-COLUMN($K$3)+1)) -> 45633 | Q4: =IF(MONTH($K$1)<>MONTH($K$1-(WEEKDAY($K$1,1)-(день_начала-1))-IF((WEEKDAY($K$1,1)-(день_начала-1))<=0,7,0)+(ROW(Q4)-ROW($K$3))*7+(COLUMN(Q4)-COLUMN($K$3)+1)),"",$K$1-(WEEKDAY($K$1,1)-(день_начала-1))-IF((WEEKDAY($K$1,1)-(день_начала-1))<=0,7,0)+(ROW(Q4)-ROW($K$3))*7+(COLUMN(Q4)-COLUMN($K$3)+1)) -> 45634 | S4: =IF(MONTH($S$1)<>MONTH($S$1-(WEEKDAY($S$1,1)-(день_начала-1))-IF((WEEKDAY($S$1,1)-(день_начала-1))<=0,7,0)+(ROW(S4)-ROW($S$3))*7+(COLUMN(S4)-COLUMN($S$3)+1)),"",$S$1-(WEEKDAY($S$1,1)-(день_начала-1))-IF((WEEKDAY($S$1,1)-(день_начала-1))<=0,7,0)+(ROW(S4)-ROW($S$3))*7+(COLUMN(S4)-COLUMN($S$3)+1)) -> 45691 | T4: =IF(MONTH($S$1)<>MONTH($S$1-(WEEKDAY($S$1,1)-(день_начала-1))-IF((WEEKDAY($S$1,1)-(день_начала-1))<=0,7,0)+(ROW(T4)-ROW($S$3))*7+(COLUMN(T4)-COLUMN($S$3)+1)),"",$S$1-(WEEKDAY($S$1,1)-(день_начала-1))-IF((WEEKDAY($S$1,1)-(день_начала-1))<=0,7,0)+(ROW(T4)-ROW($S$3))*7+(COLUMN(T4)-COLUMN($S$3)+1)) -> 45692 | U4: =IF(MONTH($S$1)<>MONTH($S$1-(WEEKDAY($S$1,1)-(день_начала-1))-IF((WEEKDAY($S$1,1)-(день_начала-1))<=0,7,0)+(ROW(U4)-ROW($S$3))*7+(COLUMN(U4)-COLUMN($S$3)+1)),"",$S$1-(WEEKDAY($S$1,1)-(день_начала-1))-IF((WEEKDAY($S$1,1)-(день_начала-1))<=0,7,0)+(ROW(U4)-ROW($S$3))*7+(COLUMN(U4)-COLUMN($S$3)+1)) -> 45693 | V4: =IF(MONTH($S$1)<>MONTH($S$1-(WEEKDAY($S$1,1)-(день_начала-1))-IF((WEEKDAY($S$1,1)-(день_начала-1))<=0,7,0)+(ROW(V4)-ROW($S$3))*7+(COLUMN(V4)-COLUMN($S$3)+1)),"",$S$1-(WEEKDAY($S$1,1)-(день_начала-1))-IF((WEEKDAY($S$1,1)-(день_начала-1))<=0,7,0)+(ROW(V4)-ROW($S$3))*7+(COLUMN(V4)-COLUMN($S$3)+1)) -> 45694 | W4: =IF(MONTH($S$1)<>MONTH($S$1-(WEEKDAY($S$1,1)-(день_начала-1))-IF((WEEKDAY($S$1,1)-(день_начала-1))<=0,7,0)+(ROW(W4)-ROW($S$3))*7+(COLUMN(W4)-COLUMN($S$3)+1)),"",$S$1-(WEEKDAY($S$1,1)-(день_начала-1))-IF((WEEKDAY($S$1,1)-(день_начала-1))<=0,7,0)+(ROW(W4)-ROW($S$3))*7+(COLUMN(W4)-COLUMN($S$3)+1)) -> 45695 | X4: =IF(MONTH($S$1)<>MONTH($S$1-(WEEKDAY($S$1,1)-(день_начала-1))-IF((WEEKDAY($S$1,1)-(день_начала-1))<=0,7,0)+(ROW(X4)-ROW($S$3))*7+(COLUMN(X4)-COLUMN($S$3)+1)),"",$S$1-(WEEKDAY($S$1,1)-(день_начала-1))-IF((WEEKDAY($S$1,1)-(день_начала-1))<=0,7,0)+(ROW(X4)-ROW($S$3))*7+(COLUMN(X4)-COLUMN($S$3)+1)) -> 45696 | Y4: =IF(MONTH($S$1)<>MONTH($S$1-(WEEKDAY($S$1,1)-(день_начала-1))-IF((WEEKDAY($S$1,1)-(день_начала-1))<=0,7,0)+(ROW(Y4)-ROW($S$3))*7+(COLUMN(Y4)-COLUMN($S$3)+1)),"",$S$1-(WEEKDAY($S$1,1)-(день_начала-1))-IF((WEEKDAY($S$1,1)-(день_начала-1))<=0,7,0)+(ROW(Y4)-ROW($S$3))*7+(COLUMN(Y4)-COLUMN($S$3)+1)) -> 45697
K5: =IF(MONTH($K$1)<>MONTH($K$1-(WEEKDAY($K$1,1)-(день_начала-1))-IF((WEEKDAY($K$1,1)-(день_начала-1))<=0,7,0)+(ROW(K5)-ROW($K$3))*7+(COLUMN(K5)-COLUMN($K$3)+1)),"",$K$1-(WEEKDAY($K$1,1)-(день_начала-1))-IF((WEEKDAY($K$1,1)-(день_начала-1))<=0,7,0)+(ROW(K5)-ROW($K$3))*7+(COLUMN(K5)-COLUMN($K$3)+1)) -> 45635 | L5: =IF(MONTH($K$1)<>MONTH($K$1-(WEEKDAY($K$1,1)-(день_начала-1))-IF((WEEKDAY($K$1,1)-(день_начала-1))<=0,7,0)+(ROW(L5)-ROW($K$3))*7+(COLUMN(L5)-COLUMN($K$3)+1)),"",$K$1-(WEEKDAY($K$1,1)-(день_начала-1))-IF((WEEKDAY($K$1,1)-(день_начала-1))<=0,7,0)+(ROW(L5)-ROW($K$3))*7+(COLUMN(L5)-COLUMN($K$3)+1)) -> 45636 | M5: =IF(MONTH($K$1)<>MONTH($K$1-(WEEKDAY($K$1,1)-(день_начала-1))-IF((WEEKDAY($K$1,1)-(день_начала-1))<=0,7,0)+(ROW(M5)-ROW($K$3))*7+(COLUMN(M5)-COLUMN($K$3)+1)),"",$K$1-(WEEKDAY($K$1,1)-(день_начала-1))-IF((WEEKDAY($K$1,1)-(день_начала-1))<=0,7,0)+(ROW(M5)-ROW($K$3))*7+(COLUMN(M5)-COLUMN($K$3)+1)) -> 45637 | N5: =IF(MONTH($K$1)<>MONTH($K$1-(WEEKDAY($K$1,1)-(день_начала-1))-IF((WEEKDAY($K$1,1)-(день_начала-1))<=0,7,0)+(ROW(N5)-ROW($K$3))*7+(COLUMN(N5)-COLUMN($K$3)+1)),"",$K$1-(WEEKDAY($K$1,1)-(день_начала-1))-IF((WEEKDAY($K$1,1)-(день_начала-1))<=0,7,0)+(ROW(N5)-ROW($K$3))*7+(COLUMN(N5)-COLUMN($K$3)+1)) -> 45638 | O5: =IF(MONTH($K$1)<>MONTH($K$1-(WEEKDAY($K$1,1)-(день_начала-1))-IF((WEEKDAY($K$1,1)-(день_начала-1))<=0,7,0)+(ROW(O5)-ROW($K$3))*7+(COLUMN(O5)-COLUMN($K$3)+1)),"",$K$1-(WEEKDAY($K$1,1)-(день_начала-1))-IF((WEEKDAY($K$1,1)-(день_начала-1))<=0,7,0)+(ROW(O5)-ROW($K$3))*7+(COLUMN(O5)-COLUMN($K$3)+1)) -> 45639 | P5: =IF(MONTH($K$1)<>MONTH($K$1-(WEEKDAY($K$1,1)-(день_начала-1))-IF((WEEKDAY($K$1,1)-(день_начала-1))<=0,7,0)+(ROW(P5)-ROW($K$3))*7+(COLUMN(P5)-COLUMN($K$3)+1)),"",$K$1-(WEEKDAY($K$1,1)-(день_начала-1))-IF((WEEKDAY($K$1,1)-(день_начала-1))<=0,7,0)+(ROW(P5)-ROW($K$3))*7+(COLUMN(P5)-COLUMN($K$3)+1)) -> 45640 | Q5: =IF(MONTH($K$1)<>MONTH($K$1-(WEEKDAY($K$1,1)-(день_начала-1))-IF((WEEKDAY($K$1,1)-(день_начала-1))<=0,7,0)+(ROW(Q5)-ROW($K$3))*7+(COLUMN(Q5)-COLUMN($K$3)+1)),"",$K$1-(WEEKDAY($K$1,1)-(день_начала-1))-IF((WEEKDAY($K$1,1)-(день_начала-1))<=0,7,0)+(ROW(Q5)-ROW($K$3))*7+(COLUMN(Q5)-COLUMN($K$3)+1)) -> 45641 | S5: =IF(MONTH($S$1)<>MONTH($S$1-(WEEKDAY($S$1,1)-(день_начала-1))-IF((WEEKDAY($S$1,1)-(день_начала-1))<=0,7,0)+(ROW(S5)-ROW($S$3))*7+(COLUMN(S5)-COLUMN($S$3)+1)),"",$S$1-(WEEKDAY($S$1,1)-(день_начала-1))-IF((WEEKDAY($S$1,1)-(день_начала-1))<=0,7,0)+(ROW(S5)-ROW($S$3))*7+(COLUMN(S5)-COLUMN($S$3)+1)) -> 45698 | T5: =IF(MONTH($S$1)<>MONTH($S$1-(WEEKDAY($S$1,1)-(день_начала-1))-IF((WEEKDAY($S$1,1)-(день_начала-1))<=0,7,0)+(ROW(T5)-ROW($S$3))*7+(COLUMN(T5)-COLUMN($S$3)+1)),"",$S$1-(WEEKDAY($S$1,1)-(день_начала-1))-IF((WEEKDAY($S$1,1)-(день_начала-1))<=0,7,0)+(ROW(T5)-ROW($S$3))*7+(COLUMN(T5)-COLUMN($S$3)+1)) -> 45699 | U5: =IF(MONTH($S$1)<>MONTH($S$1-(WEEKDAY($S$1,1)-(день_начала-1))-IF((WEEKDAY($S$1,1)-(день_начала-1))<=0,7,0)+(ROW(U5)-ROW($S$3))*7+(COLUMN(U5)-COLUMN($S$3)+1)),"",$S$1-(WEEKDAY($S$1,1)-(день_начала-1))-IF((WEEKDAY($S$1,1)-(день_начала-1))<=0,7,0)+(ROW(U5)-ROW($S$3))*7+(COLUMN(U5)-COLUMN($S$3)+1)) -> 45700 | V5: =IF(MONTH($S$1)<>MONTH($S$1-(WEEKDAY($S$1,1)-(день_начала-1))-IF((WEEKDAY($S$1,1)-(день_начала-1))<=0,7,0)+(ROW(V5)-ROW($S$3))*7+(COLUMN(V5)-COLUMN($S$3)+1)),"",$S$1-(WEEKDAY($S$1,1)-(день_начала-1))-IF((WEEKDAY($S$1,1)-(день_начала-1))<=0,7,0)+(ROW(V5)-ROW($S$3))*7+(COLUMN(V5)-COLUMN($S$3)+1)) -> 45701 | W5: =IF(MONTH($S$1)<>MONTH($S$1-(WEEKDAY($S$1,1)-(день_начала-1))-IF((WEEKDAY($S$1,1)-(день_начала-1))<=0,7,0)+(ROW(W5)-ROW($S$3))*7+(COLUMN(W5)-COLUMN($S$3)+1)),"",$S$1-(WEEKDAY($S$1,1)-(день_начала-1))-IF((WEEKDAY($S$1,1)-(день_начала-1))<=0,7,0)+(ROW(W5)-ROW($S$3))*7+(COLUMN(W5)-COLUMN($S$3)+1)) -> 45702 | X5: =IF(MONTH($S$1)<>MONTH($S$1-(WEEKDAY($S$1,1)-(день_начала-1))-IF((WEEKDAY($S$1,1)-(день_начала-1))<=0,7,0)+(ROW(X5)-ROW($S$3))*7+(COLUMN(X5)-COLUMN($S$3)+1)),"",$S$1-(WEEKDAY($S$1,1)-(день_начала-1))-IF((WEEKDAY($S$1,1)-(день_начала-1))<=0,7,0)+(ROW(X5)-ROW($S$3))*7+(COLUMN(X5)-COLUMN($S$3)+1)) -> 45703 | Y5: =IF(MONTH($S$1)<>MONTH($S$1-(WEEKDAY($S$1,1)-(день_начала-1))-IF((WEEKDAY($S$1,1)-(день_начала-1))<=0,7,0)+(ROW(Y5)-ROW($S$3))*7+(COLUMN(Y5)-COLUMN($S$3)+1)),"",$S$1-(WEEKDAY($S$1,1)-(день_начала-1))-IF((WEEKDAY($S$1,1)-(день_начала-1))<=0,7,0)+(ROW(Y5)-ROW($S$3))*7+(COLUMN(Y5)-COLUMN($S$3)+1)) -> 45704
K6: =IF(MONTH($K$1)<>MONTH($K$1-(WEEKDAY($K$1,1)-(день_начала-1))-IF((WEEKDAY($K$1,1)-(день_начала-1))<=0,7,0)+(ROW(K6)-ROW($K$3))*7+(COLUMN(K6)-COLUMN($K$3)+1)),"",$K$1-(WEEKDAY($K$1,1)-(день_начала-1))-IF((WEEKDAY($K$1,1)-(день_начала-1))<=0,7,0)+(ROW(K6)-ROW($K$3))*7+(COLUMN(K6)-COLUMN($K$3)+1)) -> 45642 | L6: =IF(MONTH($K$1)<>MONTH($K$1-(WEEKDAY($K$1,1)-(день_начала-1))-IF((WEEKDAY($K$1,1)-(день_начала-1))<=0,7,0)+(ROW(L6)-ROW($K$3))*7+(COLUMN(L6)-COLUMN($K$3)+1)),"",$K$1-(WEEKDAY($K$1,1)-(день_начала-1))-IF((WEEKDAY($K$1,1)-(день_начала-1))<=0,7,0)+(ROW(L6)-ROW($K$3))*7+(COLUMN(L6)-COLUMN($K$3)+1)) -> 45643 | M6: =IF(MONTH($K$1)<>MONTH($K$1-(WEEKDAY($K$1,1)-(день_начала-1))-IF((WEEKDAY($K$1,1)-(день_начала-1))<=0,7,0)+(ROW(M6)-ROW($K$3))*7+(COLUMN(M6)-COLUMN($K$3)+1)),"",$K$1-(WEEKDAY($K$1,1)-(день_начала-1))-IF((WEEKDAY($K$1,1)-(день_начала-1))<=0,7,0)+(ROW(M6)-ROW($K$3))*7+(COLUMN(M6)-COLUMN($K$3)+1)) -> 45644 | N6: =IF(MONTH($K$1)<>MONTH($K$1-(WEEKDAY($K$1,1)-(день_начала-1))-IF((WEEKDAY($K$1,1)-(день_начала-1))<=0,7,0)+(ROW(N6)-ROW($K$3))*7+(COLUMN(N6)-COLUMN($K$3)+1)),"",$K$1-(WEEKDAY($K$1,1)-(день_начала-1))-IF((WEEKDAY($K$1,1)-(день_начала-1))<=0,7,0)+(ROW(N6)-ROW($K$3))*7+(COLUMN(N6)-COLUMN($K$3)+1)) -> 45645 | O6: =IF(MONTH($K$1)<>MONTH($K$1-(WEEKDAY($K$1,1)-(день_начала-1))-IF((WEEKDAY($K$1,1)-(день_начала-1))<=0,7,0)+(ROW(O6)-ROW($K$3))*7+(COLUMN(O6)-COLUMN($K$3)+1)),"",$K$1-(WEEKDAY($K$1,1)-(день_начала-1))-IF((WEEKDAY($K$1,1)-(день_начала-1))<=0,7,0)+(ROW(O6)-ROW($K$3))*7+(COLUMN(O6)-COLUMN($K$3)+1)) -> 45646 | P6: =IF(MONTH($K$1)<>MONTH($K$1-(WEEKDAY($K$1,1)-(день_начала-1))-IF((WEEKDAY($K$1,1)-(день_начала-1))<=0,7,0)+(ROW(P6)-ROW($K$3))*7+(COLUMN(P6)-COLUMN($K$3)+1)),"",$K$1-(WEEKDAY($K$1,1)-(день_начала-1))-IF((WEEKDAY($K$1,1)-(день_начала-1))<=0,7,0)+(ROW(P6)-ROW($K$3))*7+(COLUMN(P6)-COLUMN($K$3)+1)) -> 45647 | Q6: =IF(MONTH($K$1)<>MONTH($K$1-(WEEKDAY($K$1,1)-(день_начала-1))-IF((WEEKDAY($K$1,1)-(день_начала-1))<=0,7,0)+(ROW(Q6)-ROW($K$3))*7+(COLUMN(Q6)-COLUMN($K$3)+1)),"",$K$1-(WEEKDAY($K$1,1)-(день_начала-1))-IF((WEEKDAY($K$1,1)-(день_начала-1))<=0,7,0)+(ROW(Q6)-ROW($K$3))*7+(COLUMN(Q6)-COLUMN($K$3)+1)) -> 45648 | S6: =IF(MONTH($S$1)<>MONTH($S$1-(WEEKDAY($S$1,1)-(день_начала-1))-IF((WEEKDAY($S$1,1)-(день_начала-1))<=0,7,0)+(ROW(S6)-ROW($S$3))*7+(COLUMN(S6)-COLUMN($S$3)+1)),"",$S$1-(WEEKDAY($S$1,1)-(день_начала-1))-IF((WEEKDAY($S$1,1)-(день_начала-1))<=0,7,0)+(ROW(S6)-ROW($S$3))*7+(COLUMN(S6)-COLUMN($S$3)+1)) -> 45705 | T6: =IF(MONTH($S$1)<>MONTH($S$1-(WEEKDAY($S$1,1)-(день_начала-1))-IF((WEEKDAY($S$1,1)-(день_начала-1))<=0,7,0)+(ROW(T6)-ROW($S$3))*7+(COLUMN(T6)-COLUMN($S$3)+1)),"",$S$1-(WEEKDAY($S$1,1)-(день_начала-1))-IF((WEEKDAY($S$1,1)-(день_начала-1))<=0,7,0)+(ROW(T6)-ROW($S$3))*7+(COLUMN(T6)-COLUMN($S$3)+1)) -> 45706 | U6: =IF(MONTH($S$1)<>MONTH($S$1-(WEEKDAY($S$1,1)-(день_начала-1))-IF((WEEKDAY($S$1,1)-(день_начала-1))<=0,7,0)+(ROW(U6)-ROW($S$3))*7+(COLUMN(U6)-COLUMN($S$3)+1)),"",$S$1-(WEEKDAY($S$1,1)-(день_начала-1))-IF((WEEKDAY($S$1,1)-(день_начала-1))<=0,7,0)+(ROW(U6)-ROW($S$3))*7+(COLUMN(U6)-COLUMN($S$3)+1)) -> 45707 | V6: =IF(MONTH($S$1)<>MONTH($S$1-(WEEKDAY($S$1,1)-(день_начала-1))-IF((WEEKDAY($S$1,1)-(день_начала-1))<=0,7,0)+(ROW(V6)-ROW($S$3))*7+(COLUMN(V6)-COLUMN($S$3)+1)),"",$S$1-(WEEKDAY($S$1,1)-(день_начала-1))-IF((WEEKDAY($S$1,1)-(день_начала-1))<=0,7,0)+(ROW(V6)-ROW($S$3))*7+(COLUMN(V6)-COLUMN($S$3)+1)) -> 45708 | W6: =IF(MONTH($S$1)<>MONTH($S$1-(WEEKDAY($S$1,1)-(день_начала-1))-IF((WEEKDAY($S$1,1)-(день_начала-1))<=0,7,0)+(ROW(W6)-ROW($S$3))*7+(COLUMN(W6)-COLUMN($S$3)+1)),"",$S$1-(WEEKDAY($S$1,1)-(день_начала-1))-IF((WEEKDAY($S$1,1)-(день_начала-1))<=0,7,0)+(ROW(W6)-ROW($S$3))*7+(COLUMN(W6)-COLUMN($S$3)+1)) -> 45709 | X6: =IF(MONTH($S$1)<>MONTH($S$1-(WEEKDAY($S$1,1)-(день_начала-1))-IF((WEEKDAY($S$1,1)-(день_начала-1))<=0,7,0)+(ROW(X6)-ROW($S$3))*7+(COLUMN(X6)-COLUMN($S$3)+1)),"",$S$1-(WEEKDAY($S$1,1)-(день_начала-1))-IF((WEEKDAY($S$1,1)-(день_начала-1))<=0,7,0)+(ROW(X6)-ROW($S$3))*7+(COLUMN(X6)-COLUMN($S$3)+1)) -> 45710 | Y6: =IF(MONTH($S$1)<>MONTH($S$1-(WEEKDAY($S$1,1)-(день_начала-1))-IF((WEEKDAY($S$1,1)-(день_начала-1))<=0,7,0)+(ROW(Y6)-ROW($S$3))*7+(COLUMN(Y6)-COLUMN($S$3)+1)),"",$S$1-(WEEKDAY($S$1,1)-(день_начала-1))-IF((WEEKDAY($S$1,1)-(день_начала-1))<=0,7,0)+(ROW(Y6)-ROW($S$3))*7+(COLUMN(Y6)-COLUMN($S$3)+1)) -> 45711
K7: =IF(MONTH($K$1)<>MONTH($K$1-(WEEKDAY($K$1,1)-(день_начала-1))-IF((WEEKDAY($K$1,1)-(день_начала-1))<=0,7,0)+(ROW(K7)-ROW($K$3))*7+(COLUMN(K7)-COLUMN($K$3)+1)),"",$K$1-(WEEKDAY($K$1,1)-(день_начала-1))-IF((WEEKDAY($K$1,1)-(день_начала-1))<=0,7,0)+(ROW(K7)-ROW($K$3))*7+(COLUMN(K7)-COLUMN($K$3)+1)) -> 45649 | L7: =IF(MONTH($K$1)<>MONTH($K$1-(WEEKDAY($K$1,1)-(день_начала-1))-IF((WEEKDAY($K$1,1)-(день_начала-1))<=0,7,0)+(ROW(L7)-ROW($K$3))*7+(COLUMN(L7)-COLUMN($K$3)+1)),"",$K$1-(WEEKDAY($K$1,1)-(день_начала-1))-IF((WEEKDAY($K$1,1)-(день_начала-1))<=0,7,0)+(ROW(L7)-ROW($K$3))*7+(COLUMN(L7)-COLUMN($K$3)+1)) -> 45650 | M7: =IF(MONTH($K$1)<>MONTH($K$1-(WEEKDAY($K$1,1)-(день_начала-1))-IF((WEEKDAY($K$1,1)-(день_начала-1))<=0,7,0)+(ROW(M7)-ROW($K$3))*7+(COLUMN(M7)-COLUMN($K$3)+1)),"",$K$1-(WEEKDAY($K$1,1)-(день_начала-1))-IF((WEEKDAY($K$1,1)-(день_начала-1))<=0,7,0)+(ROW(M7)-ROW($K$3))*7+(COLUMN(M7)-COLUMN($K$3)+1)) -> 45651 | N7: =IF(MONTH($K$1)<>MONTH($K$1-(WEEKDAY($K$1,1)-(день_начала-1))-IF((WEEKDAY($K$1,1)-(день_начала-1))<=0,7,0)+(ROW(N7)-ROW($K$3))*7+(COLUMN(N7)-COLUMN($K$3)+1)),"",$K$1-(WEEKDAY($K$1,1)-(день_начала-1))-IF((WEEKDAY($K$1,1)-(день_начала-1))<=0,7,0)+(ROW(N7)-ROW($K$3))*7+(COLUMN(N7)-COLUMN($K$3)+1)) -> 45652 | O7: =IF(MONTH($K$1)<>MONTH($K$1-(WEEKDAY($K$1,1)-(день_начала-1))-IF((WEEKDAY($K$1,1)-(день_начала-1))<=0,7,0)+(ROW(O7)-ROW($K$3))*7+(COLUMN(O7)-COLUMN($K$3)+1)),"",$K$1-(WEEKDAY($K$1,1)-(день_начала-1))-IF((WEEKDAY($K$1,1)-(день_начала-1))<=0,7,0)+(ROW(O7)-ROW($K$3))*7+(COLUMN(O7)-COLUMN($K$3)+1)) -> 45653 | P7: =IF(MONTH($K$1)<>MONTH($K$1-(WEEKDAY($K$1,1)-(день_начала-1))-IF((WEEKDAY($K$1,1)-(день_начала-1))<=0,7,0)+(ROW(P7)-ROW($K$3))*7+(COLUMN(P7)-COLUMN($K$3)+1)),"",$K$1-(WEEKDAY($K$1,1)-(день_начала-1))-IF((WEEKDAY($K$1,1)-(день_начала-1))<=0,7,0)+(ROW(P7)-ROW($K$3))*7+(COLUMN(P7)-COLUMN($K$3)+1)) -> 45654 | Q7: =IF(MONTH($K$1)<>MONTH($K$1-(WEEKDAY($K$1,1)-(день_начала-1))-IF((WEEKDAY($K$1,1)-(день_начала-1))<=0,7,0)+(ROW(Q7)-ROW($K$3))*7+(COLUMN(Q7)-COLUMN($K$3)+1)),"",$K$1-(WEEKDAY($K$1,1)-(день_начала-1))-IF((WEEKDAY($K$1,1)-(день_начала-1))<=0,7,0)+(ROW(Q7)-ROW($K$3))*7+(COLUMN(Q7)-COLUMN($K$3)+1)) -> 45655 | S7: =IF(MONTH($S$1)<>MONTH($S$1-(WEEKDAY($S$1,1)-(день_начала-1))-IF((WEEKDAY($S$1,1)-(день_начала-1))<=0,7,0)+(ROW(S7)-ROW($S$3))*7+(COLUMN(S7)-COLUMN($S$3)+1)),"",$S$1-(WEEKDAY($S$1,1)-(день_начала-1))-IF((WEEKDAY($S$1,1)-(день_начала-1))<=0,7,0)+(ROW(S7)-ROW($S$3))*7+(COLUMN(S7)-COLUMN($S$3)+1)) -> 45712 | T7: =IF(MONTH($S$1)<>MONTH($S$1-(WEEKDAY($S$1,1)-(день_начала-1))-IF((WEEKDAY($S$1,1)-(день_начала-1))<=0,7,0)+(ROW(T7)-ROW($S$3))*7+(COLUMN(T7)-COLUMN($S$3)+1)),"",$S$1-(WEEKDAY($S$1,1)-(день_начала-1))-IF((WEEKDAY($S$1,1)-(день_начала-1))<=0,7,0)+(ROW(T7)-ROW($S$3))*7+(COLUMN(T7)-COLUMN($S$3)+1)) -> 45713 | U7: =IF(MONTH($S$1)<>MONTH($S$1-(WEEKDAY($S$1,1)-(день_начала-1))-IF((WEEKDAY($S$1,1)-(день_начала-1))<=0,7,0)+(ROW(U7)-ROW($S$3))*7+(COLUMN(U7)-COLUMN($S$3)+1)),"",$S$1-(WEEKDAY($S$1,1)-(день_начала-1))-IF((WEEKDAY($S$1,1)-(день_начала-1))<=0,7,0)+(ROW(U7)-ROW($S$3))*7+(COLUMN(U7)-COLUMN($S$3)+1)) -> 45714 | V7: =IF(MONTH($S$1)<>MONTH($S$1-(WEEKDAY($S$1,1)-(день_начала-1))-IF((WEEKDAY($S$1,1)-(день_начала-1))<=0,7,0)+(ROW(V7)-ROW($S$3))*7+(COLUMN(V7)-COLUMN($S$3)+1)),"",$S$1-(WEEKDAY($S$1,1)-(день_начала-1))-IF((WEEKDAY($S$1,1)-(день_начала-1))<=0,7,0)+(ROW(V7)-ROW($S$3))*7+(COLUMN(V7)-COLUMN($S$3)+1)) -> 45715 | W7: =IF(MONTH($S$1)<>MONTH($S$1-(WEEKDAY($S$1,1)-(день_начала-1))-IF((WEEKDAY($S$1,1)-(день_начала-1))<=0,7,0)+(ROW(W7)-ROW($S$3))*7+(COLUMN(W7)-COLUMN($S$3)+1)),"",$S$1-(WEEKDAY($S$1,1)-(день_начала-1))-IF((WEEKDAY($S$1,1)-(день_начала-1))<=0,7,0)+(ROW(W7)-ROW($S$3))*7+(COLUMN(W7)-COLUMN($S$3)+1)) -> 45716 | X7: =IF(MONTH($S$1)<>MONTH($S$1-(WEEKDAY($S$1,1)-(день_начала-1))-IF((WEEKDAY($S$1,1)-(день_начала-1))<=0,7,0)+(ROW(X7)-ROW($S$3))*7+(COLUMN(X7)-COLUMN($S$3)+1)),"",$S$1-(WEEKDAY($S$1,1)-(день_начала-1))-IF((WEEKDAY($S$1,1)-(день_начала-1))<=0,7,0)+(ROW(X7)-ROW($S$3))*7+(COLUMN(X7)-COLUMN($S$3)+1)) | Y7: =IF(MONTH($S$1)<>MONTH($S$1-(WEEKDAY($S$1,1)-(день_начала-1))-IF((WEEKDAY($S$1,1)-(день_начала-1))<=0,7,0)+(ROW(Y7)-ROW($S$3))*7+(COLUMN(Y7)-COLUMN($S$3)+1)),"",$S$1-(WEEKDAY($S$1,1)-(день_начала-1))-IF((WEEKDAY($S$1,1)-(день_начала-1))<=0,7,0)+(ROW(Y7)-ROW($S$3))*7+(COLUMN(Y7)-COLUMN($S$3)+1))
K8: =IF(MONTH($K$1)<>MONTH($K$1-(WEEKDAY($K$1,1)-(день_начала-1))-IF((WEEKDAY($K$1,1)-(день_начала-1))<=0,7,0)+(ROW(K8)-ROW($K$3))*7+(COLUMN(K8)-COLUMN($K$3)+1)),"",$K$1-(WEEKDAY($K$1,1)-(день_начала-1))-IF((WEEKDAY($K$1,1)-(день_начала-1))<=0,7,0)+(ROW(K8)-ROW($K$3))*7+(COLUMN(K8)-COLUMN($K$3)+1)) -> 45656 | L8: =IF(MONTH($K$1)<>MONTH($K$1-(WEEKDAY($K$1,1)-(день_начала-1))-IF((WEEKDAY($K$1,1)-(день_начала-1))<=0,7,0)+(ROW(L8)-ROW($K$3))*7+(COLUMN(L8)-COLUMN($K$3)+1)),"",$K$1-(WEEKDAY($K$1,1)-(день_начала-1))-IF((WEEKDAY($K$1,1)-(день_начала-1))<=0,7,0)+(ROW(L8)-ROW($K$3))*7+(COLUMN(L8)-COLUMN($K$3)+1)) -> 45657 | M8: =IF(MONTH($K$1)<>MONTH($K$1-(WEEKDAY($K$1,1)-(день_начала-1))-IF((WEEKDAY($K$1,1)-(день_начала-1))<=0,7,0)+(ROW(M8)-ROW($K$3))*7+(COLUMN(M8)-COLUMN($K$3)+1)),"",$K$1-(WEEKDAY($K$1,1)-(день_начала-1))-IF((WEEKDAY($K$1,1)-(день_начала-1))<=0,7,0)+(ROW(M8)-ROW($K$3))*7+(COLUMN(M8)-COLUMN($K$3)+1)) | N8: =IF(MONTH($K$1)<>MONTH($K$1-(WEEKDAY($K$1,1)-(день_начала-1))-IF((WEEKDAY($K$1,1)-(день_начала-1))<=0,7,0)+(ROW(N8)-ROW($K$3))*7+(COLUMN(N8)-COLUMN($K$3)+1)),"",$K$1-(WEEKDAY($K$1,1)-(день_начала-1))-IF((WEEKDAY($K$1,1)-(день_начала-1))<=0,7,0)+(ROW(N8)-ROW($K$3))*7+(COLUMN(N8)-COLUMN($K$3)+1)) | O8: =IF(MONTH($K$1)<>MONTH($K$1-(WEEKDAY($K$1,1)-(день_начала-1))-IF((WEEKDAY($K$1,1)-(день_начала-1))<=0,7,0)+(ROW(O8)-ROW($K$3))*7+(COLUMN(O8)-COLUMN($K$3)+1)),"",$K$1-(WEEKDAY($K$1,1)-(день_начала-1))-IF((WEEKDAY($K$1,1)-(день_начала-1))<=0,7,0)+(ROW(O8)-ROW($K$3))*7+(COLUMN(O8)-COLUMN($K$3)+1)) | P8: =IF(MONTH($K$1)<>MONTH($K$1-(WEEKDAY($K$1,1)-(день_начала-1))-IF((WEEKDAY($K$1,1)-(день_начала-1))<=0,7,0)+(ROW(P8)-ROW($K$3))*7+(COLUMN(P8)-COLUMN($K$3)+1)),"",$K$1-(WEEKDAY($K$1,1)-(день_начала-1))-IF((WEEKDAY($K$1,1)-(день_начала-1))<=0,7,0)+(ROW(P8)-ROW($K$3))*7+(COLUMN(P8)-COLUMN($K$3)+1)) | Q8: =IF(MONTH($K$1)<>MONTH($K$1-(WEEKDAY($K$1,1)-(день_начала-1))-IF((WEEKDAY($K$1,1)-(день_начала-1))<=0,7,0)+(ROW(Q8)-ROW($K$3))*7+(COLUMN(Q8)-COLUMN($K$3)+1)),"",$K$1-(WEEKDAY($K$1,1)-(день_начала-1))-IF((WEEKDAY($K$1,1)-(день_начала-1))<=0,7,0)+(ROW(Q8)-ROW($K$3))*7+(COLUMN(Q8)-COLUMN($K$3)+1)) | S8: =IF(MONTH($S$1)<>MONTH($S$1-(WEEKDAY($S$1,1)-(день_начала-1))-IF((WEEKDAY($S$1,1)-(день_начала-1))<=0,7,0)+(ROW(S8)-ROW($S$3))*7+(COLUMN(S8)-COLUMN($S$3)+1)),"",$S$1-(WEEKDAY($S$1,1)-(день_начала-1))-IF((WEEKDAY($S$1,1)-(день_начала-1))<=0,7,0)+(ROW(S8)-ROW($S$3))*7+(COLUMN(S8)-COLUMN($S$3)+1)) | T8: =IF(MONTH($S$1)<>MONTH($S$1-(WEEKDAY($S$1,1)-(день_начала-1))-IF((WEEKDAY($S$1,1)-(день_начала-1))<=0,7,0)+(ROW(T8)-ROW($S$3))*7+(COLUMN(T8)-COLUMN($S$3)+1)),"",$S$1-(WEEKDAY($S$1,1)-(день_начала-1))-IF((WEEKDAY($S$1,1)-(день_начала-1))<=0,7,0)+(ROW(T8)-ROW($S$3))*7+(COLUMN(T8)-COLUMN($S$3)+1)) | U8: =IF(MONTH($S$1)<>MONTH($S$1-(WEEKDAY($S$1,1)-(день_начала-1))-IF((WEEKDAY($S$1,1)-(день_начала-1))<=0,7,0)+(ROW(U8)-ROW($S$3))*7+(COLUMN(U8)-COLUMN($S$3)+1)),"",$S$1-(WEEKDAY($S$1,1)-(день_начала-1))-IF((WEEKDAY($S$1,1)-(день_начала-1))<=0,7,0)+(ROW(U8)-ROW($S$3))*7+(COLUMN(U8)-COLUMN($S$3)+1)) | V8: =IF(MONTH($S$1)<>MONTH($S$1-(WEEKDAY($S$1,1)-(день_начала-1))-IF((WEEKDAY($S$1,1)-(день_начала-1))<=0,7,0)+(ROW(V8)-ROW($S$3))*7+(COLUMN(V8)-COLUMN($S$3)+1)),"",$S$1-(WEEKDAY($S$1,1)-(день_начала-1))-IF((WEEKDAY($S$1,1)-(день_начала-1))<=0,7,0)+(ROW(V8)-ROW($S$3))*7+(COLUMN(V8)-COLUMN($S$3)+1)) | W8: =IF(MONTH($S$1)<>MONTH($S$1-(WEEKDAY($S$1,1)-(день_начала-1))-IF((WEEKDAY($S$1,1)-(день_начала-1))<=0,7,0)+(ROW(W8)-ROW($S$3))*7+(COLUMN(W8)-COLUMN($S$3)+1)),"",$S$1-(WEEKDAY($S$1,1)-(день_начала-1))-IF((WEEKDAY($S$1,1)-(день_начала-1))<=0,7,0)+(ROW(W8)-ROW($S$3))*7+(COLUMN(W8)-COLUMN($S$3)+1)) | X8: =IF(MONTH($S$1)<>MONTH($S$1-(WEEKDAY($S$1,1)-(день_начала-1))-IF((WEEKDAY($S$1,1)-(день_начала-1))<=0,7,0)+(ROW(X8)-ROW($S$3))*7+(COLUMN(X8)-COLUMN($S$3)+1)),"",$S$1-(WEEKDAY($S$1,1)-(день_начала-1))-IF((WEEKDAY($S$1,1)-(день_начала-1))<=0,7,0)+(ROW(X8)-ROW($S$3))*7+(COLUMN(X8)-COLUMN($S$3)+1)) | Y8: =IF(MONTH($S$1)<>MONTH($S$1-(WEEKDAY($S$1,1)-(день_начала-1))-IF((WEEKDAY($S$1,1)-(день_начала-1))<=0,7,0)+(ROW(Y8)-ROW($S$3))*7+(COLUMN(Y8)-COLUMN($S$3)+1)),"",$S$1-(WEEKDAY($S$1,1)-(день_начала-1))-IF((WEEKDAY($S$1,1)-(день_начала-1))<=0,7,0)+(ROW(Y8)-ROW($S$3))*7+(COLUMN(Y8)-COLUMN($S$3)+1))
A9: =A10 -> 45656 | C9: =C10 -> 45657 | E9: =E10 -> 45658 | G9: =G10 -> 45659 | I9: =I10 -> 45660 | K9: =K10 -> 45661 | S9: =S10 -> 45662
A10: =$A$1-(WEEKDAY($A$1,1)-(день_начала-1))-IF((WEEKDAY($A$1,1)-(день_начала-1))<=0,7,0)+1 -> 45656 | C10: =A10+1 -> 45657 | E10: =C10+1 -> 45658 | G10: =E10+1 -> 45659 | I10: =G10+1 -> 45660 | K10: =I10+1 -> 45661 | S10: =K10+1 -> 45662
A16: =S10+1 -> 45663 | C16: =A16+1 -> 45664 | E16: =C16+1 -> 45665 | G16: =E16+1 -> 45666 | I16: =G16+1 -> 45667 | K16: =I16+1 -> 45668 | S16: =K16+1 -> 45669
A22: =S16+1 -> 45670 | C22: =A22+1 -> 45671 | E22: =C22+1 -> 45672 | G22: =E22+1 -> 45673 | I22: =G22+1 -> 45674 | K22: =I22+1 -> 45675 | S22: =K22+1 -> 45676
A28: =S22+1 -> 45677 | C28: =A28+1 -> 45678 | E28: =C28+1 -> 45679 | G28: =E28+1 -> 45680 | I28: =G28+1 -> 45681 | K28: =I28+1 -> 45682 | S28: =K28+1 -> 45683
A34: =S28+1 -> 45684 | C34: =A34+1 -> 45685 | E34: =C34+1 -> 45686 | G34: =E34+1 -> 45687 | I34: =G34+1 -> 45688 | K34: =I34+1 -> 45689 | S34: =K34+1 -> 45690
A40: =S34+1 -> 45691 | C40: =A40+1 -> 45692 | E40: Примечания

Sheet 2
A1: =DATE(Настройка!D5,Настройка!D7+1,1) -> 45689 | K1: =DATE(YEAR(A1),MONTH(A1)-1,1) -> 45658 | S1: =DATE(YEAR(A1),MONTH(A1)+1,1) -> 45717
K2: =INDEX({"Вс";"Пн";"Вт";"Ср";"Чт";"Пт";"Сб"},1+MOD(день_начала+1-2,7)) -> Пн | L2: =INDEX({"Вс";"Пн";"Вт";"Ср";"Чт";"Пт";"Сб"},1+MOD(день_начала+2-2,7)) -> Вт | M2: =INDEX({"Вс";"Пн";"Вт";"Ср";"Чт";"Пт";"Сб"},1+MOD(день_начала+3-2,7)) -> Ср | N2: =INDEX({"Вс";"Пн";"Вт";"Ср";"Чт";"Пт";"Сб"},1+MOD(день_начала+4-2,7)) -> Чт | O2: =INDEX({"Вс";"Пн";"Вт";"Ср";"Чт";"Пт";"Сб"},1+MOD(день_начала+5-2,7)) -> Пт | P2: =INDEX({"Вс";"Пн";"Вт";"Ср";"Чт";"Пт";"Сб"},1+MOD(день_начала+6-2,7)) -> Сб | Q2: =INDEX({"Вс";"Пн";"Вт";"Ср";"Чт";"Пт";"Сб"},1+MOD(день_начала+7-2,7)) -> Вс | S2: =INDEX({"Вс";"Пн";"Вт";"Ср";"Чт";"Пт";"Сб"},1+MOD(день_начала+1-2,7)) -> Пн | T2: =INDEX({"Вс";"Пн";"Вт";"Ср";"Чт";"Пт";"Сб"},1+MOD(день_начала+2-2,7)) -> Вт | U2: =INDEX({"Вс";"Пн";"Вт";"Ср";"Чт";"Пт";"Сб"},1+MOD(день_начала+3-2,7)) -> Ср | V2: =INDEX({"Вс";"Пн";"Вт";"Ср";"Чт";"Пт";"Сб"},1+MOD(день_начала+4-2,7)) -> Чт | W2: =INDEX({"Вс";"Пн";"Вт";"Ср";"Чт";"Пт";"Сб"},1+MOD(день_начала+5-2,7)) -> Пт | X2: =INDEX({"Вс";"Пн";"Вт";"Ср";"Чт";"Пт";"Сб"},1+MOD(день_начала+6-2,7)) -> Сб | Y2: =INDEX({"Вс";"Пн";"Вт";"Ср";"Чт";"Пт";"Сб"},1+MOD(день_начала+7-2,7)) -> Вс
K3: =IF(MONTH($K$1)<>MONTH($K$1-(WEEKDAY($K$1,1)-(день_начала-1))-IF((WEEKDAY($K$1,1)-(день_начала-1))<=0,7,0)+(ROW(K3)-ROW($K$3))*7+(COLUMN(K3)-COLUMN($K$3)+1)),"",$K$1-(WEEKDAY($K$1,1)-(день_начала-1))-IF((WEEKDAY($K$1,1)-(день_начала-1))<=0,7,0)+(ROW(K3)-ROW($K$3))*7+(COLUMN(K3)-COLUMN($K$3)+1)) | L3: =IF(MONTH($K$1)<>MONTH($K$1-(WEEKDAY($K$1,1)-(день_начала-1))-IF((WEEKDAY($K$1,1)-(день_начала-1))<=0,7,0)+(ROW(L3)-ROW($K$3))*7+(COLUMN(L3)-COLUMN($K$3)+1)),"",$K$1-(WEEKDAY($K$1,1)-(день_начала-1))-IF((WEEKDAY($K$1,1)-(день_начала-1))<=0,7,0)+(ROW(L3)-ROW($K$3))*7+(COLUMN(L3)-COLUMN($K$3)+1)) | M3: =IF(MONTH($K$1)<>MONTH($K$1-(WEEKDAY($K$1,1)-(день_начала-1))-IF((WEEKDAY($K$1,1)-(день_начала-1))<=0,7,0)+(ROW(M3)-ROW($K$3))*7+(COLUMN(M3)-COLUMN($K$3)+1)),"",$K$1-(WEEKDAY($K$1,1)-(день_начала-1))-IF((WEEKDAY($K$1,1)-(день_начала-1))<=0,7,0)+(ROW(M3)-ROW($K$3))*7+(COLUMN(M3)-COLUMN($K$3)+1)) -> 45658 | N3: =IF(MONTH($K$1)<>MONTH($K$1-(WEEKDAY($K$1,1)-(день_начала-1))-IF((WEEKDAY($K$1,1)-(день_начала-1))<=0,7,0)+(ROW(N3)-ROW($K$3))*7+(COLUMN(N3)-COLUMN($K$3)+1)),"",$K$1-(WEEKDAY($K$1,1)-(день_начала-1))-IF((WEEKDAY($K$1,1)-(день_начала-1))<=0,7,0)+(ROW(N3)-ROW($K$3))*7+(COLUMN(N3)-COLUMN($K$3)+1)) -> 45659 | O3: =IF(MONTH($K$1)<>MONTH($K$1-(WEEKDAY($K$1,1)-(день_начала-1))-IF((WEEKDAY($K$1,1)-(день_начала-1))<=0,7,0)+(ROW(O3)-ROW($K$3))*7+(COLUMN(O3)-COLUMN($K$3)+1)),"",$K$1-(WEEKDAY($K$1,1)-(день_начала-1))-IF((WEEKDAY($K$1,1)-(день_начала-1))<=0,7,0)+(ROW(O3)-ROW($K$3))*7+(COLUMN(O3)-COLUMN($K$3)+1)) -> 45660 | P3: =IF(MONTH($K$1)<>MONTH($K$1-(WEEKDAY($K$1,1)-(день_начала-1))-IF((WEEKDAY($K$1,1)-(день_начала-1))<=0,7,0)+(ROW(P3)-ROW($K$3))*7+(COLUMN(P3)-COLUMN($K$3)+1)),"",$K$1-(WEEKDAY($K$1,1)-(день_начала-1))-IF((WEEKDAY($K$1,1)-(день_начала-1))<=0,7,0)+(ROW(P3)-ROW($K$3))*7+(COLUMN(P3)-COLUMN($K$3)+1)) -> 45661 | Q3: =IF(MONTH($K$1)<>MONTH($K$1-(WEEKDAY($K$1,1)-(день_начала-1))-IF((WEEKDAY($K$1,1)-(день_начала-1))<=0,7,0)+(ROW(Q3)-ROW($K$3))*7+(COLUMN(Q3)-COLUMN($K$3)+1)),"",$K$1-(WEEKDAY($K$1,1)-(день_начала-1))-IF((WEEKDAY($K$1,1)-(день_начала-1))<=0,7,0)+(ROW(Q3)-ROW($K$3))*7+(COLUMN(Q3)-COLUMN($K$3)+1)) -> 45662 | S3: =IF(MONTH($S$1)<>MONTH($S$1-(WEEKDAY($S$1,1)-(день_начала-1))-IF((WEEKDAY($S$1,1)-(день_начала-1))<=0,7,0)+(ROW(S3)-ROW($S$3))*7+(COLUMN(S3)-COLUMN($S$3)+1)),"",$S$1-(WEEKDAY($S$1,1)-(день_начала-1))-IF((WEEKDAY($S$1,1)-(день_начала-1))<=0,7,0)+(ROW(S3)-ROW($S$3))*7+(COLUMN(S3)-COLUMN($S$3)+1)) | T3: =IF(MONTH($S$1)<>MONTH($S$1-(WEEKDAY($S$1,1)-(день_начала-1))-IF((WEEKDAY($S$1,1)-(день_начала-1))<=0,7,0)+(ROW(T3)-ROW($S$3))*7+(COLUMN(T3)-COLUMN($S$3)+1)),"",$S$1-(WEEKDAY($S$1,1)-(день_начала-1))-IF((WEEKDAY($S$1,1)-(день_начала-1))<=0,7,0)+(ROW(T3)-ROW($S$3))*7+(COLUMN(T3)-COLUMN($S$3)+1)) | U3: =IF(MONTH($S$1)<>MONTH($S$1-(WEEKDAY($S$1,1)-(день_начала-1))-IF((WEEKDAY($S$1,1)-(день_начала-1))<=0,7,0)+(ROW(U3)-ROW($S$3))*7+(COLUMN(U3)-COLUMN($S$3)+1)),"",$S$1-(WEEKDAY($S$1,1)-(день_начала-1))-IF((WEEKDAY($S$1,1)-(день_начала-1))<=0,7,0)+(ROW(U3)-ROW($S$3))*7+(COLUMN(U3)-COLUMN($S$3)+1)) | V3: =IF(MONTH($S$1)<>MONTH($S$1-(WEEKDAY($S$1,1)-(день_начала-1))-IF((WEEKDAY($S$1,1)-(день_начала-1))<=0,7,0)+(ROW(V3)-ROW($S$3))*7+(COLUMN(V3)-COLUMN($S$3)+1)),"",$S$1-(WEEKDAY($S$1,1)-(день_начала-1))-IF((WEEKDAY($S$1,1)-(день_начала-1))<=0,7,0)+(ROW(V3)-ROW($S$3))*7+(COLUMN(V3)-COLUMN($S$3)+1)) | W3: =IF(MONTH($S$1)<>MONTH($S$1-(WEEKDAY($S$1,1)-(день_начала-1))-IF((WEEKDAY($S$1,1)-(день_начала-1))<=0,7,0)+(ROW(W3)-ROW($S$3))*7+(COLUMN(W3)-COLUMN($S$3)+1)),"",$S$1-(WEEKDAY($S$1,1)-(день_начала-1))-IF((WEEKDAY($S$1,1)-(день_начала-1))<=0,7,0)+(ROW(W3)-ROW($S$3))*7+(COLUMN(W3)-COLUMN($S$3)+1)) | X3: =IF(MONTH($S$1)<>MONTH($S$1-(WEEKDAY($S$1,1)-(день_начала-1))-IF((WEEKDAY($S$1,1)-(день_начала-1))<=0,7,0)+(ROW(X3)-ROW($S$3))*7+(COLUMN(X3)-COLUMN($S$3)+1)),"",$S$1-(WEEKDAY($S$1,1)-(день_начала-1))-IF((WEEKDAY($S$1,1)-(день_начала-1))<=0,7,0)+(ROW(X3)-ROW($S$3))*7+(COLUMN(X3)-COLUMN($S$3)+1)) -> 45717 | Y3: =IF(MONTH($S$1)<>MONTH($S$1-(WEEKDAY($S$1,1)-(день_начала-1))-IF((WEEKDAY($S$1,1)-(день_начала-1))<=0,7,0)+(ROW(Y3)-ROW($S$3))*7+(COLUMN(Y3)-COLUMN($S$3)+1)),"",$S$1-(WEEKDAY($S$1,1)-(день_начала-1))-IF((WEEKDAY($S$1,1)-(день_начала-1))<=0,7,0)+(ROW(Y3)-ROW($S$3))*7+(COLUMN(Y3)-COLUMN($S$3)+1)) -> 45718
K4: =IF(MONTH($K$1)<>MONTH($K$1-(WEEKDAY($K$1,1)-(день_начала-1))-IF((WEEKDAY($K$1,1)-(день_начала-1))<=0,7,0)+(ROW(K4)-ROW($K$3))*7+(COLUMN(K4)-COLUMN($K$3)+1)),"",$K$1-(WEEKDAY($K$1,1)-(день_начала-1))-IF((WEEKDAY($K$1,1)-(день_начала-1))<=0,7,0)+(ROW(K4)-ROW($K$3))*7+(COLUMN(K4)-COLUMN($K$3)+1)) -> 45663 | L4: =IF(MONTH($K$1)<>MONTH($K$1-(WEEKDAY($K$1,1)-(день_начала-1))-IF((WEEKDAY($K$1,1)-(день_начала-1))<=0,7,0)+(ROW(L4)-ROW($K$3))*7+(COLUMN(L4)-COLUMN($K$3)+1)),"",$K$1-(WEEKDAY($K$1,1)-(день_начала-1))-IF((WEEKDAY($K$1,1)-(день_начала-1))<=0,7,0)+(ROW(L4)-ROW($K$3))*7+(COLUMN(L4)-COLUMN($K$3)+1)) -> 45664 | M4: =IF(MONTH($K$1)<>MONTH($K$1-(WEEKDAY($K$1,1)-(день_начала-1))-IF((WEEKDAY($K$1,1)-(день_начала-1))<=0,7,0)+(ROW(M4)-ROW($K$3))*7+(COLUMN(M4)-COLUMN($K$3)+1)),"",$K$1-(WEEKDAY($K$1,1)-(день_начала-1))-IF((WEEKDAY($K$1,1)-(день_начала-1))<=0,7,0)+(ROW(M4)-ROW($K$3))*7+(COLUMN(M4)-COLUMN($K$3)+1)) -> 45665 | N4: =IF(MONTH($K$1)<>MONTH($K$1-(WEEKDAY($K$1,1)-(день_начала-1))-IF((WEEKDAY($K$1,1)-(день_начала-1))<=0,7,0)+(ROW(N4)-ROW($K$3))*7+(COLUMN(N4)-COLUMN($K$3)+1)),"",$K$1-(WEEKDAY($K$1,1)-(день_начала-1))-IF((WEEKDAY($K$1,1)-(день_начала-1))<=0,7,0)+(ROW(N4)-ROW($K$3))*7+(COLUMN(N4)-COLUMN($K$3)+1)) -> 45666 | O4: =IF(MONTH($K$1)<>MONTH($K$1-(WEEKDAY($K$1,1)-(день_начала-1))-IF((WEEKDAY($K$1,1)-(день_начала-1))<=0,7,0)+(ROW(O4)-ROW($K$3))*7+(COLUMN(O4)-COLUMN($K$3)+1)),"",$K$1-(WEEKDAY($K$1,1)-(день_начала-1))-IF((WEEKDAY($K$1,1)-(день_начала-1))<=0,7,0)+(ROW(O4)-ROW($K$3))*7+(COLUMN(O4)-COLUMN($K$3)+1)) -> 45667 | P4: =IF(MONTH($K$1)<>MONTH($K$1-(WEEKDAY($K$1,1)-(день_начала-1))-IF((WEEKDAY($K$1,1)-(день_начала-1))<=0,7,0)+(ROW(P4)-ROW($K$3))*7+(COLUMN(P4)-COLUMN($K$3)+1)),"",$K$1-(WEEKDAY($K$1,1)-(день_начала-1))-IF((WEEKDAY($K$1,1)-(день_начала-1))<=0,7,0)+(ROW(P4)-ROW($K$3))*7+(COLUMN(P4)-COLUMN($K$3)+1)) -> 45668 | Q4: =IF(MONTH($K$1)<>MONTH($K$1-(WEEKDAY($K$1,1)-(день_начала-1))-IF((WEEKDAY($K$1,1)-(день_начала-1))<=0,7,0)+(ROW(Q4)-ROW($K$3))*7+(COLUMN(Q4)-COLUMN($K$3)+1)),"",$K$1-(WEEKDAY($K$1,1)-(день_начала-1))-IF((WEEKDAY($K$1,1)-(день_начала-1))<=0,7,0)+(ROW(Q4)-ROW($K$3))*7+(COLUMN(Q4)-COLUMN($K$3)+1)) -> 45669 | S4: =IF(MONTH($S$1)<>MONTH($S$1-(WEEKDAY($S$1,1)-(день_начала-1))-IF((WEEKDAY($S$1,1)-(день_начала-1))<=0,7,0)+(ROW(S4)-ROW($S$3))*7+(COLUMN(S4)-COLUMN($S$3)+1)),"",$S$1-(WEEKDAY($S$1,1)-(день_начала-1))-IF((WEEKDAY($S$1,1)-(день_начала-1))<=0,7,0)+(ROW(S4)-ROW($S$3))*7+(COLUMN(S4)-COLUMN($S$3)+1)) -> 45719 | T4: =IF(MONTH($S$1)<>MONTH($S$1-(WEEKDAY($S$1,1)-(день_начала-1))-IF((WEEKDAY($S$1,1)-(день_начала-1))<=0,7,0)+(ROW(T4)-ROW($S$3))*7+(COLUMN(T4)-COLUMN($S$3)+1)),"",$S$1-(WEEKDAY($S$1,1)-(день_начала-1))-IF((WEEKDAY($S$1,1)-(день_начала-1))<=0,7,0)+(ROW(T4)-ROW($S$3))*7+(COLUMN(T4)-COLUMN($S$3)+1)) -> 45720 | U4: =IF(MONTH($S$1)<>MONTH($S$1-(WEEKDAY($S$1,1)-(день_начала-1))-IF((WEEKDAY($S$1,1)-(день_начала-1))<=0,7,0)+(ROW(U4)-ROW($S$3))*7+(COLUMN(U4)-COLUMN($S$3)+1)),"",$S$1-(WEEKDAY($S$1,1)-(день_начала-1))-IF((WEEKDAY($S$1,1)-(день_начала-1))<=0,7,0)+(ROW(U4)-ROW($S$3))*7+(COLUMN(U4)-COLUMN($S$3)+1)) -> 45721 | V4: =IF(MONTH($S$1)<>MONTH($S$1-(WEEKDAY($S$1,1)-(день_начала-1))-IF((WEEKDAY($S$1,1)-(день_начала-1))<=0,7,0)+(ROW(V4)-ROW($S$3))*7+(COLUMN(V4)-COLUMN($S$3)+1)),"",$S$1-(WEEKDAY($S$1,1)-(день_начала-1))-IF((WEEKDAY($S$1,1)-(день_начала-1))<=0,7,0)+(ROW(V4)-ROW($S$3))*7+(COLUMN(V4)-COLUMN($S$3)+1)) -> 45722 | W4: =IF(MONTH($S$1)<>MONTH($S$1-(WEEKDAY($S$1,1)-(день_начала-1))-IF((WEEKDAY($S$1,1)-(день_начала-1))<=0,7,0)+(ROW(W4)-ROW($S$3))*7+(COLUMN(W4)-COLUMN($S$3)+1)),"",$S$1-(WEEKDAY($S$1,1)-(день_начала-1))-IF((WEEKDAY($S$1,1)-(день_начала-1))<=0,7,0)+(ROW(W4)-ROW($S$3))*7+(COLUMN(W4)-COLUMN($S$3)+1)) -> 45723 | X4: =IF(MONTH($S$1)<>MONTH($S$1-(WEEKDAY($S$1,1)-(день_начала-1))-IF((WEEKDAY($S$1,1)-(день_начала-1))<=0,7,0)+(ROW(X4)-ROW($S$3))*7+(COLUMN(X4)-COLUMN($S$3)+1)),"",$S$1-(WEEKDAY($S$1,1)-(день_начала-1))-IF((WEEKDAY($S$1,1)-(день_начала-1))<=0,7,0)+(ROW(X4)-ROW($S$3))*7+(COLUMN(X4)-COLUMN($S$3)+1)) -> 45724 | Y4: =IF(MONTH($S$1)<>MONTH($S$1-(WEEKDAY($S$1,1)-(день_начала-1))-IF((WEEKDAY($S$1,1)-(день_начала-1))<=0,7,0)+(ROW(Y4)-ROW($S$3))*7+(COLUMN(Y4)-COLUMN($S$3)+1)),"",$S$1-(WEEKDAY($S$1,1)-(день_начала-1))-IF((WEEKDAY($S$1,1)-(день_начала-1))<=0,7,0)+(ROW(Y4)-ROW($S$3))*7+(COLUMN(Y4)-COLUMN($S$3)+1)) -> 45725
K5: =IF(MONTH($K$1)<>MONTH($K$1-(WEEKDAY($K$1,1)-(день_начала-1))-IF((WEEKDAY($K$1,1)-(день_начала-1))<=0,7,0)+(ROW(K5)-ROW($K$3))*7+(COLUMN(K5)-COLUMN($K$3)+1)),"",$K$1-(WEEKDAY($K$1,1)-(день_начала-1))-IF((WEEKDAY($K$1,1)-(день_начала-1))<=0,7,0)+(ROW(K5)-ROW($K$3))*7+(COLUMN(K5)-COLUMN($K$3)+1)) -> 45670 | L5: =IF(MONTH($K$1)<>MONTH($K$1-(WEEKDAY($K$1,1)-(день_начала-1))-IF((WEEKDAY($K$1,1)-(день_начала-1))<=0,7,0)+(ROW(L5)-ROW($K$3))*7+(COLUMN(L5)-COLUMN($K$3)+1)),"",$K$1-(WEEKDAY($K$1,1)-(день_начала-1))-IF((WEEKDAY($K$1,1)-(день_начала-1))<=0,7,0)+(ROW(L5)-ROW($K$3))*7+(COLUMN(L5)-COLUMN($K$3)+1)) -> 45671 | M5: =IF(MONTH($K$1)<>MONTH($K$1-(WEEKDAY($K$1,1)-(день_начала-1))-IF((WEEKDAY($K$1,1)-(день_начала-1))<=0,7,0)+(ROW(M5)-ROW($K$3))*7+(COLUMN(M5)-COLUMN($K$3)+1)),"",$K$1-(WEEKDAY($K$1,1)-(день_начала-1))-IF((WEEKDAY($K$1,1)-(день_начала-1))<=0,7,0)+(ROW(M5)-ROW($K$3))*7+(COLUMN(M5)-COLUMN($K$3)+1)) -> 45672 | N5: =IF(MONTH($K$1)<>MONTH($K$1-(WEEKDAY($K$1,1)-(день_начала-1))-IF((WEEKDAY($K$1,1)-(день_начала-1))<=0,7,0)+(ROW(N5)-ROW($K$3))*7+(COLUMN(N5)-COLUMN($K$3)+1)),"",$K$1-(WEEKDAY($K$1,1)-(день_начала-1))-IF((WEEKDAY($K$1,1)-(день_начала-1))<=0,7,0)+(ROW(N5)-ROW($K$3))*7+(COLUMN(N5)-COLUMN($K$3)+1)) -> 45673 | O5: =IF(MONTH($K$1)<>MONTH($K$1-(WEEKDAY($K$1,1)-(день_начала-1))-IF((WEEKDAY($K$1,1)-(день_начала-1))<=0,7,0)+(ROW(O5)-ROW($K$3))*7+(COLUMN(O5)-COLUMN($K$3)+1)),"",$K$1-(WEEKDAY($K$1,1)-(день_начала-1))-IF((WEEKDAY($K$1,1)-(день_начала-1))<=0,7,0)+(ROW(O5)-ROW($K$3))*7+(COLUMN(O5)-COLUMN($K$3)+1)) -> 45674 | P5: =IF(MONTH($K$1)<>MONTH($K$1-(WEEKDAY($K$1,1)-(день_начала-1))-IF((WEEKDAY($K$1,1)-(день_начала-1))<=0,7,0)+(ROW(P5)-ROW($K$3))*7+(COLUMN(P5)-COLUMN($K$3)+1)),"",$K$1-(WEEKDAY($K$1,1)-(день_начала-1))-IF((WEEKDAY($K$1,1)-(день_начала-1))<=0,7,0)+(ROW(P5)-ROW($K$3))*7+(COLUMN(P5)-COLUMN($K$3)+1)) -> 45675 | Q5: =IF(MONTH($K$1)<>MONTH($K$1-(WEEKDAY($K$1,1)-(день_начала-1))-IF((WEEKDAY($K$1,1)-(день_начала-1))<=0,7,0)+(ROW(Q5)-ROW($K$3))*7+(COLUMN(Q5)-COLUMN($K$3)+1)),"",$K$1-(WEEKDAY($K$1,1)-(день_начала-1))-IF((WEEKDAY($K$1,1)-(день_начала-1))<=0,7,0)+(ROW(Q5)-ROW($K$3))*7+(COLUMN(Q5)-COLUMN($K$3)+1)) -> 45676 | S5: =IF(MONTH($S$1)<>MONTH($S$1-(WEEKDAY($S$1,1)-(день_начала-1))-IF((WEEKDAY($S$1,1)-(день_начала-1))<=0,7,0)+(ROW(S5)-ROW($S$3))*7+(COLUMN(S5)-COLUMN($S$3)+1)),"",$S$1-(WEEKDAY($S$1,1)-(день_начала-1))-IF((WEEKDAY($S$1,1)-(день_начала-1))<=0,7,0)+(ROW(S5)-ROW($S$3))*7+(COLUMN(S5)-COLUMN($S$3)+1)) -> 45726 | T5: =IF(MONTH($S$1)<>MONTH($S$1-(WEEKDAY($S$1,1)-(день_начала-1))-IF((WEEKDAY($S$1,1)-(день_начала-1))<=0,7,0)+(ROW(T5)-ROW($S$3))*7+(COLUMN(T5)-COLUMN($S$3)+1)),"",$S$1-(WEEKDAY($S$1,1)-(день_начала-1))-IF((WEEKDAY($S$1,1)-(день_начала-1))<=0,7,0)+(ROW(T5)-ROW($S$3))*7+(COLUMN(T5)-COLUMN($S$3)+1)) -> 45727 | U5: =IF(MONTH($S$1)<>MONTH($S$1-(WEEKDAY($S$1,1)-(день_начала-1))-IF((WEEKDAY($S$1,1)-(день_начала-1))<=0,7,0)+(ROW(U5)-ROW($S$3))*7+(COLUMN(U5)-COLUMN($S$3)+1)),"",$S$1-(WEEKDAY($S$1,1)-(день_начала-1))-IF((WEEKDAY($S$1,1)-(день_начала-1))<=0,7,0)+(ROW(U5)-ROW($S$3))*7+(COLUMN(U5)-COLUMN($S$3)+1)) -> 45728 | V5: =IF(MONTH($S$1)<>MONTH($S$1-(WEEKDAY($S$1,1)-(день_начала-1))-IF((WEEKDAY($S$1,1)-(день_начала-1))<=0,7,0)+(ROW(V5)-ROW($S$3))*7+(COLUMN(V5)-COLUMN($S$3)+1)),"",$S$1-(WEEKDAY($S$1,1)-(день_начала-1))-IF((WEEKDAY($S$1,1)-(день_начала-1))<=0,7,0)+(ROW(V5)-ROW($S$3))*7+(COLUMN(V5)-COLUMN($S$3)+1)) -> 45729 | W5: =IF(MONTH($S$1)<>MONTH($S$1-(WEEKDAY($S$1,1)-(день_начала-1))-IF((WEEKDAY($S$1,1)-(день_начала-1))<=0,7,0)+(ROW(W5)-ROW($S$3))*7+(COLUMN(W5)-COLUMN($S$3)+1)),"",$S$1-(WEEKDAY($S$1,1)-(день_начала-1))-IF((WEEKDAY($S$1,1)-(день_начала-1))<=0,7,0)+(ROW(W5)-ROW($S$3))*7+(COLUMN(W5)-COLUMN($S$3)+1)) -> 45730 | X5: =IF(MONTH($S$1)<>MONTH($S$1-(WEEKDAY($S$1,1)-(день_начала-1))-IF((WEEKDAY($S$1,1)-(день_начала-1))<=0,7,0)+(ROW(X5)-ROW($S$3))*7+(COLUMN(X5)-COLUMN($S$3)+1)),"",$S$1-(WEEKDAY($S$1,1)-(день_начала-1))-IF((WEEKDAY($S$1,1)-(день_начала-1))<=0,7,0)+(ROW(X5)-ROW($S$3))*7+(COLUMN(X5)-COLUMN($S$3)+1)) -> 45731 | Y5: =IF(MONTH($S$1)<>MONTH($S$1-(WEEKDAY($S$1,1)-(день_начала-1))-IF((WEEKDAY($S$1,1)-(день_начала-1))<=0,7,0)+(ROW(Y5)-ROW($S$3))*7+(COLUMN(Y5)-COLUMN($S$3)+1)),"",$S$1-(WEEKDAY($S$1,1)-(день_начала-1))-IF((WEEKDAY($S$1,1)-(день_начала-1))<=0,7,0)+(ROW(Y5)-ROW($S$3))*7+(COLUMN(Y5)-COLUMN($S$3)+1)) -> 45732
K6: =IF(MONTH($K$1)<>MONTH($K$1-(WEEKDAY($K$1,1)-(день_начала-1))-IF((WEEKDAY($K$1,1)-(день_начала-1))<=0,7,0)+(ROW(K6)-ROW($K$3))*7+(COLUMN(K6)-COLUMN($K$3)+1)),"",$K$1-(WEEKDAY($K$1,1)-(день_начала-1))-IF((WEEKDAY($K$1,1)-(день_начала-1))<=0,7,0)+(ROW(K6)-ROW($K$3))*7+(COLUMN(K6)-COLUMN($K$3)+1)) -> 45677 | L6: =IF(MONTH($K$1)<>MONTH($K$1-(WEEKDAY($K$1,1)-(день_начала-1))-IF((WEEKDAY($K$1,1)-(день_начала-1))<=0,7,0)+(ROW(L6)-ROW($K$3))*7+(COLUMN(L6)-COLUMN($K$3)+1)),"",$K$1-(WEEKDAY($K$1,1)-(день_начала-1))-IF((WEEKDAY($K$1,1)-(день_начала-1))<=0,7,0)+(ROW(L6)-ROW($K$3))*7+(COLUMN(L6)-COLUMN($K$3)+1)) -> 45678 | M6: =IF(MONTH($K$1)<>MONTH($K$1-(WEEKDAY($K$1,1)-(день_начала-1))-IF((WEEKDAY($K$1,1)-(день_начала-1))<=0,7,0)+(ROW(M6)-ROW($K$3))*7+(COLUMN(M6)-COLUMN($K$3)+1)),"",$K$1-(WEEKDAY($K$1,1)-(день_начала-1))-IF((WEEKDAY($K$1,1)-(день_начала-1))<=0,7,0)+(ROW(M6)-ROW($K$3))*7+(COLUMN(M6)-COLUMN($K$3)+1)) -> 45679 | N6: =IF(MONTH($K$1)<>MONTH($K$1-(WEEKDAY($K$1,1)-(день_начала-1))-IF((WEEKDAY($K$1,1)-(день_начала-1))<=0,7,0)+(ROW(N6)-ROW($K$3))*7+(COLUMN(N6)-COLUMN($K$3)+1)),"",$K$1-(WEEKDAY($K$1,1)-(день_начала-1))-IF((WEEKDAY($K$1,1)-(день_начала-1))<=0,7,0)+(ROW(N6)-ROW($K$3))*7+(COLUMN(N6)-COLUMN($K$3)+1)) -> 45680 | O6: =IF(MONTH($K$1)<>MONTH($K$1-(WEEKDAY($K$1,1)-(день_начала-1))-IF((WEEKDAY($K$1,1)-(день_начала-1))<=0,7,0)+(ROW(O6)-ROW($K$3))*7+(COLUMN(O6)-COLUMN($K$3)+1)),"",$K$1-(WEEKDAY($K$1,1)-(день_начала-1))-IF((WEEKDAY($K$1,1)-(день_начала-1))<=0,7,0)+(ROW(O6)-ROW($K$3))*7+(COLUMN(O6)-COLUMN($K$3)+1)) -> 45681 | P6: =IF(MONTH($K$1)<>MONTH($K$1-(WEEKDAY($K$1,1)-(день_начала-1))-IF((WEEKDAY($K$1,1)-(день_начала-1))<=0,7,0)+(ROW(P6)-ROW($K$3))*7+(COLUMN(P6)-COLUMN($K$3)+1)),"",$K$1-(WEEKDAY($K$1,1)-(день_начала-1))-IF((WEEKDAY($K$1,1)-(день_начала-1))<=0,7,0)+(ROW(P6)-ROW($K$3))*7+(COLUMN(P6)-COLUMN($K$3)+1)) -> 45682 | Q6: =IF(MONTH($K$1)<>MONTH($K$1-(WEEKDAY($K$1,1)-(день_начала-1))-IF((WEEKDAY($K$1,1)-(день_начала-1))<=0,7,0)+(ROW(Q6)-ROW($K$3))*7+(COLUMN(Q6)-COLUMN($K$3)+1)),"",$K$1-(WEEKDAY($K$1,1)-(день_начала-1))-IF((WEEKDAY($K$1,1)-(день_начала-1))<=0,7,0)+(ROW(Q6)-ROW($K$3))*7+(COLUMN(Q6)-COLUMN($K$3)+1)) -> 45683 | S6: =IF(MONTH($S$1)<>MONTH($S$1-(WEEKDAY($S$1,1)-(день_начала-1))-IF((WEEKDAY($S$1,1)-(день_начала-1))<=0,7,0)+(ROW(S6)-ROW($S$3))*7+(COLUMN(S6)-COLUMN($S$3)+1)),"",$S$1-(WEEKDAY($S$1,1)-(день_начала-1))-IF((WEEKDAY($S$1,1)-(день_начала-1))<=0,7,0)+(ROW(S6)-ROW($S$3))*7+(COLUMN(S6)-COLUMN($S$3)+1)) -> 45733 | T6: =IF(MONTH($S$1)<>MONTH($S$1-(WEEKDAY($S$1,1)-(день_начала-1))-IF((WEEKDAY($S$1,1)-(день_начала-1))<=0,7,0)+(ROW(T6)-ROW($S$3))*7+(COLUMN(T6)-COLUMN($S$3)+1)),"",$S$1-(WEEKDAY($S$1,1)-(день_начала-1))-IF((WEEKDAY($S$1,1)-(день_начала-1))<=0,7,0)+(ROW(T6)-ROW($S$3))*7+(COLUMN(T6)-COLUMN($S$3)+1)) -> 45734 | U6: =IF(MONTH($S$1)<>MONTH($S$1-(WEEKDAY($S$1,1)-(день_начала-1))-IF((WEEKDAY($S$1,1)-(день_начала-1))<=0,7,0)+(ROW(U6)-ROW($S$3))*7+(COLUMN(U6)-COLUMN($S$3)+1)),"",$S$1-(WEEKDAY($S$1,1)-(день_начала-1))-IF((WEEKDAY($S$1,1)-(день_начала-1))<=0,7,0)+(ROW(U6)-ROW($S$3))*7+(COLUMN(U6)-COLUMN($S$3)+1)) -> 45735 | V6: =IF(MONTH($S$1)<>MONTH($S$1-(WEEKDAY($S$1,1)-(день_начала-1))-IF((WEEKDAY($S$1,1)-(день_начала-1))<=0,7,0)+(ROW(V6)-ROW($S$3))*7+(COLUMN(V6)-COLUMN($S$3)+1)),"",$S$1-(WEEKDAY($S$1,1)-(день_начала-1))-IF((WEEKDAY($S$1,1)-(день_начала-1))<=0,7,0)+(ROW(V6)-ROW($S$3))*7+(COLUMN(V6)-COLUMN($S$3)+1)) -> 45736 | W6: =IF(MONTH($S$1)<>MONTH($S$1-(WEEKDAY($S$1,1)-(день_начала-1))-IF((WEEKDAY($S$1,1)-(день_начала-1))<=0,7,0)+(ROW(W6)-ROW($S$3))*7+(COLUMN(W6)-COLUMN($S$3)+1)),"",$S$1-(WEEKDAY($S$1,1)-(день_начала-1))-IF((WEEKDAY($S$1,1)-(день_начала-1))<=0,7,0)+(ROW(W6)-ROW($S$3))*7+(COLUMN(W6)-COLUMN($S$3)+1)) -> 45737 | X6: =IF(MONTH($S$1)<>MONTH($S$1-(WEEKDAY($S$1,1)-(день_начала-1))-IF((WEEKDAY($S$1,1)-(день_начала-1))<=0,7,0)+(ROW(X6)-ROW($S$3))*7+(COLUMN(X6)-COLUMN($S$3)+1)),"",$S$1-(WEEKDAY($S$1,1)-(день_начала-1))-IF((WEEKDAY($S$1,1)-(день_начала-1))<=0,7,0)+(ROW(X6)-ROW($S$3))*7+(COLUMN(X6)-COLUMN($S$3)+1)) -> 45738 | Y6: =IF(MONTH($S$1)<>MONTH($S$1-(WEEKDAY($S$1,1)-(день_начала-1))-IF((WEEKDAY($S$1,1)-(день_начала-1))<=0,7,0)+(ROW(Y6)-ROW($S$3))*7+(COLUMN(Y6)-COLUMN($S$3)+1)),"",$S$1-(WEEKDAY($S$1,1)-(день_начала-1))-IF((WEEKDAY($S$1,1)-(день_начала-1))<=0,7,0)+(ROW(Y6)-ROW($S$3))*7+(COLUMN(Y6)-COLUMN($S$3)+1)) -> 45739
K7: =IF(MONTH($K$1)<>MONTH($K$1-(WEEKDAY($K$1,1)-(день_начала-1))-IF((WEEKDAY($K$1,1)-(день_начала-1))<=0,7,0)+(ROW(K7)-ROW($K$3))*7+(COLUMN(K7)-COLUMN($K$3)+1)),"",$K$1-(WEEKDAY($K$1,1)-(день_начала-1))-IF((WEEKDAY($K$1,1)-(день_начала-1))<=0,7,0)+(ROW(K7)-ROW($K$3))*7+(COLUMN(K7)-COLUMN($K$3)+1)) -> 45684 | L7: =IF(MONTH($K$1)<>MONTH($K$1-(WEEKDAY($K$1,1)-(день_начала-1))-IF((WEEKDAY($K$1,1)-(день_начала-1))<=0,7,0)+(ROW(L7)-ROW($K$3))*7+(COLUMN(L7)-COLUMN($K$3)+1)),"",$K$1-(WEEKDAY($K$1,1)-(день_начала-1))-IF((WEEKDAY($K$1,1)-(день_начала-1))<=0,7,0)+(ROW(L7)-ROW($K$3))*7+(COLUMN(L7)-COLUMN($K$3)+1)) -> 45685 | M7: =IF(MONTH($K$1)<>MONTH($K$1-(WEEKDAY($K$1,1)-(день_начала-1))-IF((WEEKDAY($K$1,1)-(день_начала-1))<=0,7,0)+(ROW(M7)-ROW($K$3))*7+(COLUMN(M7)-COLUMN($K$3)+1)),"",$K$1-(WEEKDAY($K$1,1)-(день_начала-1))-IF((WEEKDAY($K$1,1)-(день_начала-1))<=0,7,0)+(ROW(M7)-ROW($K$3))*7+(COLUMN(M7)-COLUMN($K$3)+1)) -> 45686 | N7: =IF(MONTH($K$1)<>MONTH($K$1-(WEEKDAY($K$1,1)-(день_начала-1))-IF((WEEKDAY($K$1,1)-(день_начала-1))<=0,7,0)+(ROW(N7)-ROW($K$3))*7+(COLUMN(N7)-COLUMN($K$3)+1)),"",$K$1-(WEEKDAY($K$1,1)-(день_начала-1))-IF((WEEKDAY($K$1,1)-(день_начала-1))<=0,7,0)+(ROW(N7)-ROW($K$3))*7+(COLUMN(N7)-COLUMN($K$3)+1)) -> 45687 | O7: =IF(MONTH($K$1)<>MONTH($K$1-(WEEKDAY($K$1,1)-(день_начала-1))-IF((WEEKDAY($K$1,1)-(день_начала-1))<=0,7,0)+(ROW(O7)-ROW($K$3))*7+(COLUMN(O7)-COLUMN($K$3)+1)),"",$K$1-(WEEKDAY($K$1,1)-(день_начала-1))-IF((WEEKDAY($K$1,1)-(день_начала-1))<=0,7,0)+(ROW(O7)-ROW($K$3))*7+(COLUMN(O7)-COLUMN($K$3)+1)) -> 45688 | P7: =IF(MONTH($K$1)<>MONTH($K$1-(WEEKDAY($K$1,1)-(день_начала-1))-IF((WEEKDAY($K$1,1)-(день_начала-1))<=0,7,0)+(ROW(P7)-ROW($K$3))*7+(COLUMN(P7)-COLUMN($K$3)+1)),"",$K$1-(WEEKDAY($K$1,1)-(день_начала-1))-IF((WEEKDAY($K$1,1)-(день_начала-1))<=0,7,0)+(ROW(P7)-ROW($K$3))*7+(COLUMN(P7)-COLUMN($K$3)+1)) | Q7: =IF(MONTH($K$1)<>MONTH($K$1-(WEEKDAY($K$1,1)-(день_начала-1))-IF((WEEKDAY($K$1,1)-(день_начала-1))<=0,7,0)+(ROW(Q7)-ROW($K$3))*7+(COLUMN(Q7)-COLUMN($K$3)+1)),"",$K$1-(WEEKDAY($K$1,1)-(день_начала-1))-IF((WEEKDAY($K$1,1)-(день_начала-1))<=0,7,0)+(ROW(Q7)-ROW($K$3))*7+(COLUMN(Q7)-COLUMN($K$3)+1)) | S7: =IF(MONTH($S$1)<>MONTH($S$1-(WEEKDAY($S$1,1)-(день_начала-1))-IF((WEEKDAY($S$1,1)-(день_начала-1))<=0,7,0)+(ROW(S7)-ROW($S$3))*7+(COLUMN(S7)-COLUMN($S$3)+1)),"",$S$1-(WEEKDAY($S$1,1)-(день_начала-1))-IF((WEEKDAY($S$1,1)-(день_начала-1))<=0,7,0)+(ROW(S7)-ROW($S$3))*7+(COLUMN(S7)-COLUMN($S$3)+1)) -> 45740 | T7: =IF(MONTH($S$1)<>MONTH($S$1-(WEEKDAY($S$1,1)-(день_начала-1))-IF((WEEKDAY($S$1,1)-(день_начала-1))<=0,7,0)+(ROW(T7)-ROW($S$3))*7+(COLUMN(T7)-COLUMN($S$3)+1)),"",$S$1-(WEEKDAY($S$1,1)-(день_начала-1))-IF((WEEKDAY($S$1,1)-(день_начала-1))<=0,7,0)+(ROW(T7)-ROW($S$3))*7+(COLUMN(T7)-COLUMN($S$3)+1)) -> 45741 | U7: =IF(MONTH($S$1)<>MONTH($S$1-(WEEKDAY($S$1,1)-(день_начала-1))-IF((WEEKDAY($S$1,1)-(день_начала-1))<=0,7,0)+(ROW(U7)-ROW($S$3))*7+(COLUMN(U7)-COLUMN($S$3)+1)),"",$S$1-(WEEKDAY($S$1,1)-(день_начала-1))-IF((WEEKDAY($S$1,1)-(день_начала-1))<=0,7,0)+(ROW(U7)-ROW($S$3))*7+(COLUMN(U7)-COLUMN($S$3)+1)) -> 45742 | V7: =IF(MONTH($S$1)<>MONTH($S$1-(WEEKDAY($S$1,1)-(день_начала-1))-IF((WEEKDAY($S$1,1)-(день_начала-1))<=0,7,0)+(ROW(V7)-ROW($S$3))*7+(COLUMN(V7)-COLUMN($S$3)+1)),"",$S$1-(WEEKDAY($S$1,1)-(день_начала-1))-IF((WEEKDAY($S$1,1)-(день_начала-1))<=0,7,0)+(ROW(V7)-ROW($S$3))*7+(COLUMN(V7)-COLUMN($S$3)+1)) -> 45743 | W7: =IF(MONTH($S$1)<>MONTH($S$1-(WEEKDAY($S$1,1)-(день_начала-1))-IF((WEEKDAY($S$1,1)-(день_начала-1))<=0,7,0)+(ROW(W7)-ROW($S$3))*7+(COLUMN(W7)-COLUMN($S$3)+1)),"",$S$1-(WEEKDAY($S$1,1)-(день_начала-1))-IF((WEEKDAY($S$1,1)-(день_начала-1))<=0,7,0)+(ROW(W7)-ROW($S$3))*7+(COLUMN(W7)-COLUMN($S$3)+1)) -> 45744 | X7: =IF(MONTH($S$1)<>MONTH($S$1-(WEEKDAY($S$1,1)-(день_начала-1))-IF((WEEKDAY($S$1,1)-(день_начала-1))<=0,7,0)+(ROW(X7)-ROW($S$3))*7+(COLUMN(X7)-COLUMN($S$3)+1)),"",$S$1-(WEEKDAY($S$1,1)-(день_начала-1))-IF((WEEKDAY($S$1,1)-(день_начала-1))<=0,7,0)+(ROW(X7)-ROW($S$3))*7+(COLUMN(X7)-COLUMN($S$3)+1)) -> 45745 | Y7: =IF(MONTH($S$1)<>MONTH($S$1-(WEEKDAY($S$1,1)-(день_начала-1))-IF((WEEKDAY($S$1,1)-(день_начала-1))<=0,7,0)+(ROW(Y7)-ROW($S$3))*7+(COLUMN(Y7)-COLUMN($S$3)+1)),"",$S$1-(WEEKDAY($S$1,1)-(день_начала-1))-IF((WEEKDAY($S$1,1)-(день_начала-1))<=0,7,0)+(ROW(Y7)-ROW($S$3))*7+(COLUMN(Y7)-COLUMN($S$3)+1)) -> 45746
K8: =IF(MONTH($K$1)<>MONTH($K$1-(WEEKDAY($K$1,1)-(день_начала-1))-IF((WEEKDAY($K$1,1)-(день_начала-1))<=0,7,0)+(ROW(K8)-ROW($K$3))*7+(COLUMN(K8)-COLUMN($K$3)+1)),"",$K$1-(WEEKDAY($K$1,1)-(день_начала-1))-IF((WEEKDAY($K$1,1)-(день_начала-1))<=0,7,0)+(ROW(K8)-ROW($K$3))*7+(COLUMN(K8)-COLUMN($K$3)+1)) | L8: =IF(MONTH($K$1)<>MONTH($K$1-(WEEKDAY($K$1,1)-(день_начала-1))-IF((WEEKDAY($K$1,1)-(день_начала-1))<=0,7,0)+(ROW(L8)-ROW($K$3))*7+(COLUMN(L8)-COLUMN($K$3)+1)),"",$K$1-(WEEKDAY($K$1,1)-(день_начала-1))-IF((WEEKDAY($K$1,1)-(день_начала-1))<=0,7,0)+(ROW(L8)-ROW($K$3))*7+(COLUMN(L8)-COLUMN($K$3)+1)) | M8: =IF(MONTH($K$1)<>MONTH($K$1-(WEEKDAY($K$1,1)-(день_начала-1))-IF((WEEKDAY($K$1,1)-(день_начала-1))<=0,7,0)+(ROW(M8)-ROW($K$3))*7+(COLUMN(M8)-COLUMN($K$3)+1)),"",$K$1-(WEEKDAY($K$1,1)-(день_начала-1))-IF((WEEKDAY($K$1,1)-(день_начала-1))<=0,7,0)+(ROW(M8)-ROW($K$3))*7+(COLUMN(M8)-COLUMN($K$3)+1)) | N8: =IF(MONTH($K$1)<>MONTH($K$1-(WEEKDAY($K$1,1)-(день_начала-1))-IF((WEEKDAY($K$1,1)-(день_начала-1))<=0,7,0)+(ROW(N8)-ROW($K$3))*7+(COLUMN(N8)-COLUMN($K$3)+1)),"",$K$1-(WEEKDAY($K$1,1)-(день_начала-1))-IF((WEEKDAY($K$1,1)-(день_начала-1))<=0,7,0)+(ROW(N8)-ROW($K$3))*7+(COLUMN(N8)-COLUMN($K$3)+1)) | O8: =IF(MONTH($K$1)<>MONTH($K$1-(WEEKDAY($K$1,1)-(день_начала-1))-IF((WEEKDAY($K$1,1)-(день_начала-1))<=0,7,0)+(ROW(O8)-ROW($K$3))*7+(COLUMN(O8)-COLUMN($K$3)+1)),"",$K$1-(WEEKDAY($K$1,1)-(день_начала-1))-IF((WEEKDAY($K$1,1)-(день_начала-1))<=0,7,0)+(ROW(O8)-ROW($K$3))*7+(COLUMN(O8)-COLUMN($K$3)+1)) | P8: =IF(MONTH($K$1)<>MONTH($K$1-(WEEKDAY($K$1,1)-(день_начала-1))-IF((WEEKDAY($K$1,1)-(день_начала-1))<=0,7,0)+(ROW(P8)-ROW($K$3))*7+(COLUMN(P8)-COLUMN($K$3)+1)),"",$K$1-(WEEKDAY($K$1,1)-(день_начала-1))-IF((WEEKDAY($K$1,1)-(день_начала-1))<=0,7,0)+(ROW(P8)-ROW($K$3))*7+(COLUMN(P8)-COLUMN($K$3)+1)) | Q8: =IF(MONTH($K$1)<>MONTH($K$1-(WEEKDAY($K$1,1)-(день_начала-1))-IF((WEEKDAY($K$1,1)-(день_начала-1))<=0,7,0)+(ROW(Q8)-ROW($K$3))*7+(COLUMN(Q8)-COLUMN($K$3)+1)),"",$K$1-(WEEKDAY($K$1,1)-(день_начала-1))-IF((WEEKDAY($K$1,1)-(день_начала-1))<=0,7,0)+(ROW(Q8)-ROW($K$3))*7+(COLUMN(Q8)-COLUMN($K$3)+1)) | S8: =IF(MONTH($S$1)<>MONTH($S$1-(WEEKDAY($S$1,1)-(день_начала-1))-IF((WEEKDAY($S$1,1)-(день_начала-1))<=0,7,0)+(ROW(S8)-ROW($S$3))*7+(COLUMN(S8)-COLUMN($S$3)+1)),"",$S$1-(WEEKDAY($S$1,1)-(день_начала-1))-IF((WEEKDAY($S$1,1)-(день_начала-1))<=0,7,0)+(ROW(S8)-ROW($S$3))*7+(COLUMN(S8)-COLUMN($S$3)+1)) -> 45747 | T8: =IF(MONTH($S$1)<>MONTH($S$1-(WEEKDAY($S$1,1)-(день_начала-1))-IF((WEEKDAY($S$1,1)-(день_начала-1))<=0,7,0)+(ROW(T8)-ROW($S$3))*7+(COLUMN(T8)-COLUMN($S$3)+1)),"",$S$1-(WEEKDAY($S$1,1)-(день_начала-1))-IF((WEEKDAY($S$1,1)-(день_начала-1))<=0,7,0)+(ROW(T8)-ROW($S$3))*7+(COLUMN(T8)-COLUMN($S$3)+1)) | U8: =IF(MONTH($S$1)<>MONTH($S$1-(WEEKDAY($S$1,1)-(день_начала-1))-IF((WEEKDAY($S$1,1)-(день_начала-1))<=0,7,0)+(ROW(U8)-ROW($S$3))*7+(COLUMN(U8)-COLUMN($S$3)+1)),"",$S$1-(WEEKDAY($S$1,1)-(день_начала-1))-IF((WEEKDAY($S$1,1)-(день_начала-1))<=0,7,0)+(ROW(U8)-ROW($S$3))*7+(COLUMN(U8)-COLUMN($S$3)+1)) | V8: =IF(MONTH($S$1)<>MONTH($S$1-(WEEKDAY($S$1,1)-(день_начала-1))-IF((WEEKDAY($S$1,1)-(день_начала-1))<=0,7,0)+(ROW(V8)-ROW($S$3))*7+(COLUMN(V8)-COLUMN($S$3)+1)),"",$S$1-(WEEKDAY($S$1,1)-(день_начала-1))-IF((WEEKDAY($S$1,1)-(день_начала-1))<=0,7,0)+(ROW(V8)-ROW($S$3))*7+(COLUMN(V8)-COLUMN($S$3)+1)) | W8: =IF(MONTH($S$1)<>MONTH($S$1-(WEEKDAY($S$1,1)-(день_начала-1))-IF((WEEKDAY($S$1,1)-(день_начала-1))<=0,7,0)+(ROW(W8)-ROW($S$3))*7+(COLUMN(W8)-COLUMN($S$3)+1)),"",$S$1-(WEEKDAY($S$1,1)-(день_начала-1))-IF((WEEKDAY($S$1,1)-(день_начала-1))<=0,7,0)+(ROW(W8)-ROW($S$3))*7+(COLUMN(W8)-COLUMN($S$3)+1)) | X8: =IF(MONTH($S$1)<>MONTH($S$1-(WEEKDAY($S$1,1)-(день_начала-1))-IF((WEEKDAY($S$1,1)-(день_начала-1))<=0,7,0)+(ROW(X8)-ROW($S$3))*7+(COLUMN(X8)-COLUMN($S$3)+1)),"",$S$1-(WEEKDAY($S$1,1)-(день_начала-1))-IF((WEEKDAY($S$1,1)-(день_начала-1))<=0,7,0)+(ROW(X8)-ROW($S$3))*7+(COLUMN(X8)-COLUMN($S$3)+1)) | Y8: =IF(MONTH($S$1)<>MONTH($S$1-(WEEKDAY($S$1,1)-(день_начала-1))-IF((WEEKDAY($S$1,1)-(день_начала-1))<=0,7,0)+(ROW(Y8)-ROW($S$3))*7+(COLUMN(Y8)-COLUMN($S$3)+1)),"",$S$1-(WEEKDAY($S$1,1)-(день_начала-1))-IF((WEEKDAY($S$1,1)-(день_начала-1))<=0,7,0)+(ROW(Y8)-ROW($S$3))*7+(COLUMN(Y8)-COLUMN($S$3)+1))
A9: =A10 -> 45684 | C9: =C10 -> 45685 | E9: =E10 -> 45686 | G9: =G10 -> 45687 | I9: =I10 -> 45688 | K9: =K10 -> 45689 | S9: =S10 -> 45690
A10: =$A$1-(WEEKDAY($A$1,1)-(день_начала-1))-IF((WEEKDAY($A$1,1)-(день_начала-1))<=0,7,0)+1 -> 45684 | C10: =A10+1 -> 45685 | E10: =C10+1 -> 45686 | G10: =E10+1 -> 45687 | I10: =G10+1 -> 45688 | K10: =I10+1 -> 45689 | S10: =K10+1 -> 45690
A16: =S10+1 -> 45691 | C16: =A16+1 -> 45692 | E16: =C16+1 -> 45693 | G16: =E16+1 -> 45694 | I16: =G16+1 -> 45695 | K16: =I16+1 -> 45696 | S16: =K16+1 -> 45697
A22: =S16+1 -> 45698 | C22: =A22+1 -> 45699 | E22: =C22+1 -> 45700 | G22: =E22+1 -> 45701 | I22: =G22+1 -> 45702 | K22: =I22+1 -> 45703 | S22: =K22+1 -> 45704
A28: =S22+1 -> 45705 | C28: =A28+1 -> 45706 | E28: =C28+1 -> 45707 | G28: =E28+1 -> 45708 | I28: =G28+1 -> 45709 | K28: =I28+1 -> 45710 | S28: =K28+1 -> 45711
A34: =S28+1 -> 45712 | C34: =A34+1 -> 45713 | E34: =C34+1 -> 45714 | G34: =E34+1 -> 45715 | I34: =G34+1 -> 45716 | K34: =I34+1 -> 45717 | S34: =K34+1 -> 45718
A40: =S34+1 -> 45719 | C40: =A40+1 -> 45720 | E40: Примечания

Sheet 3
A1: =DATE(Настройка!D5,Настройка!D7+2,1) -> 45717 | K1: =DATE(YEAR(A1),MONTH(A1)-1,1) -> 45689 | S1: =DATE(YEAR(A1),MONTH(A1)+1,1) -> 45748
K2: =INDEX({"Вс";"Пн";"Вт";"Ср";"Чт";"Пт";"Сб"},1+MOD(день_начала+1-2,7)) -> Пн | L2: =INDEX({"Вс";"Пн";"Вт";"Ср";"Чт";"Пт";"Сб"},1+MOD(день_начала+2-2,7)) -> Вт | M2: =INDEX({"Вс";"Пн";"Вт";"Ср";"Чт";"Пт";"Сб"},1+MOD(день_начала+3-2,7)) -> Ср | N2: =INDEX({"Вс";"Пн";"Вт";"Ср";"Чт";"Пт";"Сб"},1+MOD(день_начала+4-2,7)) -> Чт | O2: =INDEX({"Вс";"Пн";"Вт";"Ср";"Чт";"Пт";"Сб"},1+MOD(день_начала+5-2,7)) -> Пт | P2: =INDEX({"Вс";"Пн";"Вт";"Ср";"Чт";"Пт";"Сб"},1+MOD(день_начала+6-2,7)) -> Сб | Q2: =INDEX({"Вс";"Пн";"Вт";"Ср";"Чт";"Пт";"Сб"},1+MOD(день_начала+7-2,7)) -> Вс | S2: =INDEX({"Вс";"Пн";"Вт";"Ср";"Чт";"Пт";"Сб"},1+MOD(день_начала+1-2,7)) -> Пн | T2: =INDEX({"Вс";"Пн";"Вт";"Ср";"Чт";"Пт";"Сб"},1+MOD(день_начала+2-2,7)) -> Вт | U2: =INDEX({"Вс";"Пн";"Вт";"Ср";"Чт";"Пт";"Сб"},1+MOD(день_начала+3-2,7)) -> Ср | V2: =INDEX({"Вс";"Пн";"Вт";"Ср";"Чт";"Пт";"Сб"},1+MOD(день_начала+4-2,7)) -> Чт | W2: =INDEX({"Вс";"Пн";"Вт";"Ср";"Чт";"Пт";"Сб"},1+MOD(день_начала+5-2,7)) -> Пт | X2: =INDEX({"Вс";"Пн";"Вт";"Ср";"Чт";"Пт";"Сб"},1+MOD(день_начала+6-2,7)) -> Сб | Y2: =INDEX({"Вс";"Пн";"Вт";"Ср";"Чт";"Пт";"Сб"},1+MOD(день_начала+7-2,7)) -> Вс
